BEGIN:VCALENDAR
VERSION:2.0
PRODID:-//ISA São Paulo Section - ECPv6.15.20//NONSGML v1.0//EN
CALSCALE:GREGORIAN
METHOD:PUBLISH
X-WR-CALNAME:ISA São Paulo Section
X-ORIGINAL-URL:https://isasp.org.br
X-WR-CALDESC:Eventos para ISA São Paulo Section
REFRESH-INTERVAL;VALUE=DURATION:PT1H
X-Robots-Tag:noindex
X-PUBLISHED-TTL:PT1H
BEGIN:VTIMEZONE
TZID:America/Sao_Paulo
BEGIN:STANDARD
TZOFFSETFROM:-0300
TZOFFSETTO:-0300
TZNAME:-03
DTSTART:20240101T000000
END:STANDARD
END:VTIMEZONE
BEGIN:VEVENT
DTSTART;TZID=America/Sao_Paulo:20250331T190000
DTEND;TZID=America/Sao_Paulo:20250411T220000
DTSTAMP:20260423T085958
CREATED:20250131T170026Z
LAST-MODIFIED:20250429T184305Z
UID:15014-1743447600-1744408800@isasp.org.br
SUMMARY:Treinamento: Especificação de Instrumentos (Virtual)
DESCRIPTION:Especificação de Instrumentos (Virtual)\n\n\n\n\n\n\n\n\nCarga horária: 30 horas (10 dias)\nDias: 31/03\, 01\, 02\, 03\, 04\, 07\, 08\, 09\, 10 e 11/04/2025\nHorário: das 19h às 22h\nLocal: Ambiente virtual\n\n\n\n\n\n\nInscreva-se!\n\n\n\n\n\n\n\n\n\nObjetivo:\n\n\n\n\n\nCapacitar profissionais da área na seleção\, especificação e inspeção de instrumentos de medição e controle de processos. O treinamento aborda os princípios de funcionamento\, arquitetura e critérios técnicos para escolha de instrumentos\, considerando aspectos como precisão\, confiabilidade\, compatibilidade e normatização. Além disso\, proporciona conhecimentos sobre condições operacionais\, montagem\, inspeção e requisitos para aquisição de instrumentos\, garantindo sua adequada aplicação em ambientes industriais\, com foco na otimização de desempenho\, segurança e conformidade com padrões técnicos. \n\n\n\n\n\nPúblico-Alvo:\n\n\n\n\n\nVoltado para profissionais e estudantes de automação e instrumentação industrial\, como técnicos\, tecnólogos\, engenheiros\, projetistas\, integradores de sistemas\, profissionais de manutenção e operação\, além de supervisores e gestores técnicos. O curso é ideal para quem trabalha com seleção\, especificação\, inspeção e aplicação de instrumentos de medição e controle em ambientes industriais\, visando otimizar desempenho\, segurança e conformidade com normas técnicas. \n\n\n\n\n\nPré-Requisitos:\n\n\n\n\n\nÉ recomendável que o participante tenha conhecimentos básicos de informática. Como pré-requisito\, sugerimos conhecimento básico em instrumentação industrial. \n\n\n\n\n\nRecursos Necessários:\n\n\n\n\n\nAs aulas são realizadas através do Microsoft Teams\, e para participar é necessário um dispositivo compatível\, como um computador (Windows ou Mac)\, smartphone ou tablet (Android ou iOS). O acesso pode ser feito pelo aplicativo Microsoft Teams\, que é recomendado para melhor experiência\, ou diretamente pelo navegador\, como Edge e Chrome. \nAlém disso\, uma conexão estável com a internet\, seja via Wi-Fi ou dados móveis\, é essencial para garantir que não haja interrupções. Também é importante contar com um microfone e alto-falantes embutidos no dispositivo ou fones de ouvido para melhor qualidade de áudio. O uso de uma câmera é opcional. Caso esteja acessando pelo navegador\, é necessário conceder permissões para o uso do microfone e da câmera. Além disso\, em ambientes corporativos\, pode ser necessário verificar permissões de firewall ou proxy para garantir o funcionamento adequado do Teams. \n\n\n\n\n\nMaterial Didático:\n\n\n\n\n\nO participante receberá uma cópia digital do material apresentado pelo instrutor durante o treinamento. \n\n\n\n\n\nCertificado:\n\n\n\n\n\nO participante receberá o certificado de participação no treinamento em formato PDF por e-mail. \n\n\n\n\n\nConteúdo Programático:\n\n\n\n\n\n1 – Sistemas de InstrumentaçãoArquitetura e filosofia dos instrumentos: de campo ou de painel\, fixo ou portátil\, mecânico ou elétrico\, pneumático ou eletrônico\, digital ou analógico\, modular ou integral\, burro ou inteligente\, dedicado ou compartilhado\, centralizado ou distribuído. \n2 – Seleção do InstrumentoParâmetros de seleção: aplicação\, custo\, compatibilidade\, conformidade\, padronização\, manutenção\, segurança\, integridade\, dependabilidade (confiabilidade\, disponibilidade\, expectativa de vida\, durabilidade\, falibilidade\, taxa de falha). \n3 – Condições de Operação e ArmazenamentoCondições de referência e normais de operação. Limites extremos de operação\, armazenamento e transporte. Operabilidade\, ergonomia e psicologia. \n4 – Especificações Metrológicas do InstrumentoExatidão e precisão. Parâmetros da precisão: repetitividade\, reprodutibilidade\, linearidade\, histerese\, banda morta\, resolução\, sensibilidade. Paralaxe do display analógico e quantização do display digital. \n5 – Especificações Funcionais do InstrumentoTipos de entradas e saídas de instrumentos. Características dinâmicas e estáticas. Função e funcionalidade do instrumento. Capacidade\, flexibilidade\, configurabilidade\, compatibilidade\, intercambiabilidade\, interoperabilidade\, adaptabilidade\, portabilidade\, acessibilidade\, robustez e resistência. \n6 – Especificações Físicas do InstrumentoMateriais. Montagem. Invólucro. Massa. Dimensões. Especificações Extras e Opcionais do Instrumento: acessórios e auxiliares. Aplicações especiais. \n7 – ISA 20 e TR 20.00.01 (2004) – Formulários de EspecificaçãoInstrumentos de Medição e Controle de Processo: Pressão\, Temperatura\, Vazão e Nível. Pedido de compra: Dados do processo (data sheet). Especificação do instrumento para fabricação. Recebimento do instrumento fabricado. Inspeção do Instrumento: Recebimento do instrumento. Chek list. Desembalagem. Folha de fabricação. \n\n\n\n\n\nInstrutor:\n\n\n\n\n\n\n\n\n\n\n\n\n\n\nMarco Antonio Ribeiro – Engenheiro Eletrônico formado pelo Instituto Tecnológico de Aeronáutica (ITA). Gerente regional da Foxboro na região Norte-Nordeste do Brasil\, 1973-1987. Professor de Matemática no Instituto de Matemática da UFBA e de Eletrônica na Escola Politécnica da UFBA. Professor de Instrumentação e Teoria de Controle no Centro de Educação Tecnologia da Bahia (1975 a 1989). Desde 1987\, diretor e sócio da Tek Treinamento e Consultoria\, T&C Treinamento e Consultoria Ltda e Marcotek ME\, firmas orientadas para cursos técnicos e consultorias nas áreas de medição\, vazão\, metrologia\, incerteza na medição\, classificação de áreas e qualidade. Possui dezenas de artigos de congresso do IBP e ISA e dezenas de apostilas editadas pela Petrobras\, que estão sendo editadas como livros. Já fez vários cursos na área de instrumentação e controle nos EUA (Foxboro e Houston) e na Argentina e já ministrou mais de 1000 cursos de Instrumentação\, Controle\, Automação e Metrologia no Brasil\, em Houston (TX\, EUA) e Luanda (Angola). \n\n\n\n\n\n\n\n\nInvestimento:\n\n\n\n\n\nPara informações sobre os valores do treinamento\, clique no botão “inscreva-se” e preencha o formulário ou consulte-nos diretamente através do e-mail isasp@isasp.org.br. \nMembro da ISA tem desconto para participar de nossos treinamentos. Entre em contato conosco através do e-mail isasp@isasp.org.br para mais informações. \n\n\n\n\n\nObservações:\n\n\n\n\n\n\nPara obter o desconto de Membro da ISA\, saiba como se filiar antes de se inscrever: https://isasp.org.br/como-me-tornar-um-membro-da-isa/\nAs vagas são limitadas para propiciar uma maior interação entre os participantes e o instrutor.\nAs aulas serão gravadas e disponibilizadas aos participantes durante o período de realização do treinamento. Ao se inscrever o participante concorda com a divulgação de sua imagem e voz aos demais participantes do treinamento e ao instrutor (se aplicável).\nPara realizar a sua inscrição no treinamento\, clique no botão abaixo.\n\n\n\n\n\n\n\n\nInscreva-se!\n\n\n\n\n\n\n\nPolítica de Cancelamento:\n\n\n\n\n\nA ISA São Paulo Section reserva-se o direito de cancelar ou prorrogar a realização do treinamento caso não seja atingido o número mínimo necessário de inscritos. Havendo o cancelamento\, caso o participante opte por não participar de uma nova turma\, o valor pago será integralmente restituído. \nO inscrito\, mediante comunicação expressa e escrita\, poderá solicitar o cancelamento de sua inscrição\, a qualquer tempo\, até o início do treinamento. Para a cobrança ou restituição do valor pago\, serão respeitadas as regras abaixo: \n\nSolicitação de cancelamento em até 5 (cinco) dias úteis do início do treinamento: não haverá cobrança do valor integral da inscrição ou haverá restituição integral do valor pago.\nSolicitação de cancelamento em menos de 5 (cinco) dias úteis do início do treinamento: haverá cobrança de 50% do valor integral da inscrição ou restituição de 50% do valor pago.\nEm ambos os casos acima\, do valor a pagar ou a restituir serão descontados os valores referentes aos impostos devidos recolhidos\, se aplicável.\nA ausência do inscrito\, sem aviso prévio\, constitui cancelamento e\, neste caso\, haverá a cobrança do valor integral da inscrição ou não haverá restituição do valor pago. \n \n\n\n\n\n\n\n\nRealização \n\n\n\n\n\n\n\n\n\n\n\n\n\n\n\n\n\n\n\n\n\n\n\n\n\n\n\n\n\n\n\n\n\nEvento Anterior: \n\n\n\n\n\nPróximo Evento:
URL:https://isasp.org.br/evento/treinamento-especificacao-de-instrumentos-25/
LOCATION:Local: Online\, Ambiente Virtual
CATEGORIES:Treinamento
ATTACH;FMTTYPE=image/png:https://isasp.org.br/wp-content/uploads/2020/01/Training.png
END:VEVENT
BEGIN:VEVENT
DTSTART;TZID=America/Sao_Paulo:20250423T090000
DTEND;TZID=America/Sao_Paulo:20250425T170000
DTSTAMP:20260423T085958
CREATED:20240404T183508Z
LAST-MODIFIED:20251104T175531Z
UID:13063-1745398800-1745600400@isasp.org.br
SUMMARY:Treinamento: IC33V - Assessing the Cybersecurity of New or Existing IACS Systems (Virtual)
DESCRIPTION:Realização:  \n\n\n\nDias: 23 a 25/04/2025 \n\n\n\nHorário: das 9h às 17h – horário de Brasília \n\n\n\n\n\n\n\n\n\nLocal:  \n\n\n\nAmbiente virtual  \n\n\n\n(curso online e ao vivo com instrutor brasileiro) \n\n\n\n\n\n\n\n\n\n\n\n\n\n\nInscreva-se!\n\n\n\n\n\n\n\n\n\n\n\n\n\n\n\n\n\nEste curso\, ministrado em português por instrutor brasileiro\, certificado pela ISA e com o certificado ISA/IEC 62443 – Cybersecurity Expert\, fornecerá aos alunos informações e habilidades para avaliar a segurança cibernética de um sistema de automação e controle industrial (IACS) novo ou existente; e desenvolver uma especificação de requisitos de segurança cibernética (CRS) que possa ser usada para documentar os requisitos de segurança cibernética do projeto. \nO IC33 concentra-se na primeira fase do ciclo de vida de cibersegurança do IACS\, conforme definido na norma ISA/IEC 62443-1-1. Os alunos aprenderão a identificar e documentar ativos IACS e a realizar uma avaliação de vulnerabilidade e risco de segurança cibernética para identificar e compreender as vulnerabilidades de alto risco que requerem mitigação. De acordo com a ISA/IEC 62443-2-1\, essas avaliações precisam ser realizadas em aplicações novas (ou seja\, greenfield) e existentes (ou seja\, brownfield). Parte do processo de avaliação envolve o desenvolvimento de um modelo de zona e conduíte do sistema\, a identificação de alvos de nível de segurança e a documentação dos requisitos de segurança cibernética em um CRS. \nExame de certificação: este é o segundo curso do Programa de Certificação de Segurança Cibernética ISA/IEC 62443. Passe no exame para obter o certificado ISA/IEC 62443 Cybersecurity Risk Assessment Specialist. A inscrição no curso inclui uma taxa para o exame. \n\n\n\n\n\n\n\n\n\n\n\n\n\n\n\nPré-requisitos:\n\n\n\n\n\nA conclusão bem-sucedida do curso IC32V e a aprovação no exame de certificação ISA/IEC 62443 Cybersecurity Fundamentals Specialist são pré-requisitos obrigatórios para este curso. \n\n\n\n\n\n\n\n\n\n\n\n\n\nQuem deve fazer o IC33V? \n\n\n\n\n\n\n\n\n\n\n\n\n\nEngenheiros e gerentes de sistemas de controle\nIntegradores de sistemas\nEngenheiros e gerentes de TI em instalações industriais\nGerentes de fábrica\nSegurança da planta e gerenciamento de riscos\n\n\n\n\n\n\n\n\n\n\n\n\n\n\n\n\n\n\n\n\n\nObjetivos: \n\n\n\n\n\n\nIdentificar e documentar o âmbito do SIGC em avaliação\nEspecificar reunir ou gerir as informações de segurança cibernética necessárias para realizar a avaliação\nIdentificar ou descobrir vulnerabilidades de segurança cibernética inerentes aos produtos IACS ou ao design do sistema\nInterpretar os resultados de uma Análise de Perigos de Processo (PHA)\nOrganizar e facilitar uma avaliação de riscos de segurança cibernética para um SIGC\nIdentificar e avaliar cenários de ameaças realistas\nIdentificar e avaliar a eficácia das contramedidas existentes\nIdentificar lacunas nas políticas\, procedimentos e padrões existentes\nAvaliar o custo\, a complexidade e a eficácia de novas contramedidas para fazer recomendações significativas\nEstabelecer e documentar zonas e condutas de segurança\nDesenvolver uma Especificação de Requisitos de Segurança Cibernética (CRS)\n\n\n\n\n\n\n\n\n\n\n\n\n\n\nAssuntos abordados:\n\n\n\n\n\n\n\nPreparando-se para uma avaliação\n\n\n\n\n\n\n\n\n\n\n\n\n\nCiclo de vida de segurança\nEscopo\nDiagramas de arquitetura do sistema\nDiagramas de rede\nInventário de ativos\nAvaliação da criticidade cibernética\n\n\n\n\n\n\n\n\n\n\n\n\n\nAvaliação de vulnerabilidade de segurança cibernética \n\n\n\n\n\n\n\nRisco\nTipos de avaliações de vulnerabilidade de segurança cibernética\nAvaliações de alto nível\nAvaliações passivas e ativas\nTeste de penetração\nConduzindo avaliações de alto nível\nFerramentas de avaliação\nFerramenta de avaliação de segurança cibernética (CSET)\n\n\n\n\n\n\n\nConduzindo avaliações de vulnerabilidade \n\n\n\n\n\n\n\n\n\n\n\n\n\n\n\n\n\n\nProcesso de vulnerabilidade\nPré-avaliação\nPadrões\nPesquisar\nDê o pontapé inicial e caminhe\nColeta passiva de dados\nColeta de dados ativa\nTeste de penetração\n\n\n\n\n\n\n\n\n\n\n\n\n\n\n\n\n\n\n\n\nAvaliações de risco cibernético \n\nCompreendendo o risco\nIdentificação\, classificação e avaliação de riscos ISA/IEC 62443-2-1\nSistema em consideração (SuC)\nRealizar avaliação de risco de alto nível\nEscala de consequências\nEstabeleça zonas e condutas\nDesenhos e documentação de zonas e conduítes\nDocumente os requisitos de segurança cibernética\n\n\n\n\n\n\n\n\n\n\n\n\n\n\n\n\n\n\n\n\n\n\nRealização de avaliações de risco cibernético \n\nProcesso detalhado de avaliação de riscos cibernéticos\nAmeaças\nVulnerabilidades\nConsequências\nProbabilidade\nCalcular risco\nNíveis de segurança\nContramedidas\nRisco residual\nDocumentação\n\n\n\n\n\n\n\n\n\n\n\n\n\n\n\n\n\n\n\n\n\n\nCriticando Diagramas de Arquitetura de Sistema \n\nInventário de ativos\nAvaliação de lacunas\nAvaliação de vulnerabilidade do Windows\nCapturando tráfego Ethernet\nVarredura de porta\nUsando ferramentas de verificação de vulnerabilidades\nRealize uma avaliação de risco de alto nível\nCriando um diagrama de zona e conduíte\nRealize uma avaliação detalhada de risco cibernético\nCriticando uma especificação de requisitos de segurança cibernética\n\n\n\n\n\n\n\n\n\n\n\n\n\n\n\n\n\n\n\n\n\n\nDocumentação e Relatórios \n\nDocumento para manter\nRelatórios obrigatórios\nDiagramas de zona e conduíte\nEspecificação de requisitos de segurança cibernética (CRS)\n\n\n\n\n\n\n\n\n\n\n\n\n\n\n\n\n\n\n\n\n\n\n\n\n \n\n\n\n\n\n\n\n\n\n\n\n\n \n\n\n\n\n\n\n\n\n\n\n\n\n \n\n\n\n\n\n\n\n\n\n\n\n\n\n\n\nExercícios de Laboratório:\n\n\n\n\n\n\nComandos básicos para informações do computador\nAtivos de software\nAvaliação de risco de alto nível usando CSET\nIntrodução ao Wireshark\nVerificação de vulnerabilidades\nTeste de penetração\n\n\n\n\n\n\n\n\n\n\n\n\n\n\nRecursos inclusos:\n\n\n\n\n\n\n\n\nO participante receberá cópias em sala de aula das seguintes normas para usar durante todo o curso: \n\n\n\n\n\n\n\nISA-62443-1-1-2007\, Security for Industrial Automation and Control Systems\, Part 1-1: Terminology\, Concepts\, and Models\nISA-62443-2-1 (99.02.01)-2009\, Security for Industrial Automation and Control Systems\, Part 2-1: Establishing an Industrial Automation and Control Systems Security Program\nANSI/ISA-62443-3‑2-2020\, Security for industrial automation and control systems\, Part 3‑2: Security risk assessment for system design\nANSI/ISA-62443-3-3 (99.03.03)-2013\, ANSI/ISA-62443-3-3 (99.03.03)-2013 Security for industrial automation and control systems\, Part 3-3: System security requirements and security levels\n\n\n\n\n\n\n\n\n\n\n\n\n\n\n\n\n\nLeitura recomendada:\n\n\n\n\n\nCybersecurity Library \n\n\n\n\n\n\n\n\n\n\n\n\n\nNão tem certeza se este curso específico é para você? Faça uma teste de conhecimento do IC33 projetado para avaliar seu nível de compreensão do material do curso e mostrar os tipos de perguntas que você poderá responder após concluir o curso. \n\n\n\n\n\n\n\n\n\n\n\n\n\nInvestimento:\n\n\n\n\n\n\nPreço listaPreço membro ISAUS$ 2.680US$ 2.150\n\n\n\n\n\n\nEstá incluso no valor acima um voucher para o exame de certificação após a conclusão bem-sucedida do curso\, que será ministrado por meio da Meazure Learning\, empresa parceira da ISA Internacional. \nA inscrição será realizada com o apoio da ISA São Paulo Section e pode ser paga por transferência bancária ou boleto (à vista) ou com cartão de crédito (parcelado em até 6 vezes). \nPara se inscrever\, basta clicar no botão disponível na página do curso. O pagamento é necessário para validar a inscrição e o envio dos dados à ISA Internacional. \nOs valores serão convertidos em reais com base na cotação do dólar americano do dia de envio do formulário de inscrição (ou do dia útil subsequente) e já incluirão os impostos. \nValor para brasileiros se tornarem membros da ISA: US$ 79 (www.isa.org/membership). \nA ISA São Paulo Section emitirá nota fiscal eletrônica no primeiro dia do curso.  \n\n\n\n\n\n\n\n\n\n\n\n\n\nImportante:\n\n\n\n\n\n\n\n\n\n\nO curso será realizado em português\, com instrutor brasileiro\, certificado pela ISA e com o certificado ISA/IEC 62443 – Cybersecurity Expert. Os materiais disponibilizados no curso\, bem como o exame de certificação serão em inglês. \nA turma terá capacidade máxima de 16 alunos\, a fim de não comprometer o desempenho do curso. \nO curso será confirmado até 15 dias antes do início e poderá ter sua realização cancelada a critério da ISA Internacional. Os alunos inscritos serão informados por e-mail. \n\n\n\n\n\n\n\n\n\n\n\n\n\n\n\n\n\n\nInstrutor Certificado pela ISA:\n\n\n\n\n\n\n\n\n\n\n\n\n\n\nErik Maran \nDiretor Comercial na WESTCON Redes e Conectividade. Formado em Engenharia Elétrica e com MBA Executivo\, tem mais de 20 anos de experiência em sistema de automação\, redes industriais\, conectividade\, IIoT e cibersegurança industrial. É instrutor oficial da ISA para norma de cibersegurança ISA/IEC62443 e Diretor de Cibersegurança da ISA São Paulo Section. \n\n\n\n\n\n\n\n\n\n\n\n\n\n\n\n\n\n\n\n\nPolítica de Cancelamento:\n\n\n\n\n\n\n\nO participante inscrito tem o direito de cancelar sua inscrição no curso a qualquer momento antes do seu início. Para isso\, o participante deverá enviar um e-mail para isasp@isasp.org.br solicitando formalmente o cancelamento. \nO cancelamento feito dentro de um prazo especificado antes do início do curso pode qualificar o aluno para um reembolso completo ou parcial\, conforme abaixo: \n\nCancelamento feito até um dia útil anterior ao início do curso: reembolso total ou parcial\, sujeito a uma taxa administrativa de 17% (*).\nCancelamento feito após o início do curso: nenhum reembolso será concedido.\n\n\n\n\n\n(*) Caso a nota fiscal já tenha sido emitida e os respectivos impostos recolhidos\, haverá o desconto do valor já recolhido para a devolução ao participante. \n\n\n\n\nUma vez aprovado o cancelamento e o reembolso\, o valor pago será devolvido ao aluno no método original de pagamento\, dentro de 5 dias úteis. \nO participante será notificado por e-mail sobre o status do reembolso e o prazo estimado para o recebimento do valor pago. \nExceções: circunstâncias excepcionais\, como doença grave ou emergências familiares\, podem ser consideradas para um reembolso fora dos prazos estabelecidos. O participante deverá fornecer documentação comprovativa para consideração. O participante pode ter a opção de transferir sua inscrição para um curso ou turma futura\, sujeito à disponibilidade e confirmação de valor de inscrição\, podendo ser necessária a complementação do valor já pago. \nNo caso de cancelamento do curso por parte da ISA\, o participante será reembolsado integralmente ou poderá optar por transferir sua inscrição para outra turma do mesmo curso. \nEsta política de cancelamento e reembolso foi projetada para garantir uma experiência transparente e justa para o participante. A ISA São Paulo Section se reserva o direito de atualizar ou modificar esta política conforme necessário\, com aviso prévio ao participante inscrito.
URL:https://isasp.org.br/evento/treinamento-ic33v-abr-25/
LOCATION:Local: Online\, Ambiente Virtual
CATEGORIES:Treinamento
ATTACH;FMTTYPE=image/png:https://isasp.org.br/wp-content/uploads/2024/03/cyberdestaque.png
END:VEVENT
END:VCALENDAR