BEGIN:VCALENDAR
VERSION:2.0
PRODID:-//ISA São Paulo Section - ECPv6.15.20//NONSGML v1.0//EN
CALSCALE:GREGORIAN
METHOD:PUBLISH
X-WR-CALNAME:ISA São Paulo Section
X-ORIGINAL-URL:https://isasp.org.br
X-WR-CALDESC:Eventos para ISA São Paulo Section
REFRESH-INTERVAL;VALUE=DURATION:PT1H
X-Robots-Tag:noindex
X-PUBLISHED-TTL:PT1H
BEGIN:VTIMEZONE
TZID:America/Sao_Paulo
BEGIN:STANDARD
TZOFFSETFROM:-0300
TZOFFSETTO:-0300
TZNAME:-03
DTSTART:20240101T000000
END:STANDARD
END:VTIMEZONE
BEGIN:VEVENT
DTSTART;TZID=America/Sao_Paulo:20251208T190000
DTEND;TZID=America/Sao_Paulo:20251217T220000
DTSTAMP:20260421T213024
CREATED:20250203T155535Z
LAST-MODIFIED:20250416T144814Z
UID:15076-1765220400-1766008800@isasp.org.br
SUMMARY:Treinamento: Válvulas de Segurança e Alívio (Virtual)
DESCRIPTION:Válvulas de Segurança e Alívio (Virtual)\n\n\n\n\n\n\n\n\nCarga horária: 24 horas (8 dias)\nDias: 08\, 09\, 10\, 11\, 12\, 15\, 16 e 17/12/2025\nHorário: das 19h às 22h\nLocal: Ambiente virtual\n\n\n\n\n\n\nInscreva-se!\n\n\n\n\n\n\n\n\n\nObjetivo:\n\n\n\n\n\nProporcionar conhecimentos teóricos sobre as válvulas de segurança e/ou alívio mais utilizadas nas plantas industriais\, petroquímicas\, papel e celulose\, siderúrgicas\, álcool e açúcar e químicas em geral. \n\n\n\n\n\nPúblico-Alvo:\n\n\n\n\n\nEste treinamento é destinado a engenheiros\, técnicos\, inspetores e estudantes universitários\, além de profissionais que\, dentro de uma indústria\, estão envolvidos direta ou indiretamente com válvulas\, especificando\, inspecionando\, comprando\, instalando\, operando\, projetando uma instalação ou mesmo fazendo manutenção. \n\n\n\n\n\nPré-Requisitos:\n\n\n\n\n\nÉ recomendável que o participante tenha conhecimentos básicos de informática. \n\n\n\n\n\nRecursos Necessários:\n\n\n\n\n\nAs aulas são realizadas através do Microsoft Teams\, e para participar é necessário um dispositivo compatível\, como um computador (Windows ou Mac)\, smartphone ou tablet (Android ou iOS). O acesso pode ser feito pelo aplicativo Microsoft Teams\, que é recomendado para melhor experiência\, ou diretamente pelo navegador\, como Edge e Chrome. \nAlém disso\, uma conexão estável com a internet\, seja via Wi-Fi ou dados móveis\, é essencial para garantir que não haja interrupções. Também é importante contar com um microfone e alto-falantes embutidos no dispositivo ou fones de ouvido para melhor qualidade de áudio. O uso de uma câmera é opcional. Caso esteja acessando pelo navegador\, é necessário conceder permissões para o uso do microfone e da câmera. Além disso\, em ambientes corporativos\, pode ser necessário verificar permissões de firewall ou proxy para garantir o funcionamento adequado do Teams. \n\n\n\n\n\nMaterial Didático:\n\n\n\n\n\nO participante receberá uma cópia digital do material preparado pelo instrutor\, em formato PDF. \n\n\n\n\n\nCertificado:\n\n\n\n\n\nO participante receberá o certificado de participação no treinamento em formato PDF por e-mail. \n\n\n\n\n\nConteúdo Programático:\n\n\n\n\n\n1) Introdução às Válvulas de Segurança e/ou Alívio– Tipos de válvulas: Válvulas para Caldeiras\, Vasos de Pressão e Tubulações (convencionais e balanceadas)\, alívio térmico\, quebra-vácuo e piloto operadas (para vasos de pressão)– Causas do Aumento de Pressão– Características Construtivas– Componentes Internos e suas funções (bocal\, disco\, fole\, aneis de ajuste\, suporte do disco\, guia\, haste\, parafuso de ajuste e mola)– Aspectos normativos de construção (ASME I\, ASME VIII e API)– Histórico do código ASME– Histórico das válvulas de segurança– Princípios de operação (funcionamento)– Classes de pressão– Limites de aplicações (pressão e temperatura)– Sede Metálica e Sede Resilente– Materiais de construção para corpo\, castelo e componentes internos– Contrapressão Superimposta (Constante e Variável); Contrapressão Desenvolvida– Tipos de castelos\, alavanca e capuz (aberto\, fechado e suas aplicações) \n2) Principais Terminologias– PMTA – Pressão de Projeto – Acumulação – Sobrepressão– Pressão de Alívio – Pressão de Ajuste – Pressão de operação– Diferencial de Alívio para caldeiras e vasos de pressão \n3) Inspeção (Testes e Ajustes)– Procedimentos conforme API Std. 527 e API RP 576– Exigências da NR13 (prazos de inspeção para caldeiras\, vasos e tubulações)– Inspeção de Componentes– Teste de Pressão Diferencial a Frio– Teste de Recepção e da Pressão de Ajuste (compensação pela contrapressão e temperatura)– Testes (Real e On-Line) em operação– Testes de vazamentos na bancada e em operação (tolerâncias permitidas)– Testes de Contrapressão– Ajuste de aneis para válvulas de caldeiras e vasos de pressão– Regras para escalonamento da pressão de abertura para caldeiras (Balão de Vapor e Superaquecedor)– Regras para escalonamento da pressão de abertura para vasos (Válvula Única e Múltiplas Válvulas)– Faixa de ajuste da mola– Tolerâncias da pressão de abertura para Caldeiras e Vasos de Pressão \n4) Dimensionamento de Válvulas de Segurança e Alívio– Equações de Dimensionamento da área do bocal conforme API e ASME– Informações necessárias do fluido (vapor saturado\, vapor superaquecido\, água\, óleo\, gases)– Capacidade de Vazão (requerida\, máxima e certificada)– Unidades de Vazão Aplicadas– Coeficientes de Descarga (Kd x K)– Certificação da capacidade de vazão– Fatores de Correção (Ksh; Kw; Kb; Kv; Kn; Kp; Kc)– Cálculos para caldeiras e vasos de pressão– Normalização e Padronização da vazão para ar comprimido e outros gases– Condições de Escoamento Crítico e Subcrítico– Cálculos para líquidos (Água e Óleos) \n5) Instalação– Instalação em Caldeiras\, Vasos de Pressão e Tubulações– Boas práticas recomendadas para as tubulações de entrada e de saída– Limites de queda de pressão na entrada e saída de válvulas em caldeiras e vasos de pressão– Instalação em vasos protegidos com válvula única e com múltiplas válvulas– Instalação em conjunto com disco de ruptura e com válvulas redutoras de pressão– Válvula de Bloqueio a Montante e/ou a Jusante da Válvula de Segurança– Fenômenos operacionais (Chattering\, Simmering e Flutting) – Causas e Soluções– Cuidados necessários no armazenamento\, transporte e instalação– Acidentes envolvendo caldeiras e vasos de pressão \n\n\n\n\n\nInstrutor:\n\n\n\n\n\n\n\n\n\n\n\n\n\n\nArtur Cardozo Mathias – Técnico Mecânico Industrial\, Técnico Químico e Consultor\, atuando desde 1985 na área de manutenção\, inspeção\, especificação e dimensionamento de válvulas. Na indústria de celulose & papel\, é responsável por setor de válvulas industriais e válvulas de segurança e/ou alívio\, além de ter participado da implantação\, manutenção e certificação da ISO 9001\, ISO 14001 e OHSAS 18001 na parte de NR 13. Elaborou treinamento e-learning sobre válvulas industriais e válvulas de segurança e alívio para operadores de processo. Ministrou palestra sobre válvulas de segurança na 8ª semana de tecnologia da FATEC em 10/2006\, ETEC’s\, USP\, UBC e UCL\, além de ministrar cursos de válvulas na ISQI em São José dos Campos e em escolas técnicas para alunos de projetos de tubulações. Ministrou o curso técnico sobre Válvulas Industriais e Válvulas de Segurança e/ou Alívio na 2ª Expoválvulas em São Paulo. Ministrou palestra sobre válvulas de segurança no 6º Encontro GSETI em Sertãozinho – SP. Ministrou o curso técnico sobre Válvulas de Segurança e/ou Alívio na ABIMAQ em São Paulo. Autor do mais completo livro sobre válvulas da América Latina publicado pela ARTLIBER EDITORA (Válvulas: Industriais\, Segurança e Controle). É membro da ISA e autor também de diversos artigos técnicos sobre válvulas industriais e válvulas de segurança e alívio\, em revistas especializadas e na internet. \n\n\n\n\n\n\n\n\nInvestimento:\n\n\n\n\n\nPara informações sobre os valores do treinamento\, clique no botão “inscreva-se” e preencha o formulário ou consulte-nos diretamente através do e-mail isasp@isasp.org.br. \nMembro da ISA tem desconto para participar de nossos treinamentos. Entre em contato conosco através do e-mail isasp@isasp.org.br para mais informações. \n\n\n\n\n\nObservações:\n\n\n\n\n\n\nPara obter o desconto de Membro da ISA\, saiba como se filiar antes de se inscrever: https://isasp.org.br/como-me-tornar-um-membro-da-isa/\nAs vagas são limitadas para propiciar uma maior interação entre os participantes e o instrutor.\nAs aulas serão gravadas e disponibilizadas aos participantes durante o período de realização do treinamento. Ao se inscrever o participante concorda com a divulgação de sua imagem e voz aos demais participantes do treinamento e ao instrutor (se aplicável).\nPara realizar a sua inscrição no treinamento\, clique no botão abaixo.\n\n\n\n\n\n\n\n\nInscreva-se!\n\n\n\n\n\n\n\nPolítica de Cancelamento:\n\n\n\n\n\nA ISA São Paulo Section reserva-se o direito de cancelar ou prorrogar a realização do treinamento caso não seja atingido o número mínimo necessário de inscritos. Havendo o cancelamento\, caso o participante opte por não participar de uma nova turma\, o valor pago será integralmente restituído. \nO inscrito\, mediante comunicação expressa e escrita\, poderá solicitar o cancelamento de sua inscrição\, a qualquer tempo\, até o início do treinamento. Para a cobrança ou restituição do valor pago\, serão respeitadas as regras abaixo: \n\nSolicitação de cancelamento em até 5 (cinco) dias úteis do início do treinamento: não haverá cobrança do valor integral da inscrição ou haverá restituição integral do valor pago.\nSolicitação de cancelamento em menos de 5 (cinco) dias úteis do início do treinamento: haverá cobrança de 50% do valor integral da inscrição ou restituição de 50% do valor pago.\nEm ambos os casos acima\, do valor a pagar ou a restituir serão descontados os valores referentes aos impostos devidos recolhidos\, se aplicável.\nA ausência do inscrito\, sem aviso prévio\, constitui cancelamento e\, neste caso\, haverá a cobrança do valor integral da inscrição ou não haverá restituição do valor pago. \n \n\n\n\n\n\n\n\nRealização \n\n\n\n\n\n\n\n\n\n\n\n\n\n\n\n\n\n\n\n\n\n\n\n\n\n\n\n\n\n\n\n\n\nEvento Anterior: \n\n\n\n\n\nPróximo Evento:
URL:https://isasp.org.br/evento/treinamento-valvulas-de-seguranca-2-25/
LOCATION:Local: Online\, Ambiente Virtual
CATEGORIES:Treinamento
ATTACH;FMTTYPE=image/png:https://isasp.org.br/wp-content/uploads/2020/01/Training.png
END:VEVENT
END:VCALENDAR