BEGIN:VCALENDAR
VERSION:2.0
PRODID:-//ISA São Paulo Section - ECPv6.15.20//NONSGML v1.0//EN
CALSCALE:GREGORIAN
METHOD:PUBLISH
X-ORIGINAL-URL:https://isasp.org.br
X-WR-CALDESC:Eventos para ISA São Paulo Section
REFRESH-INTERVAL;VALUE=DURATION:PT1H
X-Robots-Tag:noindex
X-PUBLISHED-TTL:PT1H
BEGIN:VTIMEZONE
TZID:America/Sao_Paulo
BEGIN:STANDARD
TZOFFSETFROM:-0300
TZOFFSETTO:-0300
TZNAME:-03
DTSTART:20240101T000000
END:STANDARD
END:VTIMEZONE
BEGIN:VEVENT
DTSTART;TZID=America/Sao_Paulo:20251124T190000
DTEND;TZID=America/Sao_Paulo:20251128T220000
DTSTAMP:20260421T231237
CREATED:20250203T152253Z
LAST-MODIFIED:20251027T193339Z
UID:15053-1764010800-1764367200@isasp.org.br
SUMMARY:Treinamento: Introdução e Conceitos de Segurança Cibernética em Ambientes OT (Virtual)
DESCRIPTION:Carga horária: 15 horas (5 dias)\nDias: 24\, 25\, 26\, 27 e 28/11/2025 \nHorário: das 19h às 22h\nLocal: Ambiente virtual\n\n\n\n\n\n\nInscreva-se!\n\n\n\n\n\n\n\n\n\nObjetivo:\n\n\n\n\n\nEste treinamento visa ajudar os profissionais de automação industrial a compreender os riscos que suas organizações enfrentam em relação a ataques cibernéticos. Aprenderão como mitigar incidentes de segurança cibernética e quais são as recomendações e boas práticas para minimizar esses riscos. \n\n\n\n\n\nPúblico-Alvo:\n\n\n\n\n\nDestinado a todo profissional interessado no assunto. \n\n\n\n\n\nPré-Requisitos:\n\n\n\n\n\nPara melhor aproveitamento das informações transmitidas durante o treinamento\, recomenda-se que o participante tenha conhecimentos básicos a respeito de automação e de TI em ambiente industrial. \n\n\n\n\n\nRecursos Necessários:\n\n\n\n\n\nAs aulas são realizadas através do Microsoft Teams\, e para participar é necessário um dispositivo compatível\, como um computador (Windows ou Mac)\, smartphone ou tablet (Android ou iOS). O acesso pode ser feito pelo aplicativo Microsoft Teams\, que é recomendado para melhor experiência\, ou diretamente pelo navegador\, como Edge e Chrome. \nAlém disso\, uma conexão estável com a internet\, seja via Wi-Fi ou dados móveis\, é essencial para garantir que não haja interrupções. Também é importante contar com um microfone e alto-falantes embutidos no dispositivo ou fones de ouvido para melhor qualidade de áudio. O uso de uma câmera é opcional. Caso esteja acessando pelo navegador\, é necessário conceder permissões para o uso do microfone e da câmera. Além disso\, em ambientes corporativos\, pode ser necessário verificar permissões de firewall ou proxy para garantir o funcionamento adequado do Teams. \n\n\n\n\n\nMaterial Didático:\n\n\n\n\n\nO participante receberá uma cópia digital do material apresentado pelo instrutor durante o treinamento. \n\n\n\n\n\nCertificado:\n\n\n\n\n\nO participante receberá o certificado de participação no treinamento em formato PDF por e-mail. \n\n\n\n\n\nConteúdo Programático:\n\n\n\n\n\n1 – IntroduçãoHistórico de ameaças e ataques em ambientes OTRiscos relacionados segurança cibernética que as áreas de OT e TI Industrial enfrentamDiferenças e semelhanças entre segurança cibernética em ambientes administrativos e OTConceitos e mitos a serem repensados referentes às vulnerabilidades em redes OTExemplos práticos de ataque em redes OTIntrodução às boas práticas e recomendações para proteção em redes OT \n2 – Introdução às Normas e seus conceitosPrincipais normas aplicáveis no setor industrialConceitos básicos à norma ISA / IEC62443Orientação adicional e boas práticas \n3 – Aplicando camadas de segurança cibernética para ambientes OTColeta de dados seguraCamada de segurança adicional para coleta de dados (Data-diode)Segregação de redes OTAcesso remoto seguroSegurança aplicada em Wi-FiMonitoramento contínuo de vulnerabilidades em redes OT (incluindo acesso remoto)Compliance e Governança – Monitoramento de atendimento às políticas e normas em áreas e sites distintos \n\n\n\n\n\nInstrutor:\n\n\n\n\n\n\n\n\n\n\n\n\n\n\nAlexandre de Oliveira – Profissional com 24 anos de experiência na área de automação industrial. Carreira iniciada em empresas integradoras de sistemas de automação industrial\, atuando na execução e gestão de projetos de automação\, instrumentação e elétrica industrial. Experiência em programação de controladores e desenvolvimento de softwares aplicativos para automação industrial. Hoje\, no departamento comercial\, na área de Engenharia de Aplicações na Westcon\, atua no desenvolvimento de negócios e concepção de soluções para conectividade de redes e sistemas de automação. Ministra palestras em eventos\, workshops e seminários\, e realiza apresentações nos clientes\, com o objetivo de promover as tecnologias e melhores práticas na área de automação industrial e segurança cibernética. Formado em Tecnologia de Processamento de Dados e Pós-Graduado em Cyber Security (Nível Especialização)\, Segurança da Informação e Cibersegurança com foco em OT. \n\n\n\n\n\n\n\n\nInvestimento:\n\n\n\n\n\nPara informações sobre os valores do treinamento\, clique no botão “inscreva-se” e preencha o formulário ou consulte-nos diretamente através do e-mail isasp@isasp.org.br. \nMembro da ISA tem desconto para participar de nossos treinamentos. Entre em contato conosco através do e-mail isasp@isasp.org.br para mais informações. \n\n\n\n\n\nObservações:\n\n\n\n\n\n\nPara obter o desconto de Membro da ISA\, saiba como se filiar antes de se inscrever: https://isasp.org.br/como-me-tornar-um-membro-da-isa/\nAs vagas são limitadas para propiciar uma maior interação entre os participantes e o instrutor.\nAs aulas serão gravadas e disponibilizadas aos participantes durante o período de realização do treinamento. Ao se inscrever o participante concorda com a divulgação de sua imagem e voz aos demais participantes do treinamento e ao instrutor (se aplicável).\nPara realizar a sua inscrição no treinamento\, clique no botão abaixo.\n\n\n\n\n\n\n\n\nInscreva-se!\n\n\n\n\n\n\n\nPolítica de Cancelamento:\n\n\n\n\n\nA ISA São Paulo Section reserva-se o direito de cancelar ou prorrogar a realização do treinamento caso não seja atingido o número mínimo necessário de inscritos. Havendo o cancelamento\, caso o participante opte por não participar de uma nova turma\, o valor pago será integralmente restituído. \nO inscrito\, mediante comunicação expressa e escrita\, poderá solicitar o cancelamento de sua inscrição\, a qualquer tempo\, até o início do treinamento. Para a cobrança ou restituição do valor pago\, serão respeitadas as regras abaixo: \n\nSolicitação de cancelamento em até 5 (cinco) dias úteis do início do treinamento: não haverá cobrança do valor integral da inscrição ou haverá restituição integral do valor pago.\nSolicitação de cancelamento em menos de 5 (cinco) dias úteis do início do treinamento: haverá cobrança de 50% do valor integral da inscrição ou restituição de 50% do valor pago.\nEm ambos os casos acima\, do valor a pagar ou a restituir serão descontados os valores referentes aos impostos devidos recolhidos\, se aplicável.\nA ausência do inscrito\, sem aviso prévio\, constitui cancelamento e\, neste caso\, haverá a cobrança do valor integral da inscrição ou não haverá restituição do valor pago. \n \n\n\n\n\n\n\n\nRealização \n\n\n\n\n\n\n\n\n\n\n\n\n\n\n\n\n\n\n\n\n\n\n\n\n\n\n\n\n\n\n\n\n\nEvento Anterior: \n\n\n\n\n\nPróximo Evento:
URL:https://isasp.org.br/evento/treinamento-seguranca-cibernetica-2-25/
LOCATION:Local: Online\, Ambiente Virtual
CATEGORIES:Treinamento
ATTACH;FMTTYPE=image/png:https://isasp.org.br/wp-content/uploads/2020/01/Training.png
END:VEVENT
BEGIN:VEVENT
DTSTART;TZID=America/Sao_Paulo:20251124T190000
DTEND;TZID=America/Sao_Paulo:20251202T221000
DTSTAMP:20260421T231237
CREATED:20250707T210618Z
LAST-MODIFIED:20251104T175413Z
UID:17545-1764010800-1764713400@isasp.org.br
SUMMARY:Treinamento: EC54V - Advanced Design and SIL Verification (Virtual)
DESCRIPTION:Realização:  \n\n\n\nDias: 24\, 25\, 26/11\, 01 e 02/12/2025 \n\n\n\nHorário: das 19h às 22h10 – horário de Brasília \n\n\n\n\n\n\n\n\n\nLocal:  \n\n\n\nAmbiente virtual  \n\n\n\n(curso online e ao vivo com instrutor brasileiro) \n\n\n\n\n\n\n\n\n\n\n\n\n\n\nInscreva-se!\n\n\n\n\n\n\n\n\n\n\n\n\n\n\n\n\n\nEste curso\, ministrado em português por instrutor brasileiro\, utiliza questões detalhadas de design e exemplos práticos de análise/modelagem de sistemas para desenvolver as habilidades necessárias para realizar projetos e análises de sistemas. Aprenda a analisar qualquer tecnologia e configuração de sistema para verificar se atende ao Nível de Integridade de Segurança (SIL) requerido\, determinar se sistemas existentes são seguros ou precisam ser atualizados\, e se sistemas propostos atenderão aos requisitos de desempenho. Também revisa o intervalo ótimo de testes manuais para qualquer sistema\, ajudando as empresas a economizar tempo e dinheiro ao evitar testes em excesso ou insuficientes. \n\nExame de certificação: os participantes que forem aprovados no exame receberão o título de Especialista em Verificação de SIS ISA/IEC 61511 (SIS Verification Specialist Certificate). A inscrição no curso inclui a taxa de um exame. \n\n\n\n\n\n\n\n\n\n\n\n\n\n\n\nPré-requisitos:\n\n\n\n\n\nA conclusão bem-sucedida do curso ISA Safety Instrumented Systems: A Lifecycle Approach (EC50V) e a aprovação no exame de certificação em Sistemas Instrumentados de Segurança da ISA são pré-requisitos obrigatórios para a participação no curso EC54V – Advanced Design and SIL Verification. \n\n\n\n\n\n\n\n\n\n\n\n\n\nQuem deve fazer o EC54V? \n\n\n\n\n\n\n\n\n\n\n\nEngenheiros e gerentes de sistemas de controle\nIntegradores de sistemas\nGerentes de planta\nProfissionais de segurança industrial e gestão de riscos\n\n\n\n\n\n\n\n\n\n\n\n\n\n\n\n\n\n\n\nObjetivos: \n\n\n\n\n\n\nAnalise qualquer tecnologia e configuração de sistema para verificar se atenderá ao SIL (Nível de Integridade de Segurança) requerido\nDetermine se os sistemas existentes são seguros o suficiente (ou se precisam ser atualizados) e se os sistemas propostos atenderão aos requisitos de desempenho\nDefina o intervalo ideal para testes manuais em qualquer sistema\, economizando tempo e dinheiro para sua empresa ao evitar testes em excesso ou insuficientes\n\n\n\n\n\n\n\n\n\n\n\n\n\n\nAssuntos abordados:\n\n\n\n\n\nExemplos Práticos Avançados de Modelagem/Análise de Sistemas \n\nMúltiplos exemplos com diferentes tecnologias de dispositivos de campo\nConfigurações\nNíveis de diagnóstico\nIntervalos de teste\nFatores de causa comum\nTestes manuais imperfeitos\n\nTópicos Detalhados de Design \n\nTolerância a falhas\nFração de falha segura\nCobertura diagnóstica\nLimites de confiança\nResposta do sistema a falhas\nUso de dispositivos para controle e segurança\nRequisitos de design não à prova de falhas\nRequisitos de interface\n\n\n\n\n\n\n\n\n\n\n\n\n\n\nExercícios:\n\n\n\n\n\n\nO curso é composto por diversos exercícios práticos de aplicação em modelagem/análise de sistemas\nÉ necessário levar uma calculadora científica portátil para acompanhar os exercícios e atividades técnicas do curso\n\n\n\n\n\n\n\n\n\n\n\n\n\n\nRecursos inclusos:\n\n\n\n\n\n\n\n\n\nLivro (formato digital): Safety Integrity Level Selection – Systematic Methods Including Layer of Protection Analysis – Autores: Edward M. Marszal\, PE e Dr. Eric W. Scharpf\, MIPENZ.\nA série de normas ISA/IEC 61511 será disponibilizada para consulta durante o curso.\n\n\n\n\n\n\n\n\n\n\n\n\n\n\n\n\n\nNão tem certeza se este curso específico é para você? Faça uma teste de conhecimento do EC54 projetado para avaliar seu nível de compreensão do material do curso e mostrar os tipos de perguntas que você poderá responder após concluir o curso. \n\n\n\n\n\n\n\n\n\n\n\n\n\nInvestimento:\n\n\n\n\n\n\nPreço listaPreço membro ISAUS$ 2.160US$ 1.480\n\n\n\n\n\n\nEstá incluso no valor acima um voucher para o exame de certificação após a conclusão bem-sucedida do curso\, que será ministrado por meio da Meazure Learning\, empresa parceira da ISA Internacional. \nA inscrição será realizada com o apoio da ISA Bahia Section e pode ser paga por transferência bancária ou boleto (à vista) ou com cartão de crédito (parcelado em até 6 vezes). \nPara se inscrever\, basta clicar no botão disponível na página do curso. O pagamento é necessário para validar a inscrição e o envio dos dados à ISA Internacional. \nOs valores serão convertidos em reais com base na cotação do dólar americano do dia de envio do formulário de inscrição (ou do dia útil subsequente) e já incluirão os impostos. \nValor para brasileiros se tornarem membros da ISA: US$ 79 (www.isa.org/membership). \nA ISA Bahia Section emitirá nota fiscal eletrônica.  \n\n\n\n\n\n\n\n\n\n\n\n\n\nImportante:\n\n\n\n\n\n\n\n\n\n\nO curso será realizado em português\, com instrutor brasileiro. Os materiais disponibilizados no curso\, bem como o exame de certificação serão em inglês. \nA turma terá capacidade máxima de 16 alunos\, a fim de não comprometer o desempenho do curso. \nO curso será confirmado até 15 dias antes do início e poderá ter sua realização cancelada a critério da ISA Internacional. Os alunos inscritos serão informados por e-mail. \n\n\n\n\n\n\n\n\n\n\n\n\n\n\n\n\n\n\nInstrutor Certificado pela ISA:\n\n\n\n\n\n\n\n\n\n\n\n\n\n\nJoão Bassa \nConsultor Sênior na MAHAM Serviços de Engenharia Consultiva. Profissional graduado em Engenharia Elétrica pela UNICAMP (Universidade Estadual de Campinas) e Mestrado pela FGV (Fundação Getúlio Vargas)\, com especialização na Columbia University e Harvard University. Atuou nas comissões de Instrumentação do IBP (Instituto Brasileiro de Petróleo\, Gás e Biocombustíveis)\, ABIQUIM (Associação Brasileira da Indústria Química) e na instalação da ISA (International Society of Automation) no Brasil. Foi Vice-Presidente de Publicações da ISA Internacional. É professor do curso de Pós-Graduação “Engenharia de Processos com Ênfase em Projetos Industriais” do INSTITUTO MAUÁ DE TECNOLOGIA\, foi também professor de “Instrumentação e Controle de Processos” na Faculdade de Engenharia Química da UNICAMP. Conta com mais de 40 anos de experiência industrial\, sendo inicialmente Chefe de Setor Instrumentação e\, posteriormente\, Diretor de Engenharia para América Latina na RHODIA\, Gerente de Projetos na BRITISH PETROLEUM – Bio Fuels e Gerente de Projetos na CH2 MHILL. Desde o início de sua carreira mantém um constante foco no aprimoramento da segurança operacional da indústria. \n\n\n\n\n\n\n\n\n\n\n\n\n\n\n\n\n\n\n\n\nPolítica de Cancelamento:\n\n\n\n\n\n\n\nO participante inscrito tem o direito de cancelar sua inscrição no curso a qualquer momento antes do seu início. Para isso\, o participante deverá enviar um e-mail para isasecaobahia@gmail.com solicitando formalmente o cancelamento. \nO cancelamento feito dentro de um prazo especificado antes do início do curso pode qualificar o aluno para um reembolso completo ou parcial\, conforme abaixo: \n\nCancelamento feito até um dia útil anterior ao início do curso: reembolso total ou parcial\, sujeito a uma taxa administrativa de 17% (*).\nCancelamento feito após o início do curso: nenhum reembolso será concedido.\n\n\n\n\n\n(*) Caso a nota fiscal já tenha sido emitida e os respectivos impostos recolhidos\, haverá o desconto do valor já recolhido para a devolução ao participante. \n\n\n\n\nUma vez aprovado o cancelamento e o reembolso\, o valor pago será devolvido ao aluno no método original de pagamento\, dentro de 5 dias úteis. \nO participante será notificado por e-mail sobre o status do reembolso e o prazo estimado para o recebimento do valor pago. \nExceções: circunstâncias excepcionais\, como doença grave ou emergências familiares\, podem ser consideradas para um reembolso fora dos prazos estabelecidos. O participante deverá fornecer documentação comprovativa para consideração. O participante pode ter a opção de transferir sua inscrição para um curso ou turma futura\, sujeito à disponibilidade e confirmação de valor de inscrição\, podendo ser necessária a complementação do valor já pago. \nNo caso de cancelamento do curso por parte da ISA\, o participante será reembolsado integralmente ou poderá optar por transferir sua inscrição para outra turma do mesmo curso. \nEsta política de cancelamento e reembolso foi projetada para garantir uma experiência transparente e justa para o participante. A ISA Bahia Section se reserva o direito de atualizar ou modificar esta política conforme necessário\, com aviso prévio ao participante inscrito.
URL:https://isasp.org.br/evento/ec54v-novembro-25/
LOCATION:Local: Online\, Ambiente Virtual
CATEGORIES:Treinamento
ATTACH;FMTTYPE=image/png:https://isasp.org.br/wp-content/uploads/2024/03/cyberdestaque.png
END:VEVENT
END:VCALENDAR