BEGIN:VCALENDAR
VERSION:2.0
PRODID:-//ISA São Paulo Section - ECPv6.15.20//NONSGML v1.0//EN
CALSCALE:GREGORIAN
METHOD:PUBLISH
X-WR-CALNAME:ISA São Paulo Section
X-ORIGINAL-URL:https://isasp.org.br
X-WR-CALDESC:Eventos para ISA São Paulo Section
REFRESH-INTERVAL;VALUE=DURATION:PT1H
X-Robots-Tag:noindex
X-PUBLISHED-TTL:PT1H
BEGIN:VTIMEZONE
TZID:America/Sao_Paulo
BEGIN:STANDARD
TZOFFSETFROM:-0300
TZOFFSETTO:-0300
TZNAME:-03
DTSTART:20240101T000000
END:STANDARD
END:VTIMEZONE
BEGIN:VEVENT
DTSTART;TZID=America/Sao_Paulo:20250701T190000
DTEND;TZID=America/Sao_Paulo:20250715T220000
DTSTAMP:20260421T164408
CREATED:20250129T161300Z
LAST-MODIFIED:20250429T184247Z
UID:14928-1751396400-1752616800@isasp.org.br
SUMMARY:Treinamento: Automação Industrial (Virtual)
DESCRIPTION:Automação Industrial (Virtual)\n\n\n\n\n\n\n\n\nCarga horária: 30 horas (10 dias)\nDias: 01\, 02\, 03\, 04\, 07\, 08\, 10\, 11\, 14 e 15/07/2025 \nHorário: das 19h às 22h\nLocal: Ambiente virtual\n\n\n\n\n\n\nInscreva-se!\n\n\n\n\n\n\n\n\n\nObjetivo:\n\n\n\n\n\nMostrar os conceitos de automação de processo industrial\, apresentando todas as camadas da pirâmide: medição controle\, alarme\, intertravamento\, otimização. Apresentar as tecnologias e sistemas aplicadas\, como CLP\, SDCD e SCADA. Apresentar norma IEC 61 131 (1993): lista de instruções\, texto estruturado\, diagrama ladder e diagrama de bloco de função. Apresentar as técnicas de prevenção e mitigação do perigo\, através de alarme e intertravamento. Conceituar a Interface Humano Máquina (IHM). Apresentar as principais redes digitais industriais: HART\, FOUNDATION Fieldbus\, Profibus\, Modbus\, Ethernet. \n\n\n\n\n\nPúblico-Alvo:\n\n\n\n\n\nDestinado a todo profissional envolvido nas tarefas de projeto\, montagem\, instalação\, manutenção e operação de automação de processos industriais. \n\n\n\n\n\nPré-Requisitos:\n\n\n\n\n\nÉ recomendável que o participante tenha conhecimentos básicos de informática. Como pré-requisito\, sugerimos noções básicas em eletricidade e eletrônica industrial\, instrumentação\, controle e medição (metrologia). \n\n\n\n\n\nRecursos Necessários:\n\n\n\n\n\nAs aulas são realizadas através do Microsoft Teams\, e para participar é necessário um dispositivo compatível\, como um computador (Windows ou Mac)\, smartphone ou tablet (Android ou iOS). O acesso pode ser feito pelo aplicativo Microsoft Teams\, que é recomendado para melhor experiência\, ou diretamente pelo navegador\, como Edge e Chrome. \nAlém disso\, uma conexão estável com a internet\, seja via Wi-Fi ou dados móveis\, é essencial para garantir que não haja interrupções. Também é importante contar com um microfone e alto-falantes embutidos no dispositivo ou fones de ouvido para melhor qualidade de áudio. O uso de uma câmera é opcional. Caso esteja acessando pelo navegador\, é necessário conceder permissões para o uso do microfone e da câmera. Além disso\, em ambientes corporativos\, pode ser necessário verificar permissões de firewall ou proxy para garantir o funcionamento adequado do Teams. \n\n\n\n\n\nMaterial Didático:\n\n\n\n\n\nO participante receberá uma cópia digital do material apresentado pelo instrutor durante o treinamento. \n\n\n\n\n\nCertificado:\n\n\n\n\n\nO participante receberá o certificado de participação no treinamento em formato PDF por e-mail. \n\n\n\n\n\nConteúdo Programático:\n\n\n\n\n\n1. Fundamentos e Requisitos1.1. Portas Lógicas Booleanas para Operações de Processo: símbolos lógicos AND\, OR\, NOT\, NAND e NOR. Elementos de tempo e contagem.1.2. Componentes Eletromecânicos: chaves manual e automática\, solenóide\, relé\, temporizadores\, contadores. Dispositivos de proteção. \n2. Tecnologias2.1. Controlador Lógico Programável: definição\, terminologia\, história do CLP. Componentes\, aplicações e manutenção do CLP.2.2. Sistema Digital de Controle Distribuído (SDCD). Configurações e aplicações.2.3. Controle Supervisório e Aquisição de Dados (SCADA): conceito\, componentes e aplicações. Sistema para aquisição de dados: dedicado e CLP. Aplicativos industriais mais comuns: InTouch\, FixDMax\, Wizcon\, Realflex\, Oasys. \n3. Automação do Processo3.1. Controle Contínuo: malha aberta ou fechada\, realimentação negativa ou preditivo antecipatório. Ações de controle: Proporcional\, Integral\, Derivativa.3.2. Controle Lógico ou Discreto: conceitos\, vantagens e aplicações. Eventos e status. Controle Batelada: conceito\, terminologia\, validação e aplicação.3.3. Alarme e Intertravamento: terminologia\, componentes e tipos de alarme. Análise e tipos de intertravamento: auto cancelante\, reset\, bypass\, ação temporizada. Redundância e diversidade. Circuito de votação. Anunciador de Alarme: componentes e aplicações. Seqüências ISA de alarme. \n4. Programação de Sistemas Digitais4.1. Norma IEC 1131-3 (1993): Programmable controllers – Programming Languages. Tipos de Programação: Textual (Lista de Instruções e Texto Estruturado) Gráfica (Diagrama Ladder e Diagrama de Bloco Funcional).4.2. Diagrama Ladder: conceito\, componentes\, análise e desenvolvimento. Exemplos e aplicações típicas para controle de motores e processos discretos.4.3. Diagrama de Blocos de Função: conceito\, blocos padrão e personalizados. Exemplos e aplicações típicas em indústria de processo contínuo. \n5. Redes Industriais5.1. Redes de Computadores: estruturas e arquiteturas. Modelo de referência OSI. Interfaces e protocolos. Protocolos: Fieldbus Foundation\, Hart\, Profibus\, Modbus. Base de Dados (Database): base de dados relacional e hierárquica. Plant Information (PI).5.2. Integração de Sistemas. Pirâmides de controle e gerenciamento do processo. Integração das ilhas de automação da planta. Telemetria: conversões A/D e D/A\, modems e multiplexação. \n\n\n\n\n\nInstrutor:\n\n\n\n\n\n\n\n\n\n\n\n\n\n\nMarco Antonio Ribeiro – Engenheiro Eletrônico formado pelo Instituto Tecnológico de Aeronáutica (ITA). Gerente regional da Foxboro na região Norte-Nordeste do Brasil\, 1973-1987. Professor de Matemática no Instituto de Matemática da UFBA e de Eletrônica na Escola Politécnica da UFBA. Professor de Instrumentação e Teoria de Controle no Centro de Educação Tecnologia da Bahia (1975 a 1989). Desde 1987\, diretor e sócio da Tek Treinamento e Consultoria\, T&C Treinamento e Consultoria Ltda e Marcotek ME\, firmas orientadas para cursos técnicos e consultorias nas áreas de medição\, vazão\, metrologia\, incerteza na medição\, classificação de áreas e qualidade. Possui dezenas de artigos de congresso do IBP e ISA e dezenas de apostilas editadas pela Petrobras\, que estão sendo editadas como livros. Já fez vários cursos na área de instrumentação e controle nos EUA (Foxboro e Houston) e na Argentina e já ministrou mais de 1000 cursos de Instrumentação\, Controle\, Automação e Metrologia no Brasil\, em Houston (TX\, EUA) e Luanda (Angola). \n\n\n\n\n\n\n\n\nInvestimento:\n\n\n\n\n\nPara informações sobre os valores do treinamento\, clique no botão “inscreva-se” e preencha o formulário ou consulte-nos diretamente através do e-mail isasp@isasp.org.br. \nMembro da ISA tem desconto para participar de nossos treinamentos. Entre em contato conosco através do e-mail isasp@isasp.org.br para mais informações. \n\n\n\n\n\nObservações:\n\n\n\n\n\n\nPara obter o desconto de Membro da ISA\, saiba como se filiar antes de se inscrever: https://isasp.org.br/como-me-tornar-um-membro-da-isa/\nAs vagas são limitadas para propiciar uma maior interação entre os participantes e o instrutor.\nAs aulas serão gravadas e disponibilizadas aos participantes durante o período de realização do treinamento. Ao se inscrever o participante concorda com a divulgação de sua imagem e voz aos demais participantes do treinamento e ao instrutor (se aplicável).\nPara realizar a sua inscrição no treinamento\, clique no botão abaixo.\n\n\n\n\n\n\n\n\nInscreva-se!\n\n\n\n\n\n\n\nPolítica de Cancelamento:\n\n\n\n\n\nA ISA São Paulo Section reserva-se o direito de cancelar ou prorrogar a realização do treinamento caso não seja atingido o número mínimo necessário de inscritos. Havendo o cancelamento\, caso o participante opte por não participar de uma nova turma\, o valor pago será integralmente restituído. \nO inscrito\, mediante comunicação expressa e escrita\, poderá solicitar o cancelamento de sua inscrição\, a qualquer tempo\, até o início do treinamento. Para a cobrança ou restituição do valor pago\, serão respeitadas as regras abaixo: \n\nSolicitação de cancelamento em até 5 (cinco) dias úteis do início do treinamento: não haverá cobrança do valor integral da inscrição ou haverá restituição integral do valor pago.\nSolicitação de cancelamento em menos de 5 (cinco) dias úteis do início do treinamento: haverá cobrança de 50% do valor integral da inscrição ou restituição de 50% do valor pago.\nEm ambos os casos acima\, do valor a pagar ou a restituir serão descontados os valores referentes aos impostos devidos recolhidos\, se aplicável.\nA ausência do inscrito\, sem aviso prévio\, constitui cancelamento e\, neste caso\, haverá a cobrança do valor integral da inscrição ou não haverá restituição do valor pago. \n \n\n\n\n\n\n\n\nRealização \n\n\n\n\n\n\n\n\n\n\n\n\n\n\n\n\n\n\n\n\n\n\n\n\n\n\n\n\n\n\n\n\n\nEvento Anterior: \n\n\n\n\n\nPróximo Evento:
URL:https://isasp.org.br/evento/treinamento-automacao-25/
LOCATION:Local: Online\, Ambiente Virtual
CATEGORIES:Treinamento
ATTACH;FMTTYPE=image/png:https://isasp.org.br/wp-content/uploads/2020/01/Training.png
END:VEVENT
END:VCALENDAR