BEGIN:VCALENDAR
VERSION:2.0
PRODID:-//ISA São Paulo Section - ECPv6.15.20//NONSGML v1.0//EN
CALSCALE:GREGORIAN
METHOD:PUBLISH
X-ORIGINAL-URL:https://isasp.org.br
X-WR-CALDESC:Eventos para ISA São Paulo Section
REFRESH-INTERVAL;VALUE=DURATION:PT1H
X-Robots-Tag:noindex
X-PUBLISHED-TTL:PT1H
BEGIN:VTIMEZONE
TZID:America/Sao_Paulo
BEGIN:STANDARD
TZOFFSETFROM:-0300
TZOFFSETTO:-0300
TZNAME:-03
DTSTART:20240101T000000
END:STANDARD
END:VTIMEZONE
BEGIN:VEVENT
DTSTART;TZID=America/Sao_Paulo:20250625T090000
DTEND;TZID=America/Sao_Paulo:20250627T170000
DTSTAMP:20260421T150003
CREATED:20240404T185129Z
LAST-MODIFIED:20251104T175514Z
UID:13075-1750842000-1751043600@isasp.org.br
SUMMARY:Treinamento: IC37V - IACS Cybersecurity Operations & Maintenance (Virtual)
DESCRIPTION:Realização:  \n\n\n\nDias: 25 a 27/06/2025 \n\n\n\nHorário: das 9h às 17h – horário de Brasília \n\n\n\n\n\n\n\n\n\nLocal:  \n\n\n\nAmbiente virtual  \n\n\n\n(curso online e ao vivo com instrutor brasileiro) \n\n\n\n\n\n\n\n\n\n\n\n\n\n\nInscreva-se!\n\n\n\n\n\n\n\n\n\n\n\n\n\n\n\n\n\nEste curso\, ministrado em português por instrutor brasileiro\, certificado pela ISA e com o certificado ISA/IEC 62443 – Cybersecurity Expert\, é focado nas atividades associadas às operações contínuas e manutenção da segurança cibernética IACS implementadas na fase de Design e Implementação. Isso envolve diagnóstico e solução de problemas de rede\, monitoramento de segurança e resposta a incidentes\, além da manutenção das contramedidas de segurança cibernética implementadas. Esta fase também inclui gerenciamento de segurança de mudanças\, procedimentos de backup e recuperação e auditorias periódicas de segurança cibernética. \nO IC37V fornecerá aos participantes informações e habilidades para detectar e solucionar possíveis eventos de segurança cibernética\, bem como habilidades para manter o nível de segurança de um sistema operacional durante todo o seu ciclo de vida\, apesar dos desafios de um ambiente de ameaças em constante mudança. \nExame de certificação: este é o quarto curso do Programa de Certificação de Segurança Cibernética ISA/IEC 62443. Passe no exame para obter o certificado ISA/IEC 62443 Cybersecurity Maintenance Specialist. A inscrição no curso inclui uma taxa para o exame. \n\n\n\n\n\n\n\n\n\n\n\n\n\n\n\nPré-requisitos:\n\n\n\n\n\n\n\n\n\n\n\n\n\n\n\nA conclusão bem-sucedida do curso IC32V e a aprovação no exame de certificação ISA/IEC 62443 Cybersecurity Fundamentals Specialist são pré-requisitos obrigatórios para este curso. \nSão requisitos recomendados: \n\nA realização dos cursos IC33V e IC34V\nNoções básicas de sobrevivência de TI e TO para pessoal de I&C (TS06)\nHabilidades avançadas de TI e TO para pessoal de I&C (TS12)\nConhecimento/experiência equivalente\n\n\n\n\n\n\n\n\n\n\n\n\n\n\n\n\n\n\n \n\n\n\n\n\n\n\n\n\n\n\n\n\n\n\n\n\n\n\n\nQuem deve fazer o IC37V? \n\n\n\n\n\n\n\n\n\n\n\n\n\nEngenheiros e gerentes de sistemas de controle\nIntegradores de sistemas\nEngenheiros e gerentes de TI em instalações industriais\nGerentes de fábrica\nSegurança da planta e gerenciamento de riscos\n\n\n\n\n\n\n\n\n\n\n\n\n\n\n\n\n\n\n\n\n\nObjetivos: \n\n\n\n\n\n\nExecutar diagnósticos básicos de rede e solução de problemas\nInterpretar os resultados dos alarmes de diagnóstico do dispositivo IACS e dos registros de eventos\nImplementar procedimentos de backup e restauração do IACS\nDescrever o ciclo de vida e o procedimento de gerenciamento de patches do IACS\nAplicar um procedimento de gerenciamento de antivírus\nDefinir os conceitos básicos de controle de aplicativos e ferramentas de lista branca\nDefinir os conceitos básicos de detecção de intrusão de rede e host\nDefinir os conceitos básicos de ferramentas de monitoramento de incidentes e eventos de segurança\nImplementar um plano de resposta a incidentes\nImplementar um procedimento de gestão de mudança IACS\nConduzir uma auditoria básica de segurança cibernética IACS\n\n\n\n\n\n\n\n\n\n\n\n\n\n\nAssuntos abordados:\n\n\n\n\n\nIntrodução ao ciclo de vida da segurança cibernética do ICS \n\nFase de identificação e avaliação\nFase de design e implementação\nFase de operações e manutenção\n\n\nDiagnóstico e solução de problemas de rede \n\nInterpretação de alarmes de dispositivos e registros de eventos\nIndicadores iniciais\nSistemas de detecção de intrusão de rede\nFerramentas de gerenciamento de rede\n\n\nDiagnóstico e solução de problemas de aplicativos \n\nInterpretação de alarmes e logs de eventos do sistema operacional e de aplicativos\nIndicadores iniciais\nFerramentas de gerenciamento de aplicativos e lista de permissões\nFerramentas antivírus e de proteção de endpoint\nFerramentas de monitoramento de incidentes e eventos de segurança (SIEM)\n\n\nProcedimentos e ferramentas operacionais de segurança cibernética do IACS \n\nDesenvolver e seguir um procedimento de gestão de mudança IACS\nDesenvolvendo e seguindo um procedimento de backup IACS\nFerramentas de gerenciamento de configuração IACS\nDesenvolvendo e seguindo um procedimento de gerenciamento de patches IACS\nFerramentas de gerenciamento de patches\nDesenvolvendo e seguindo um procedimento de gerenciamento de antivírus IACS\nFerramentas antivírus e de lista branca\nDesenvolver e seguir um procedimento de auditoria de segurança cibernética IACS\nFerramentas de auditoria\n\n\nResposta a incidentes IACS \n\nDesenvolver e seguir um plano de resposta a incidentes IACS\nInvestigação de incidentes\nRecuperação do sistema\n\n\n\n\n\n\n\n\n\n\n\n\n\n\nExercícios:\n\n\n\n\n\n\nConstruindo o tabuleiro\nLista de permissões\nGerenciamento de patches\nSistema de detecção de intrusão Snort\nMonitoramento\nSolução de problemas\nRecuperação de incidentes\nGerenciamento de eventos e informações de segurança (SIEM)\n\n\n\n\n\n\n\n\n\n\n\n\n\n\nLeitura recomendada:\n\n\n\n\n\nCybersecurity Library \n\n\n\n\n\n\n\n\n\n\n\n\n\nNão tem certeza se este curso específico é para você? Faça uma teste de conhecimento do IC37 projetado para avaliar seu nível de compreensão do material do curso e mostrar os tipos de perguntas que você poderá responder após concluir o curso. \n\n\n\n\n\n\n\n\n\n\n\n\n\nInvestimento:\n\n\n\n\n\n\nPreço listaPreço membro ISAUS$ 2.680US$ 2.150\n\n\n\n\n\n\nEstá incluso no valor acima um voucher para o exame de certificação após a conclusão bem-sucedida do curso\, que será ministrado por meio da Meazure Learning\, empresa parceira da ISA Internacional. \nA inscrição será realizada com o apoio da ISA São Paulo Section e pode ser paga por transferência bancária ou boleto (à vista) ou com cartão de crédito (parcelado em até 6 vezes). \nPara se inscrever\, basta clicar no botão disponível na página do curso. O pagamento é necessário para validar a inscrição e o envio dos dados à ISA Internacional. \nOs valores serão convertidos em reais com base na cotação do dólar americano do dia de envio do formulário de inscrição (ou do dia útil subsequente) e já incluirão os impostos. \nValor para brasileiros se tornarem membros da ISA: US$ 79 (www.isa.org/membership). \nA ISA São Paulo Section emitirá nota fiscal eletrônica no primeiro dia do curso.  \n\n\n\n\n\n\n\n\n\n\n\n\n\nImportante:\n\n\n\n\n\n\n\n\n\n\nO curso será realizado em português\, com instrutor brasileiro\, certificado pela ISA e com o certificado ISA/IEC 62443 – Cybersecurity Expert. Os materiais disponibilizados no curso\, bem como o exame de certificação serão em inglês. \nA turma terá capacidade máxima de 16 alunos\, a fim de não comprometer o desempenho do curso. \nO curso será confirmado até 15 dias antes do início e poderá ter sua realização cancelada a critério da ISA Internacional. Os alunos inscritos serão informados por e-mail. \n\n\n\n\n\n\n\n\n\n\n\n\n\n\n\n\n\n\nInstrutor Certificado pela ISA:\n\n\n\n\n\n\n\n\n\n\n\n\n\n\nErik Maran \nDiretor Comercial na WESTCON Redes e Conectividade. Formado em Engenharia Elétrica e com MBA Executivo\, tem mais de 20 anos de experiência em sistema de automação\, redes industriais\, conectividade\, IIoT e cibersegurança industrial. É instrutor oficial da ISA para norma de cibersegurança ISA/IEC62443 e Diretor de Cibersegurança da ISA São Paulo Section. \n\n\n\n\n\n\n\n\n\n\n\n\n\n\n\n\n\n\n\n\nPolítica de Cancelamento:\n\n\n\n\n\n\n\nO participante inscrito tem o direito de cancelar sua inscrição no curso a qualquer momento antes do seu início. Para isso\, o participante deverá enviar um e-mail para isasp@isasp.org.br solicitando formalmente o cancelamento. \nO cancelamento feito dentro de um prazo especificado antes do início do curso pode qualificar o aluno para um reembolso completo ou parcial\, conforme abaixo: \n\nCancelamento feito até um dia útil anterior ao início do curso: reembolso total ou parcial\, sujeito a uma taxa administrativa de 17% (*).\nCancelamento feito após o início do curso: nenhum reembolso será concedido.\n\n\n\n\n\n(*) Caso a nota fiscal já tenha sido emitida e os respectivos impostos recolhidos\, haverá o desconto do valor já recolhido para a devolução ao participante. \n\n\n\n\nUma vez aprovado o cancelamento e o reembolso\, o valor pago será devolvido ao aluno no método original de pagamento\, dentro de 5 dias úteis. \nO participante será notificado por e-mail sobre o status do reembolso e o prazo estimado para o recebimento do valor pago. \nExceções: circunstâncias excepcionais\, como doença grave ou emergências familiares\, podem ser consideradas para um reembolso fora dos prazos estabelecidos. O participante deverá fornecer documentação comprovativa para consideração. O participante pode ter a opção de transferir sua inscrição para um curso ou turma futura\, sujeito à disponibilidade e confirmação de valor de inscrição\, podendo ser necessária a complementação do valor já pago. \nNo caso de cancelamento do curso por parte da ISA\, o participante será reembolsado integralmente ou poderá optar por transferir sua inscrição para outra turma do mesmo curso. \nEsta política de cancelamento e reembolso foi projetada para garantir uma experiência transparente e justa para o participante. A ISA São Paulo Section se reserva o direito de atualizar ou modificar esta política conforme necessário\, com aviso prévio ao participante inscrito.
URL:https://isasp.org.br/evento/treinamento-ic37v-jun-25/
LOCATION:Local: Online\, Ambiente Virtual
CATEGORIES:Treinamento
ATTACH;FMTTYPE=image/png:https://isasp.org.br/wp-content/uploads/2024/03/cyberdestaque.png
END:VEVENT
END:VCALENDAR