BEGIN:VCALENDAR
VERSION:2.0
PRODID:-//ISA São Paulo Section - ECPv6.15.20//NONSGML v1.0//EN
CALSCALE:GREGORIAN
METHOD:PUBLISH
X-ORIGINAL-URL:https://isasp.org.br
X-WR-CALDESC:Eventos para ISA São Paulo Section
REFRESH-INTERVAL;VALUE=DURATION:PT1H
X-Robots-Tag:noindex
X-PUBLISHED-TTL:PT1H
BEGIN:VTIMEZONE
TZID:America/Sao_Paulo
BEGIN:STANDARD
TZOFFSETFROM:-0300
TZOFFSETTO:-0300
TZNAME:-03
DTSTART:20240101T000000
END:STANDARD
END:VTIMEZONE
BEGIN:VEVENT
DTSTART;TZID=America/Sao_Paulo:20250519T190000
DTEND;TZID=America/Sao_Paulo:20250529T213000
DTSTAMP:20260421T130709
CREATED:20250131T174706Z
LAST-MODIFIED:20250416T150823Z
UID:15033-1747681200-1748554200@isasp.org.br
SUMMARY:Treinamento: Especificação e Dimensionamento de Válvulas de Controle (Virtual)
DESCRIPTION:Especificação e Dimensionamento de Válvulas de Controle (Virtual)\n\n\n\n\n\n\n\n\nCarga horária: 20 horas (8 dias)\nDias: 19\, 20\, 21\, 22\, 26\, 27\, 28 e 29/05/2025\nHorário: das 19h às 21h30\nLocal: Ambiente virtual\n\n\n\n\n\n\nInscreva-se!\n\n\n\n\n\n\n\n\n\nObjetivo:\n\n\n\n\n\nDefinir a válvula de controle e ressaltar a sua importância no controle de processo. Relacionar os requisitos básicos necessários para a especificação da válvula de controle. Orientar quanto à correta especificação dos diversos componentes que formam o corpo\, atuador e acessórios. Apresentar soluções para fenômenos especiais como a cavitação e excesso de ruído. Discutir os novos requisitos quanto as restrições das emissões fugitivas geradas pelas válvulas de controle. Esclarecer o verdadeiro significado do termo classe de vazamento e orientar sobre a seleção. Destacar a importância do posicionador e a necessidade de um novo enfoque na sua especificação. Relacionar as diversas normas que deverão ser exigidas para o dimensionamento\, construção e testes da válvula de controle. Apresentar exemplos de dimensionamento de válvulas de controle aplicadas a líquidos e gases. Fazer uma introdução a especificação das válvulas esferas para serviços on off\, apresentando uma estrutura de especificação e normas aplicadas. \n\n\n\n\n\nPúblico-Alvo:\n\n\n\n\n\nEste curso é destinado a todos os profissionais com necessidade de aprender ou aprofundar conhecimentos sobre especificação\, seleção e dimensionamento de válvulas de controle. A participação neste curso é recomendada para quem lida direta ou indiretamente com válvulas de controle e que atua em atividades ligadas a projeto\, manutenção\, engenharia de processo\, operação\, inspeção\, montagem\, fabricação e representação. \n\n\n\n\n\nPré-Requisitos:\n\n\n\n\n\nÉ recomendável que o participante tenha conhecimentos básicos de informática. \n\n\n\n\n\nRecursos Necessários:\n\n\n\n\n\nAs aulas são realizadas através do Microsoft Teams\, e para participar é necessário um dispositivo compatível\, como um computador (Windows ou Mac)\, smartphone ou tablet (Android ou iOS). O acesso pode ser feito pelo aplicativo Microsoft Teams\, que é recomendado para melhor experiência\, ou diretamente pelo navegador\, como Edge e Chrome. \nAlém disso\, uma conexão estável com a internet\, seja via Wi-Fi ou dados móveis\, é essencial para garantir que não haja interrupções. Também é importante contar com um microfone e alto-falantes embutidos no dispositivo ou fones de ouvido para melhor qualidade de áudio. O uso de uma câmera é opcional. Caso esteja acessando pelo navegador\, é necessário conceder permissões para o uso do microfone e da câmera. Além disso\, em ambientes corporativos\, pode ser necessário verificar permissões de firewall ou proxy para garantir o funcionamento adequado do Teams. \n\n\n\n\n\nMaterial Didático:\n\n\n\n\n\nO participante receberá uma cópia digital do material preparado pelo instrutor\, em formato PDF\, sobre válvulas de controle\, com detalhamento dos assuntos que serão tratados durante o treinamento. \n\n\n\n\n\nCertificado:\n\n\n\n\n\nO participante receberá o certificado de participação no treinamento em formato PDF por e-mail. \n\n\n\n\n\nConteúdo Programático:\n\n\n\n\n\n1 – Introdução:– Fontes de informações sobre as válvulas de controle– Função e importância da válvula de controle no processo industrial– Válvula de controle: um equipamento 90% mecânico sob a responsabilidade da equipe de automação/instrumentação– Informações básicas sobre o corpo\, atuador\, posicionador e acessórios \n2 – Folhas de Dados e Condições de Processo– Folhas de Dados: finalidade\, padronização e normas aplicadas– Condições de processo: importância fundamental na especificação \n3 – Tubulação e corpo– A tubulação e sua influência na especificação da válvula de controle– Seleção do tipo de corpo: opções disponíveis. Prós e contras– Classes de pressão\, diâmetros\, conexões e sentido de fluxo– Castelo: função e opções disponíveis. Recomendação prática sobre seleção– Gaxetas: função e opções. Regras sobre a especificação: antiga x atual. Consequências de uma especificação e manutenção incorretas– Emissões fugitivas: um novo item (essencial) a ser incluído na especificação. Normas aplicadas \n4 – Os internos e os fenômenos associados a passagem do fluido pelo corpo– Internos: a diferença entre a válvula de controle e as demais válvulas– Definição\, opções\, diâmetro\, balanceado x não balanceado\, materiais– Internos: itens importantes que não constam da Folha de Dados– Característica de vazão: definição\, aplicação. Simplificando a seleção– Cavitação: o pior inimigo da válvula de controle. Soluções– Ruído: consequências do excesso. Por que o limite é 85 dBA? Normas aplicadas. Interpretação dos resultados do cálculo. Verificação dos resultados no campo \n5 – Testes em válvulas de controle– Testes recomendados de acordo com a IEC 60534-4– Teste hidrostático. Onde e quando realizar? Normas aplicadas– Classes de vazamento: o assunto mais controvertido em válvulas de controle. O que é e para que serve? Normas aplicadas. Como se tornar um especialista em classe de vazamento. O que fazer quando for exigido o vazamento zero \n6 – Atuador\, posicionador e acessórios– Atuador: função. Folhas de Dados: uma especificação incompleta. Como agir. Onde estão as normas?– Posicionador: função e opções. Incorporando a revolução digital. Uma nova exigência de especificação. Normas aplicadas. Diagnósticos essenciais. Por que os diagnósticos não estão sendo usados?– E a cibersegurança\, onde aplicar?– Acessórios: a necessidade de garantir a padronização e uma especificação correta \n7 – Seleção e dimensionamento de válvulas de controle– Seleção: itens essenciais e muitas vezes ignorados– Dimensionamento do corpo: normas aplicadas e equações básicas– Dimensionamento do atuador: assunto muitas vezes negligenciado. Itens de verificação no dimensionamento do atuador– Softwares de cálculo: onde obter e como usar. Exercícios de aplicação: exemplos de cálculos para líquido e gás \n8 – Válvulas on off tipo esfera– Comparação: válvulas on off x válvulas de controle– Tipos de válvulas esferas para aplicação on off– Corpo – características típicas de construção– Opções: Double Block & Bleed\, Single Piston Effect\, Double Piston Effect– Normas para fabricação e testes– Especificação da válvula on off \n\n\n\n\n\nInstrutor:\n\n\n\n\n\n\n\n\n\n\n\n\n\n\nDavid Rodrigues – Engenheiro Eletricista\, MsC\, instrutor e consultor especializado em válvulas de controle. Membro do Comitê ISA 75 da ISA sobre normas para válvulas de controle. Trabalhou por mais de duas décadas no setor de manutenção de instrumentação da Petrobras/Fafen BA e 12 anos como engenheiro de aplicação. Já ministrou mais de uma centena de cursos e palestras sobre válvulas de controle em diversas empresas e instituições\, incluindo a ISA Distrito 4\, ISA Seção Bahia\, ISA Seção São Paulo\, SENAI\, IFBA\, UFBA\, Unifacs\, Petrobras\, Transpetro\, Braskem\, Akzo-Nobel\, Deten\, e Vale\, entre outras. Senior Life Member da International Society of Automation – ISA. \n\n\n\n\n\n\n\n\nInvestimento:\n\n\n\n\n\nPara informações sobre os valores do treinamento\, clique no botão “inscreva-se” e preencha o formulário ou consulte-nos diretamente através do e-mail isasp@isasp.org.br. \nMembro da ISA tem desconto para participar de nossos treinamentos. Entre em contato conosco através do e-mail isasp@isasp.org.br para mais informações. \n\n\n\n\n\nObservações:\n\n\n\n\n\n\nPara obter o desconto de Membro da ISA\, saiba como se filiar antes de se inscrever: https://isasp.org.br/como-me-tornar-um-membro-da-isa/\nAs vagas são limitadas para propiciar uma maior interação entre os participantes e o instrutor.\nAs aulas serão gravadas e disponibilizadas aos participantes durante o período de realização do treinamento. Ao se inscrever o participante concorda com a divulgação de sua imagem e voz aos demais participantes do treinamento e ao instrutor (se aplicável).\nPara realizar a sua inscrição no treinamento\, clique no botão abaixo.\n\n\n\n\n\n\n\n\nInscreva-se!\n\n\n\n\n\n\n\nPolítica de Cancelamento:\n\n\n\n\n\nA ISA São Paulo Section reserva-se o direito de cancelar ou prorrogar a realização do treinamento caso não seja atingido o número mínimo necessário de inscritos. Havendo o cancelamento\, caso o participante opte por não participar de uma nova turma\, o valor pago será integralmente restituído. \nO inscrito\, mediante comunicação expressa e escrita\, poderá solicitar o cancelamento de sua inscrição\, a qualquer tempo\, até o início do treinamento. Para a cobrança ou restituição do valor pago\, serão respeitadas as regras abaixo: \n\nSolicitação de cancelamento em até 5 (cinco) dias úteis do início do treinamento: não haverá cobrança do valor integral da inscrição ou haverá restituição integral do valor pago.\nSolicitação de cancelamento em menos de 5 (cinco) dias úteis do início do treinamento: haverá cobrança de 50% do valor integral da inscrição ou restituição de 50% do valor pago.\nEm ambos os casos acima\, do valor a pagar ou a restituir serão descontados os valores referentes aos impostos devidos recolhidos\, se aplicável.\nA ausência do inscrito\, sem aviso prévio\, constitui cancelamento e\, neste caso\, haverá a cobrança do valor integral da inscrição ou não haverá restituição do valor pago. \n \n\n\n\n\n\n\n\nRealização \n\n\n\n\n\n\n\n\n\n\n\n\n\n\n\n\n\n\n\n\n\n\n\n\n\n\n\n\n\n\n\n\n\nEvento Anterior: \n\n\n\n\n\nPróximo Evento:
URL:https://isasp.org.br/evento/treinamento-valvulas-de-controle-1-25/
LOCATION:Local: Online\, Ambiente Virtual
CATEGORIES:Treinamento
ATTACH;FMTTYPE=image/png:https://isasp.org.br/wp-content/uploads/2020/01/Training.png
END:VEVENT
END:VCALENDAR