BEGIN:VCALENDAR
VERSION:2.0
PRODID:-//ISA São Paulo Section - ECPv6.15.20//NONSGML v1.0//EN
CALSCALE:GREGORIAN
METHOD:PUBLISH
X-ORIGINAL-URL:https://isasp.org.br
X-WR-CALDESC:Eventos para ISA São Paulo Section
REFRESH-INTERVAL;VALUE=DURATION:PT1H
X-Robots-Tag:noindex
X-PUBLISHED-TTL:PT1H
BEGIN:VTIMEZONE
TZID:America/Sao_Paulo
BEGIN:STANDARD
TZOFFSETFROM:-0300
TZOFFSETTO:-0300
TZNAME:-03
DTSTART:20240101T000000
END:STANDARD
END:VTIMEZONE
BEGIN:VEVENT
DTSTART;TZID=America/Sao_Paulo:20250915T190000
DTEND;TZID=America/Sao_Paulo:20251002T220000
DTSTAMP:20260421T194925
CREATED:20250707T204017Z
LAST-MODIFIED:20251104T175452Z
UID:17525-1757962800-1759442400@isasp.org.br
SUMMARY:Treinamento: EC50V - Safety Instrumented Systems: A Lifecycle Approach (Virtual)
DESCRIPTION:Realização:  \n\n\n\nDias: 15\, 16\, 17\, 18\, 22\, 23\, 24\, 25\, 29\, 30/09\, 01 e 02/10/2025 \n\n\n\nHorário: das 19h às 22h – horário de Brasília \n\n\n\n\n\n\n\n\n\nLocal:  \n\n\n\nAmbiente virtual  \n\n\n\n(curso online e ao vivo com instrutor brasileiro) \n\n\n\n\n\n\n\n\n\n\n\n\n\n\nInscreva-se!\n\n\n\n\n\n\n\n\n\n\n\n\n\n\n\n\n\nEste curso\, ministrado em português por instrutor brasileiro\, foca nos requisitos de engenharia para a especificação\, projeto\, análise e justificativa de sistemas instrumentados de segurança (SIS) para as indústrias de processo. Os alunos aprenderão como determinar os Níveis de Integridade de Segurança (SILs) e avaliar se os sistemas propostos ou existentes atendem aos requisitos de desempenho e documentação definidos na norma ISA/IEC 61511 (ISA 84). \n\nExame de certificação: este curso é obrigatório para a Certificação de Especialista em Fundamentos de SIS segundo a norma ISA/IEC 61511. Aqueles que concluírem o curso com êxito e forem aprovados no exame receberão o título de Especialista em Fundamentos de SIS ISA/IEC 61511. A inscrição no curso inclui a taxa de um exame. \n\n\n\n\n\n\n\n\n\n\n\n\n\n\n\nObjetivos: \n\n\n\n\n\n\nDefinir o que é um Sistema Instrumentado de Segurança (SIS)\nDiscutir como regulamentos foram desenvolvidos a partir de lições aprendidas com acidentes de grande repercussão na indústria de processos\nDeterminar quais diretrizes e normas da ANSI/ISA\, AIChE e IEC são relevantes para a indústria\nIdentificar o escopo da norma ISA/IEC 61511\nDiscutir estratégias para a gestão da segurança funcional\nIdentificar as etapas do ciclo de vida do projeto de segurança\nIdentificar as camadas de segurança disponíveis para sistemas de automação e controle industrial (IACS)\nDiscutir a importância do conceito de “defesa em profundidade”\nIdentificar como os SISs são utilizados para reduzir riscos\nCategorizar riscos utilizando a Análise de Perigos de Processo (PHA)\nDeterminar o SIL por métodos qualitativos\nDeterminar os requisitos de desempenho para cada SIL\nRealizar uma Análise de Camadas de Proteção (LOPA)\nDiscutir a metodologia LOPA\nDesenvolver diretrizes para a aplicação do LOPA\nDeterminar a tolerância ao risco\nIdentificar recursos de cibersegurança em sistemas IACS\nIdentificar modos de falha e os riscos associados a cada um\nIdentificar técnicas de modelagem de hardware (verificação de SIL)\nExplicar o impacto da redundância nas taxas de falha\nDemonstrar o uso de tabelas de tolerância a falhas\nDesenvolver uma especificação de requisitos de segurança de software (SRS)\nExplicar os prós e contras de sistemas com lógica de relés\nExplicar os prós e contras de sistemas com microprocessadores\nDiscutir os prós e contras de sistemas pneumáticos\nIdentificar dispositivos de campo típicos em um IACS\nDiscutir o impacto dos dispositivos de campo no desempenho do sistema\nExplicar os benchmarks do Center for Internet Security (CIS)\nExplicar os prós e contras de utilizar dispositivos certificados versus dispositivos com histórico de uso (prior-use)\nExplicar o processo de Teste de Aceitação em Fábrica (FAT)\nExplicar o processo de instalação e comissionamento\nExplicar o processo de validação\nIdentificar prioridades da fase de operação e manutenção\nIdentificar os requisitos de segurança para a gestão de mudanças (MOC)\nDesenvolver uma especificação de requisitos de software (SRS)\nIdentificar os documentos que devem ser mantidos para o SRS\n\n\n\n\n\n\n\n\n\n\n\n\n\n\nAssuntos abordados:\n\n\n\n\n\n\n\n\nFundamentos\, Escopo\, Gestão e o Ciclo de Vida \n\nAborda acidentes de grande repercussão na indústria de processos\nAnalisa a legislação que surgiu como consequência desses acidentes\nDiscute lições aprendidas e questões de gestão da segurança funcional\n\n\n\n\n\n\n\n\n\n\n\n\nAvaliação de Perigos e Riscos\, Seleção de SILs\n\nConceitos fundamentais e benefícios das camadas de segurança independentes\nIdentificação de perigos (hazard identification)\nAvaliação de riscos\nDeterminação e seleção dos Níveis de Integridade de Segurança (SILs)\n\n\n\n\n\n\n\n\n\n\n\n\n\n\n\n\n\nAnálise de Camadas de Proteção (LOPA) e Cibersegurança\n\nMétodo semiquantitativo para determinar SILs (LOPA)\nAplicação prática da LOPA\nIntrodução à cibersegurança em Sistemas de Automação e Controle Industrial (IACS)\n\n\n\n\n\n\n\n\n\n\n\n\n\n\n\n\n\nConfiabilidade e Modelagem\n\nQuestões relacionadas à confiabilidade dos sistemas\nInterpretação das tabelas de tolerância mínima a falhas de hardware conforme a norma ISA/IEC 61511 (ISA 84)\n\nEspecificação de Requisitos de Segurança (SRS) e Tecnologias de Lógica\n\nDesenvolvimento da SRS\nPrós e contras dos sistemas lógicos: pneumáticos\, relés e microprocessadores\n\nDispositivos de Campo\, Certificação e Questões de Projeto Diversas\n\nDispositivos de campo e seu impacto no desempenho do sistema\nDiferenças entre dispositivos certificados e dispositivos com histórico comprovado de uso (proven-in-use)\n\nTeste de Aceitação em Fábrica (FAT) e Etapas Posteriores\n\nProcesso de FAT (Factory Acceptance Test)\nInstalação\, comissionamento e validação\nOperação\, manutenção\, testes e bypass\nGestão de mudanças (MOC – Management of Change)\n\nObservação: É necessário levar uma calculadora científica portátil para as aulas. \n\n\n\n\n\n\n\n\n\n\n\n\n\n\n\n\n\n\n\n\n\nRecursos inclusos:\n\n\n\n\n\n\n\n\n\nAcesso online à série de normas ISA/IEC 61511 durante toda a duração do curso\nVersão digital do livro Safety Instrumented Systems: A Life Cycle ApproachAutores: Paul Gruhn\, PE\, CFSE e Simon Lucchini\, CFSE\, MIEAust CPEng\n\n\n\n\n\n\n\n\n\n\n\n\n\n\n\n\n\nPré-requisitos recomendados:\n\n\n\n\n\nNão há pré-requisitos ou inscrições obrigatórias para participar deste programa; no entanto\, é altamente recomendado que os candidatos estejam familiarizados com as normas ISA/IEC 61511. \n\n\n\n\n\n\n\n\n\n\n\n\n\nNão tem certeza se este curso específico é para você? Faça uma teste de conhecimento do EC50 projetado para avaliar seu nível de compreensão do material do curso e mostrar os tipos de perguntas que você poderá responder após concluir o curso. \n\n\n\n\n\n\n\n\n\n\n\n\n\nInvestimento:\n\n\n\n\n\n\nPreço listaPreço membro ISAUS$ 4.137US$ 2.830\n\n\n\n\n\n\nEstá incluso no valor acima um voucher para o exame de certificação após a conclusão bem-sucedida do curso\, que será ministrado por meio da Meazure Learning\, empresa parceira da ISA Internacional. \nA inscrição será realizada com o apoio da ISA Bahia Section e pode ser paga por transferência bancária ou boleto (à vista) ou com cartão de crédito (parcelado em até 6 vezes). \nPara se inscrever\, basta clicar no botão disponível na página do curso. O pagamento é necessário para validar a inscrição e o envio dos dados à ISA Internacional. \nOs valores serão convertidos em reais com base na cotação do dólar americano do dia de envio do formulário de inscrição (ou do dia útil subsequente) e já incluirão os impostos. \nValor para brasileiros se tornarem membros da ISA: US$ 79 (www.isa.org/membership). \nA ISA Bahia Section emitirá nota fiscal eletrônica. \n\n\n\n\n\n\n\n\n\n\n\n\n\nImportante:\n\n\n\n\n\n\n\n\n\n\nO curso será realizado em português\, com instrutor brasileiro. Os materiais disponibilizados no curso\, bem como o exame de certificação serão em inglês. \nA turma terá capacidade máxima de 16 alunos\, a fim de não comprometer o desempenho do curso. \nO curso será confirmado até 15 dias antes do início e poderá ter sua realização cancelada a critério da ISA Internacional. Os alunos inscritos serão informados por e-mail. \n\n\n\n\n\n\n\n\n\n\n\n\n\n\n\n\n\n\nInstrutor Certificado pela ISA:\n\n\n\n\n\n\n\n\n\n\n\n\n\n\nErick Garcia \nÉ Engenheiro de Instrumentação com Especializações em Otimização de Processos e Ciência de Dados. Atua há mais de 37 anos em petroquímicas multinacionais\, participando de projetos de engenharia e com experiência nas áreas de manutenção e produção. Possui certificações internacionais em Segurança Funcional\, tendo participado e ministrado dezenas de cursos e seminários sobre o assunto. Atua como coordenador do GT da ABNT NBR IEC 61511 e como membro do SC65A da IEC. É autor do livro Sistemas Instrumentados de Segurança: guia prático do ciclo de vida de segurança da IEC 61511\, pela Editora Dialética. \n\n\n\n\n\n\n\n\n\n\n\n\n\n\n\n\n\n\n\n\nPolítica de Cancelamento:\n\n\n\n\n\n\n\nO participante inscrito tem o direito de cancelar sua inscrição no curso a qualquer momento antes do seu início. Para isso\, o participante deverá enviar um e-mail para isasecaobahia@gmail.com solicitando formalmente o cancelamento. \nO cancelamento feito dentro de um prazo especificado antes do início do curso pode qualificar o aluno para um reembolso completo ou parcial\, conforme abaixo: \n\nCancelamento feito até um dia útil anterior ao início do curso: reembolso total ou parcial\, sujeito a uma taxa administrativa de 17% (*).\nCancelamento feito após o início do curso: nenhum reembolso será concedido.\n\n\n\n\n\n(*) Caso a nota fiscal já tenha sido emitida e os respectivos impostos recolhidos\, haverá o desconto do valor já recolhido para a devolução ao participante. \n\n\n\n\nUma vez aprovado o cancelamento e o reembolso\, o valor pago será devolvido ao aluno no método original de pagamento\, dentro de 5 dias úteis. \nO participante será notificado por e-mail sobre o status do reembolso e o prazo estimado para o recebimento do valor pago. \nExceções: circunstâncias excepcionais\, como doença grave ou emergências familiares\, podem ser consideradas para um reembolso fora dos prazos estabelecidos. O participante deverá fornecer documentação comprovativa para consideração. O participante pode ter a opção de transferir sua inscrição para um curso ou turma futura\, sujeito à disponibilidade e confirmação de valor de inscrição\, podendo ser necessária a complementação do valor já pago. \nNo caso de cancelamento do curso por parte da ISA\, o participante será reembolsado integralmente ou poderá optar por transferir sua inscrição para outra turma do mesmo curso. \nEsta política de cancelamento e reembolso foi projetada para garantir uma experiência transparente e justa para o participante. A ISA Bahia Section se reserva o direito de atualizar ou modificar esta política conforme necessário\, com aviso prévio ao participante inscrito.
URL:https://isasp.org.br/evento/ec50v-setembro-25/
LOCATION:Local: Online\, Ambiente Virtual
CATEGORIES:Treinamento
ATTACH;FMTTYPE=image/png:https://isasp.org.br/wp-content/uploads/2024/03/cyberdestaque.png
END:VEVENT
BEGIN:VEVENT
DTSTART;TZID=America/Sao_Paulo:20251027T090000
DTEND;TZID=America/Sao_Paulo:20251029T170000
DTSTAMP:20260421T194925
CREATED:20250212T201707Z
LAST-MODIFIED:20251104T175452Z
UID:15228-1761555600-1761757200@isasp.org.br
SUMMARY:Treinamento: IC34V - IACS Cybersecurity Design & Implementation (Virtual)
DESCRIPTION:Realização:  \n\n\n\nDias: 27 a 29/10/2025 \n\n\n\nHorário: das 9h às 17h – horário de Brasília \n\n\n\n\n\n\n\n\n\nLocal:  \n\n\n\nAmbiente virtual  \n\n\n\n(curso online e ao vivo com instrutor brasileiro) \n\n\n\n\n\n\n\n\n\n\n\n\n\n\nInscreva-se!\n\n\n\n\n\n\n\n\n\n\n\n\n\n\n\n\n\nEste curso\, ministrado em português por instrutor brasileiro\, certificado pela ISA e com o certificado ISA/IEC 62443 – Cybersecurity Expert\, concentra-se nas atividades associadas ao projeto e implementação de contramedidas de segurança cibernética do sistema de controle de automação industrial (IACS). Isto inclui a seleção de contramedidas apropriadas com base na sua capacidade de nível de segurança e na natureza das ameaças e vulnerabilidades identificadas na fase de avaliação. A fase de acesso inclui testes de aceitação de segurança cibernética da solução integrada para validar se as contramedidas estão devidamente implementadas e se o IACS atingiu o nível de segurança pretendido. \nOs participantes aprenderão as informações e habilidades para selecionar e implementar contramedidas de segurança cibernética para um IACS novo ou existente\, a fim de atingir o nível de segurança alvo atribuído a cada zona ou conduíte do IACS. Além disso\, os alunos aprenderão como desenvolver e executar planos de teste para verificar se a segurança cibernética de uma solução IACS atendeu adequadamente aos objetivos da especificação de requisitos de segurança cibernética. \nExame de certificação: este é o terceiro curso do Programa de Certificação de Segurança Cibernética ISA/IEC 62443. Passe no exame para obter o certificado ISA/IEC 62443 Cybersecurity Design Specialist. A inscrição no curso inclui uma taxa para o exame. \n\n\n\n\n\n\n\n\n\n\n\n\n\n\n\nPré-requisitos:\n\n\n\n\n\n\n\n\n\n\n\n\n\n\n\nA conclusão bem-sucedida do curso IC32V e a aprovação no exame de certificação ISA/IEC 62443 Cybersecurity Fundamentals Specialist são pré-requisitos obrigatórios para este curso. \nA realização do curso IC33V ou conhecimento/experiência equivalente são pré-requisitos recomendados. \n\n\n\n\n\n\n\n\n\n\n\n\n\n\n\n\n\n\n\n\n\n\n\nQuem deve fazer o IC34V? \n\n\n\n\n\n\n\n\n\n\n\n\n\nEngenheiros e gerentes de sistemas de controle\nIntegradores de sistemas\nEngenheiros e gerentes de TI em instalações industriais\nGerentes de fábrica\nSegurança da planta e gerenciamento de riscos\n\n\n\n\n\n\n\n\n\n\n\n\n\n\n\n\n\n\n\n\n\nObjetivos: \n\n\n\n\n\n\nInterpretar os resultados de uma avaliação de risco de segurança cibernética de um sistema de controle industrial (ICS)\nDesenvolver uma especificação de requisitos de segurança cibernética (CRS)\nDesenvolver um design conceitual baseado nas informações de um CRS bem elaborado\nExplicar o processo e os resultados do ciclo de vida de desenvolvimento de segurança (SLD)\nExecutar uma configuração básica de firewall e comissionamento\nProjetar uma solução de acesso remoto segura\nDesenvolver especificações de proteção do sistema\nImplementar um sistema básico de detecção de intrusão de rede (IDS)\nDesenvolver um plano de teste de aceitação de segurança cibernética\nTeste de aceitação de fábrica de segurança cibernética (CFAT)\nTeste de aceitação de site de segurança cibernética (CSAT)\nExecutar um CFAT ou CSAT básico\n\n\n\n\n\n\n\n\n\n\n\n\n\n\nAssuntos abordados:\n\n\n\n\n\n\n \n\n\n\n\n\n\n\n\n\n\n\n\n\n\n\n\n\n\n\n\n\n\n Introdução ao ciclo de vida da segurança cibernética do ICS\n\n\n\n\n\n\n\n\n\n\n\n\n\n\n\n\n\n\n\n\n\n\n\nFase de avaliação\nFase de implementação\nFase de manutenção\nProcesso de design conceitual\n\n\n\n\n\n\n\n\n\n\n\n\n\n\n\n\n\n\n\n\n\n\n \nInterpretação dos resultados da avaliação de risco\n\n\n\n\n\n\n\n\n\n\n\n\nEspecificações de requisitos de segurança cibernética\nDesenvolvendo um projeto conceitual\nEspecificação de projeto conceitual\nProcesso de design detalhado\n\n\n\n\n\n\n\n\n\n\n\n\n\n\nCiclo de Vida de Desenvolvimento de Segurança (SDL) \n\nTipos de tecnologia\nSelecionando a tecnologia apropriada\nDesenvolvendo um projeto detalhado\nDocumentando o projeto/especificação\nExemplos de design e implementação\n\nExemplo de design de firewall \n\nExemplo de design de acesso remoto\nExemplo de design de proteção de sistema\nExemplo de design de detecção de intrusão\nTeste\n\n\nDesenvolvendo planos de teste \n\nTeste de avaliação de fábrica de segurança cibernética (CFAT)\nFerramenta de avaliação de segurança cibernética (CSAT)\n\n\n\n\n\n\n\n\n\n\n\n\n\n\n\n\n\n\n\n\n\nExercícios de Laboratório:\n\n\n\n\n\n\nConstruindo o tabuleiro\nFirewalls\nDefinição de política e procedimento USB\nProteção de dispositivos de rede\nAcesso remoto\nUsando 62443 3-3 para validar o nível de segurança alcançado (SL-A)\n\n\n\n\n\n\n\n\n\n\n\n\n\n\nLeitura recomendada:\n\n\n\n\n\nCybersecurity Library \n\n\n\n\n\n\n\n\n\n\n\n\n\nNão tem certeza se este curso específico é para você? Faça uma teste de conhecimento do IC34 projetado para avaliar seu nível de compreensão do material do curso e mostrar os tipos de perguntas que você poderá responder após concluir o curso. \n\n\n\n\n\n\n\n\n\n\n\n\n\nInvestimento:\n\n\n\n\n\n\nPreço listaPreço membro ISAUS$ 2.680US$ 2.150\n\n\n\n\n\n\nEstá incluso no valor acima um voucher para o exame de certificação após a conclusão bem-sucedida do curso\, que será ministrado por meio da Meazure Learning\, empresa parceira da ISA Internacional. \nA inscrição será realizada com o apoio da ISA São Paulo Section e pode ser paga por transferência bancária ou boleto (à vista) ou com cartão de crédito (parcelado em até 6 vezes). \nPara se inscrever\, basta clicar no botão disponível na página do curso. O pagamento é necessário para validar a inscrição e o envio dos dados à ISA Internacional. \nOs valores serão convertidos em reais com base na cotação do dólar americano do dia de envio do formulário de inscrição (ou do dia útil subsequente) e já incluirão os impostos. \nValor para brasileiros se tornarem membros da ISA: US$ 79 (www.isa.org/membership). \nA ISA São Paulo Section emitirá nota fiscal eletrônica no primeiro dia do curso.  \n\n\n\n\n\n\n\n\n\n\n\n\n\nImportante:\n\n\n\n\n\n\n\n\n\n\nO curso será realizado em português\, com instrutor brasileiro\, certificado pela ISA e com o certificado ISA/IEC 62443 – Cybersecurity Expert. Os materiais disponibilizados no curso\, bem como o exame de certificação serão em inglês. \nA turma terá capacidade máxima de 16 alunos\, a fim de não comprometer o desempenho do curso. \nO curso será confirmado até 15 dias antes do início e poderá ter sua realização cancelada a critério da ISA Internacional. Os alunos inscritos serão informados por e-mail. \n\n\n\n\n\n\n\n\n\n\n\n\n\n\n\n\n\n\nInstrutor Certificado pela ISA:\n\n\n\n\n\n\n\n\n\n\n\n\n\n\nGuilherme Neves \nCIO/CISO na Doutornet Tecnologia. Graduado em Redes de Computadores\, possui Pós-Graduação em Segurança da Informação\, é Mestre em Informática e Doutorando em Engenharia de Defesa. Pesquisador do LaSC IME\, também exerce a função de Diretor de Cybersegurança na ISA Rio de Janeiro Section e na ISA Internacional. Além disso\, é membro do comitê da Norma IEC 62443\, professor\, autor de livros sobre segurança cibernética e instrutor oficial do Programa de Certificação em Segurança Cibernética ISA/IEC 62443. \n\n\n\n\n\n\n\n\n\n\n\n\n\n\n\n\n\n\n\n\nPolítica de Cancelamento:\n\n\n\n\n\n\n\nO participante inscrito tem o direito de cancelar sua inscrição no curso a qualquer momento antes do seu início. Para isso\, o participante deverá enviar um e-mail para isasp@isasp.org.br solicitando formalmente o cancelamento. \nO cancelamento feito dentro de um prazo especificado antes do início do curso pode qualificar o aluno para um reembolso completo ou parcial\, conforme abaixo: \n\nCancelamento feito até um dia útil anterior ao início do curso: reembolso total ou parcial\, sujeito a uma taxa administrativa de 17% (*).\nCancelamento feito após o início do curso: nenhum reembolso será concedido.\n\n\n\n\n\n(*) Caso a nota fiscal já tenha sido emitida e os respectivos impostos recolhidos\, haverá o desconto do valor já recolhido para a devolução ao participante. \n\n\n\n\nUma vez aprovado o cancelamento e o reembolso\, o valor pago será devolvido ao aluno no método original de pagamento\, dentro de 5 dias úteis. \nO participante será notificado por e-mail sobre o status do reembolso e o prazo estimado para o recebimento do valor pago. \nExceções: circunstâncias excepcionais\, como doença grave ou emergências familiares\, podem ser consideradas para um reembolso fora dos prazos estabelecidos. O participante deverá fornecer documentação comprovativa para consideração. O participante pode ter a opção de transferir sua inscrição para um curso ou turma futura\, sujeito à disponibilidade e confirmação de valor de inscrição\, podendo ser necessária a complementação do valor já pago. \nNo caso de cancelamento do curso por parte da ISA\, o participante será reembolsado integralmente ou poderá optar por transferir sua inscrição para outra turma do mesmo curso. \nEsta política de cancelamento e reembolso foi projetada para garantir uma experiência transparente e justa para o participante. A ISA São Paulo Section se reserva o direito de atualizar ou modificar esta política conforme necessário\, com aviso prévio ao participante inscrito.
URL:https://isasp.org.br/evento/treinamento-ic34v-out-25/
LOCATION:Local: Online\, Ambiente Virtual
CATEGORIES:Treinamento
ATTACH;FMTTYPE=image/png:https://isasp.org.br/wp-content/uploads/2024/03/cyberdestaque.png
END:VEVENT
END:VCALENDAR