BEGIN:VCALENDAR
VERSION:2.0
PRODID:-//ISA São Paulo Section - ECPv6.15.20//NONSGML v1.0//EN
CALSCALE:GREGORIAN
METHOD:PUBLISH
X-ORIGINAL-URL:https://isasp.org.br
X-WR-CALDESC:Eventos para ISA São Paulo Section
REFRESH-INTERVAL;VALUE=DURATION:PT1H
X-Robots-Tag:noindex
X-PUBLISHED-TTL:PT1H
BEGIN:VTIMEZONE
TZID:America/Sao_Paulo
BEGIN:STANDARD
TZOFFSETFROM:-0300
TZOFFSETTO:-0300
TZNAME:-03
DTSTART:20210101T000000
END:STANDARD
END:VTIMEZONE
BEGIN:VEVENT
DTSTART;TZID=America/Sao_Paulo:20220414T170000
DTEND;TZID=America/Sao_Paulo:20220414T183000
DTSTAMP:20260422T055704
CREATED:20220217T140346Z
LAST-MODIFIED:20250327T184704Z
UID:8556-1649955600-1649961000@isasp.org.br
SUMMARY:Mesa Redonda - A Importância da ISA na Capacitação dos Profissionais de Automação e Gestão Industriais
DESCRIPTION:A ISA São Paulo Section realizou no dia 14 de abril de 2022\, das 17h às 18h30\, mais um evento virtual no formato mesa redonda. Desta vez\, o tema foi “A Importância da ISA na Capacitação dos Profissionais de Automação e Gestão Industriais”. \nA ISA (International Society of Automation) desempenha um papel fundamental na capacitação dos profissionais de automação e gestão industriais\, oferecendo uma plataforma de conhecimento\, formação e desenvolvimento de habilidades técnicas essenciais para a indústria 4.0. Com suas certificações reconhecidas globalmente\, como a Certified Automation Professional (CAP)\, e programas de educação contínua\, a ISA ajuda os profissionais a se manterem atualizados sobre as últimas tendências\, tecnologias e melhores práticas em automação e controle industrial. Essa capacitação contribui para aumento da eficiência operacional\, segurança e inovação nas indústrias. \nAlém disso\, a ISA promove o networking entre especialistas e empresas\, criando um ambiente de troca de conhecimento e soluções para desafios comuns da indústria. Ao investir na capacitação através da ISA\, as empresas garantem que seus profissionais estejam bem preparados para lidar com as complexidades e os avanços tecnológicos no setor\, promovendo agilidade e competitividade. A atuação da ISA é essencial para a transformação digital e a modernização da indústria\, capacitando líderes e equipes a implementarem soluções de automação mais eficientes e seguras. \nContamos com apresentações de Camila Leite Cancio Moreira\, Engenheira Especialista de Automação Industrial na Brakem NE com duas Certificações Internacionais\, PMP do PMI e CAP da ISA\, com destaque para esta última\, por ser a primeira e única mulher a conquistar essa Certificação no Brasil\, Carlos Paiola\, Sócio e Diretor Comercial da Aquarius Software\, atual Presidente da ISA São Paulo Section e o primeiro Presidente e fundador da ISA Seção Estudantil Poli – USP e Marco Ovídio da Silva Rodrigues\, Presidente da ISA Seção Estudantil Uni-Goiás e Coordenador das Seções Estudantis da ISA Distrito Brasil. \nAna Cristina Rodrigues\, Diretora da ISA São Paulo Section\, foi a responsável pela abertura e mediação do evento. \nAbaixo você encontra o vídeo completo do evento\, que também está em nosso canal no YouTube. Clique aqui para se inscrever no canal e ative as notificações para não perder as novidades! \nMembros da ISA podem acessar gratuitamente o material apresentado no evento. Clique aqui para visualizar no ISA Connect. \n\n\n\n\n\n\n\n\n\n\n\n\n\n\n\n\nConvidados \n\n\n\n\n\n\n\n\n\n\n\n\n\n\n\nCamila Leite Cancio Moreira – Engenheira Especialista de Automação na Braskem NE. Formada em Engenharia Elétrica pela Faculdade Área1 – Faculdade de Ciência e Tecnologia em Salvador / BA\, tem MBA em Gerenciamento de Projetos pela FGV\, Pós-Graduação em Engenharia de Processos Petroquímicos pela Universidade Federal do Rio de Janeiro e Pós-Graduação em Engenharia de Segurança do Trabalho pela União de Faculdade de Alagoas. Atualmente cursa a especialização em Análise e Ciência de Dados pelo SENAI CIMATEC. Camila possui duas certificações internacionais: PMP (Project Management Professional) do PMI (Project Management Institute) e CAP (Certified Automation Professional) da ISA (International Society of Automation)\, tendo destaque nessa última por ser a primeira e única mulher a conquistar essa certificação no Brasil. Recentemente\, obteve o certificado da EXIDA de FSP® (Functional Safety Practitioner). Possui 16 anos de experiência na área de automação industrial tendo atuado em empresas como Petrobrás e Yokogawa. \n\n\n\n\n\n\n\n\n\n\n\n\n\n\n\n\n\nCarlos Paiola – Sócio e Diretor da Área Comercial da Aquarius Software. É o atual Presidente da ISA São Paulo Section e foi o primeiro Presidente e fundador da ISA Seção Estudantil Poli -USP. Mestre em Engenharia de Sistemas e graduado em Engenharia de Automação e Controle pela Poli/USP – Escola Politécnica da Universidade de São Paulo. Tem experiência em projetos de integração de sistemas e atua com softwares líderes de mercado para automação e gestão industrial. É autor de artigos sobre gestão de operações\, supervisão e controle e normas ISA (The International Society of Automation) em revistas e congressos técnicos e científicos. \n\n\n\n\n\n\n\n\n\n\n\n\n\n\n\n\n\nMarco Ovídio da Silva Rodrigues – Presidente da ISA Seção Estudantil Uni-Goiás e Coordenador das Seções Estudantis ISA Distrito 4. É formado em Engenharia Elétrica pelo Centro Universitário de Goiás. \n\n\n\n\n\n\n\n\n\nRealização \n\n\n\n\n\n\n\n\n\n\n\n\n\n\n\n\n\nEvento Anterior: \n\n\n\n\n\nPróximo Evento:
URL:https://isasp.org.br/evento/mesa-redonda-isa-na-capacitacao-dos-profissionais-abr-22/
LOCATION:Local: Online\, Ambiente Virtual
CATEGORIES:Eventos Anteriores,Eventos ISA SP,Mesa Redonda
ATTACH;FMTTYPE=image/jpeg:https://isasp.org.br/wp-content/uploads/2021/03/balloons-874838_960_720.jpg
ORGANIZER;CN="ISA S%C3%A3o Paulo Section":MAILTO:isasp@isasp.org.br
END:VEVENT
END:VCALENDAR