BEGIN:VCALENDAR
VERSION:2.0
PRODID:-//ISA São Paulo Section - ECPv6.15.20//NONSGML v1.0//EN
CALSCALE:GREGORIAN
METHOD:PUBLISH
X-ORIGINAL-URL:https://isasp.org.br
X-WR-CALDESC:Eventos para ISA São Paulo Section
REFRESH-INTERVAL;VALUE=DURATION:PT1H
X-Robots-Tag:noindex
X-PUBLISHED-TTL:PT1H
BEGIN:VTIMEZONE
TZID:America/Sao_Paulo
BEGIN:STANDARD
TZOFFSETFROM:-0300
TZOFFSETTO:-0300
TZNAME:-03
DTSTART:20210101T000000
END:STANDARD
END:VTIMEZONE
BEGIN:VEVENT
DTSTART;TZID=America/Sao_Paulo:20220316T170000
DTEND;TZID=America/Sao_Paulo:20220316T183000
DTSTAMP:20260422T041304
CREATED:20220217T140108Z
LAST-MODIFIED:20250327T184806Z
UID:8554-1647450000-1647455400@isasp.org.br
SUMMARY:Mesa Redonda - Cloud Computing: Habilitando Iniciativas de Indústria 4.0
DESCRIPTION:A ISA São Paulo Section realizou no dia 16 de março de 2022\, das 17h às 18h30\, a primeira edição do ano do evento em formato mesa redonda. O tema desta edição foi Cloud Computing: Habilitando Iniciativas de Indústria 4.0. \nCloud Computing desempenha um papel crucial na Indústria 4.0\, fornecendo a infraestrutura necessária para processar e armazenar grandes volumes de dados gerados por sensores\, máquinas e sistemas de automação. Com a nuvem\, as empresas podem acessar recursos computacionais escaláveis e flexíveis\, permitindo análises avançadas\, monitoramento em tempo real e integração de dados provenientes de diferentes sistemas e dispositivos\, sem a necessidade de grandes investimentos em infraestrutura local. Isso facilita a transformação digital\, promovendo a conectividade e a eficiência operacional. \nAlém disso\, a Cloud Computing oferece segurança aprimorada\, com recursos como backup remoto\, recuperação de desastres e proteção de dados. A capacidade de escala on-demand permite que as empresas ajustem seus recursos conforme necessário\, sem comprometer o desempenho ou a integridade dos sistemas\, o que é fundamental para manter a continuidade das operações em ambientes industriais altamente dinâmicos. A nuvem também facilita a colaboração remota\, permitindo que equipes de diferentes locais acessem e analisem dados de forma colaborativa. \nA combinação de Cloud Computing com tecnologias de IoT\, inteligência artificial (IA) e Big Data habilita a Indústria 4.0\, criando sistemas mais ágeis e inteligentes. Empresas podem implementar soluções como manutenção preditiva\, otimização de processos e análise em tempo real\, impulsionando a inovação e a competitividade. Em resumo\, a nuvem fornece a infraestrutura e os recursos necessários para conectar\, processar e otimizar operações industriais\, criando o alicerce para a evolução e transformação das empresas na era digital. \nContamos com as presenças de Daniel Bocalão Junior\, Assessor de Diretoria na SABESP\, Fernando Perasso\, Gestão de TI e Projetos e Ronaldo Neves Ribeiro\, Gerente do Setor de Tecnologia da Informação e Telecomunicações na CENIBRA. Carlos Paiola\, Presidente da ISA São Paulo Section\, foi o responsável pela abertura e mediação do evento. \nAbaixo você encontra o vídeo completo do evento\, que também está em nosso canal no YouTube. Clique aqui para se inscrever no canal e ative as notificações para não perder as novidades! \nMembros da ISA podem acessar gratuitamente o material apresentado no evento. Clique aqui para visualizar no ISA Connect. \n\n\n\n\n\n\n\n\n\n\n\n\n\n\n\n\nConvidados \n\n\n\n\n\n\n\n\n\n\n\n\n\n\n\nDaniel Bocalão Junior – Assessor de Diretoria na Sabesp. Graduado em Engenharia Elétrica pela Universidade Federal de Uberlândia\, Pós-Graduado em Gestão de Telecomunicações pela Faculdade Armando Alves Penteado – FAAP\, MBA em Internet e Tecnologia da Informação pela Universidade de São Paulo – USP\, certificações ITIL e Cobit\, diversos cursos de especialização nas áreas de TI. Possui experiência de mais de 30 anos na área de TI – Sistemas\, Operação\, Suporte\, Segurança da Informação e Infraestrutura. Desde 1989 trabalha na Cia de Saneamento Básico do Estado de São Paulo – Sabesp e por 24 anos atuou como gerente de TI\, sendo o responsável direto pela condução e entrega de projetos\, incluindo também a formação e coordenação de equipes de trabalhos\, administração de contratos com fornecedores\, prestadores de serviços e operadoras de telecomunicações. Na carreira acadêmica foi palestrante em diversos seminários e instrutor de cursos de pós graduação – MBA em Gestão de Projetos\, MBA em Gestão Estratégica de Negócio e MBA em Marketing e Vendas – em conceituadas Universidades.  \n\n\n\n\n\n\n\n\n\n\n\n\n\n\n\n\n\nFernando Perasso – Gerente de Gestão de TI e Projetos. Técnico em Eletrônica pela Escola Técnica Estadual Albert Einstein\, Técnico em Redes de Computadores pela Veris IBTA\, Pós-Graduado em Gestão de Projetos pela Fundação Vanzolini\, MBA em Transformação Digital e em Futuro dos Negócios pela PUC-RS. Possui mais de 15 anos no segmento de Tecnologia da Informação e Indústria\, atuando em empresas multinacionais e nacionais\, como Whirlpool\, Ewave\, TOM TOM\, Synchro\, Hesselbach Company\, Brother International e Xavier Bernardes Bragança. Solida experiência em IT BRM e Gestão de Projetos\, atuando fortemente com o Board das empresas e nas áreas estratégicas\, tais como manufatura 4.0 (IIoT)\, logística\, desenho e desenvolvimento de novos produtos conectados (IoT)\, data and analytics\, aplicativos e prototipagem. \n\n\n\n\n\n\n\n\n\n\n\n\n\n\n\n\n\nRonaldo Neves Ribeiro – Gerente do setor de Tecnologia da Informação e Telecomunicações da CENIBRA. Mestre em Engenharia Industrial\, com foco Inteligência Artificial. Especialista em Automação Industrial\, Gestão de Projetos e em Gestão da Tecnologia da Informação. MBA em Gestão Empresarial\, Graduado em Engenharia Elétrica. Experiência na gestão de projetos atuando principalmente em Tecnologia da Informação e Automação. Mais de 18 anos como professor universitário de Graduação e Pós-Graduação. Foi Coordenador da Comissão de Automação e Controle de Processos da ABTCP (Associação Brasileira Técnica de Celulose e Papel)\, é representante da CENIBRA no Movimento Empresarial pelo Inovação (MEI) da CNI. É Diretor mundial da Divisão de Celulose e Papel da Sociedade Internacional de Automação (ISA). Recebeu nos EUA a premiação “Communication Award” da ISA. Eleito por 4 edições como Executivo de TI do Ano\, para os setores de plástico\, borracha\, celulose e papel. Estudioso das novas tecnologias e suas aplicações na indústria. \n\n\n\n\n\n\n\n\n\nRealização \n\n\n\n\n\n\n\n\n\n\n\n\n\n\n\n\n\nEvento Anterior: \n\n\n\n\n\nPróximo Evento:
URL:https://isasp.org.br/evento/mesa-redonda-cloud-computing-mar-2022/
LOCATION:Local: Online\, Ambiente Virtual
CATEGORIES:Eventos Anteriores,Eventos ISA SP,Mesa Redonda
ATTACH;FMTTYPE=image/jpeg:https://isasp.org.br/wp-content/uploads/2021/03/balloons-874838_960_720.jpg
ORGANIZER;CN="ISA S%C3%A3o Paulo Section":MAILTO:isasp@isasp.org.br
END:VEVENT
END:VCALENDAR