BEGIN:VCALENDAR
VERSION:2.0
PRODID:-//ISA São Paulo Section - ECPv6.15.20//NONSGML v1.0//EN
CALSCALE:GREGORIAN
METHOD:PUBLISH
X-WR-CALNAME:ISA São Paulo Section
X-ORIGINAL-URL:https://isasp.org.br
X-WR-CALDESC:Eventos para ISA São Paulo Section
REFRESH-INTERVAL;VALUE=DURATION:PT1H
X-Robots-Tag:noindex
X-PUBLISHED-TTL:PT1H
BEGIN:VTIMEZONE
TZID:America/Sao_Paulo
BEGIN:STANDARD
TZOFFSETFROM:-0300
TZOFFSETTO:-0300
TZNAME:-03
DTSTART:20240101T000000
END:STANDARD
END:VTIMEZONE
BEGIN:VEVENT
DTSTART;TZID=America/Sao_Paulo:20251204T190000
DTEND;TZID=America/Sao_Paulo:20251204T220000
DTSTAMP:20260422T092526
CREATED:20251208T151417Z
LAST-MODIFIED:20251208T151442Z
UID:18855-1764874800-1764885600@isasp.org.br
SUMMARY:Evento de Confraternização 2025
DESCRIPTION:Encerramos o ano celebrando as conquistas da nossa comunidade de automação!A Confraternização da ISA São Paulo Section reuniu nossos membros para uma noite de networking\, integração e reconhecimento do trabalho realizado em 2025.Agradecemos a todos que estiveram presentes e que fortalecem diariamente a ISA São Paulo Section.Seguimos para 2026 com novos projetos\, eventos técnicos\, iniciativas educacionais e ainda mais oportunidades de desenvolvimento profissional.📸 Confira alguns momentos especiais da noite! \n\n\n\n\n\n\n\n\n\n\n\n\n\n\n\n\n\n\n\n\n\n\n\n\n\n\n\n\n\n\n\n\n\n\n\n\n\n\n\n\n\n\n\n\n\n\n\n\n\n\n\n\n\n\n\n\n\n\n\n\n\n\nRealização \n\n\n\n\n\n\n\n\n\n\n\n\n\n\n\n\n\n\n\n\n\n\n\n\n\n\n\nEvento Anterior: \n\n\n\n\n\nPróximo Evento:
URL:https://isasp.org.br/evento/evento-de-confraternizacao-2025/
LOCATION:Local: Pizzaria Speranza\, Av. Sabiá\, 773 - Moema\, São Paulo\, SP\, 04515-001\, Brasil
CATEGORIES:Encontro Técnico,Eventos Anteriores,Eventos ISA SP
ATTACH;FMTTYPE=image/jpeg:https://isasp.org.br/wp-content/uploads/2021/03/tech-5090539_1920.jpg
ORGANIZER;CN="ISA S%C3%A3o Paulo Section":MAILTO:isasp@isasp.org.br
END:VEVENT
END:VCALENDAR