BEGIN:VCALENDAR
VERSION:2.0
PRODID:-//ISA São Paulo Section - ECPv6.15.20//NONSGML v1.0//EN
CALSCALE:GREGORIAN
METHOD:PUBLISH
X-ORIGINAL-URL:https://isasp.org.br
X-WR-CALDESC:Eventos para ISA São Paulo Section
REFRESH-INTERVAL;VALUE=DURATION:PT1H
X-Robots-Tag:noindex
X-PUBLISHED-TTL:PT1H
BEGIN:VTIMEZONE
TZID:America/Sao_Paulo
BEGIN:STANDARD
TZOFFSETFROM:-0300
TZOFFSETTO:-0300
TZNAME:-03
DTSTART:20250101T000000
END:STANDARD
END:VTIMEZONE
BEGIN:VEVENT
DTSTART;TZID=America/Sao_Paulo:20260209T120000
DTEND;TZID=America/Sao_Paulo:20260209T130000
DTSTAMP:20260422T150105
CREATED:20260128T182724Z
LAST-MODIFIED:20260210T190151Z
UID:19042-1770638400-1770642000@isasp.org.br
SUMMARY:Webinar: Programa de Certificação em Sistemas Instrumentados de Segurança ISA/IEC 61511
DESCRIPTION:A ISA São Paulo Section realizou no dia 09 de fevereiro de 2026\, das 12h às 13h\, um webinar sobre o Programa de Certificação em Sistemas Instrumentados de Segurança da ISA\, baseado na Norma ISA/IEC 61511. Além disso\, apresentou as datas dos cursos programados para 2026. \nDurante o webinar\, foram apresentados os cursos oferecidos pelo programa: \n– EC50V – Sistemas Instrumentados de Segurança: Uma Abordagem de Ciclo de Vida– EC52V – Seleção de Nível de Integridade de Segurança (SIL) Avançado– EC54V – Projeto e Verificação de Nível de Integridade de Segurança (SIL) Avançado \nO evento foi conduzido por Ana Cristina Rodrigues\, Diretora Técnica da ISA São Paulo Section.  \nTivemos também a participação especial dos instrutores oficiais do Programa no Brasil\, Erick Garcia e João Bassa. \nEste webinar foi uma excelente oportunidade para entender como o conhecimento e a aplicação da Norma ISA/IEC 61511 podem contribuir para o desenvolvimento profissional\, ao apresentar as melhores práticas em segurança funcional de sistemas instrumentados de segurança (SIS) e demonstrar como esses conceitos podem ser aplicados na organização\, contribuindo para a redução de riscos e o aumento da segurança de processos industriais. \nVeja abaixo a gravação do evento\, que também está em nosso canal no YouTube. \nMembros da ISA podem acessar gratuitamente o material apresentado no evento. Clique aqui para visualizar no ISA Connect. \n\n\n\n\n\n\n\n\n\n\n\n\n\n\n\n\nInstrutores \n\n\n\n\n\n\n\n\n\n\n\n\n\n\n\nErick Garcia – Membro ISA e Instrutor Certificado ISA/IEC 61511. \n\n\n\n\n\n\n\n\n\n\n\n\n\n\n\n\n\nJoão Bassa – Membro ISA e Instrutor Certificado ISA/IEC 61511. \n\n\n\n\n\n\n\n\n\nRealização \n\n\n\n\n\n\n\n\n\n\n\n\n\n\n\n\n\n\n\n\n\n\n\n\n\n\n\n\n\n\n\n\n\n\n\n\n\n\n\n\n\n\n\n\n\nEvento Anterior: \n\n\n\n\n\nPróximo Evento:
URL:https://isasp.org.br/evento/webinar-isa-sp-programa-de-certificacao-em-sistemas-instrumentados-de-seguranca-isa-iec-61511/
LOCATION:Local: Online\, Ambiente Virtual
CATEGORIES:Encontro Técnico Virtual,Eventos Anteriores,Eventos ISA SP
ATTACH;FMTTYPE=image/png:https://isasp.org.br/wp-content/uploads/2024/03/cyberdestaque.png
END:VEVENT
BEGIN:VEVENT
DTSTART;TZID=America/Sao_Paulo:20260224T120000
DTEND;TZID=America/Sao_Paulo:20260224T130000
DTSTAMP:20260422T150105
CREATED:20260128T175346Z
LAST-MODIFIED:20260226T142926Z
UID:19032-1771934400-1771938000@isasp.org.br
SUMMARY:Webinar: Programa de Certificação em Segurança Cibernética ISA/IEC 62443
DESCRIPTION:A ISA São Paulo Section realizou no dia 24 de fevereiro de 2026\, das 12h às 13h\, um webinar sobre o Programa de Certificação em Segurança Cibernética da ISA\, baseado na Norma ISA/IEC 62443. Além disso\, apresentou as datas dos cursos programados para 2026. \nEsse programa aborda todo o ciclo de vida dos sistemas de automação e controle industrial (IACS) — desde a avaliação e projeto até a manutenção — e é ideal para profissionais de segurança de sistemas de controle e TI que desejam aprimorar seus conhecimentos em segurança cibernética industrial. \nEstrutura do Programa: \n– IC32V – Usando as Normas ISA/IEC 62443 para proteger seus Sistemas de Controle– IC33V – Avaliando a Cibersegurança de Sistemas IACS Novos ou Existentes– IC34V – Projeto e Implementação de Cibersegurança em IACS– IC37V – Operação e Manutenção de Cibersegurança em IACS \nA aprovação em todos os cursos resulta na obtenção do Certificado ISA/IEC 62443 Cybersecurity Expert. \nO evento foi conduzido por Ana Cristina Rodrigues\, Diretora Técnica da ISA São Paulo Section.  \nTivemos também a participação especial dos instrutores oficiais do Programa no Brasil: Erik Maran\, Felipe Costa e Guilherme Neves. \nGaranta sua certificação internacional para atuar em um mercado de segurança cibernética com alta demanda por profissionais qualificados! \nVeja abaixo a gravação do evento\, que também está em nosso canal no YouTube. \nMembros da ISA podem acessar gratuitamente o material apresentado no evento. Clique aqui para visualizar no ISA Connect. \n\n\n\n\n\n\n\n\n\n\n\n\n\n\n\n\nInstrutores \n\n\n\n\n\n\n\n\n\n\n\n\n\n\n\nErik Maran – Membro ISA e Instrutor Certificado ISA/IEC 62443. \n\n\n\n\n\n\n\n\n\n\n\n\n\n\n\n\n\nFelipe Costa – Membro ISA e Instrutor Certificado ISA/IEC 62443. \n\n\n\n\n\n\n\n\n\n\n\n\n\n\n\n\n\nGuilherme Neves – Membro ISA e Instrutor Certificado ISA/IEC 62443. \n\n\n\n\n\n\n\n\n\nRealização \n\n\n\n\n\n\n\n\n\n\n\n\n\n\n\n\n\n\n\n\n\n\n\n\n\n\n\n\n\n\n\n\n\n\n\n\n\n\n\n\n\n\n\n\n\nEvento Anterior: \n\n\n\n\n\nPróximo Evento:
URL:https://isasp.org.br/evento/webinar-isa-sp-programa-de-certificacao-em-seguranca-cibernetica-isa-iec-62443/
LOCATION:Local: Online\, Ambiente Virtual
CATEGORIES:Encontro Técnico Virtual,Eventos Anteriores,Eventos ISA SP
ATTACH;FMTTYPE=image/jpeg:https://isasp.org.br/wp-content/uploads/2026/01/icone-ciber-2026-2.jpg
END:VEVENT
BEGIN:VEVENT
DTSTART;TZID=America/Sao_Paulo:20260226T100000
DTEND;TZID=America/Sao_Paulo:20260226T110000
DTSTAMP:20260422T150105
CREATED:20260128T193557Z
LAST-MODIFIED:20260323T133918Z
UID:19047-1772100000-1772103600@isasp.org.br
SUMMARY:Encontro com Especialista: O Futuro das Tomadas de Decisões da IA baseados em Dados Coletados por Gateways e Computação Industrial
DESCRIPTION:A ISA São Paulo Section realizou no dia 26 de fevereiro de 2026\, das 10h às 11h\, uma edição de nosso evento virtual\, Encontro com Especialista\, que teve como tema “O Futuro das Tomadas de Decisões da IA baseados em Dados Coletados por Gateways e Computação Industrial“. \nO evento destacou o papel estratégico dos gateways industriais e do PC industrial como elementos centrais na coleta\, no tratamento e na análise de dados diretamente no chão de fábrica. Foram apresentados\, de forma prática\, os caminhos para viabilizar a aplicação de inteligência artificial em tempo real\, integrando máquinas e sensores para otimização de processos\, aumento da eficiência operacional e previsão de falhas. \nTambém foi abordado o impacto da computação de borda na redução da latência\, no fortalecimento da segurança cibernética e na tomada de decisões mais ágeis. Uma oportunidade única para compreender como essas tecnologias irão impulsionar a transformação digital e moldar o futuro da indústria. \nRepresentando a Baumier Automation\, contamos com a participação de Eduardo Lima\, Especialista em Comunicação Industrial e Julio Garcia\, Especialista em PCs Industriais\, como palestrantes convidados.  \nCarlos Gury\, Diretor Técnico da ISA São Paulo Section\, foi o responsável pela condução do evento.  \nVeja abaixo a gravação do evento\, que também está em nosso canal no YouTube. \nQuer ouvir a versão em podcast? Acesse aqui. \nMembros da ISA podem acessar gratuitamente o material apresentado no evento. Clique aqui para visualizar no ISA Connect. \n\n\n\n\n\n\n\n\n\n\n\n\n\n\n\n\nPalestrantes Convidados \n\n\n\n\n\n\n\n\n\n\n\n\n\n\n\nEduardo Lima – Especialista em Comunicação Industrial na Baumier Automation\, é Engenheiro Eletrônico pela UNIFEI\, com pós-graduação em Marketing pela ESPM. Possui ampla experiência em multinacionais\, atuando na gestão e no desenvolvimento de negócios. Atualmente\, integra a Baumier Automation na unidade dedicada a soluções de dados que impulsionam a Transformação Digital na indústria. \n\n\n\n\n\n\n\n\n\n\n\n\n\n\n\n\n\nJulio Garcia – Especialista em PCs Industriais na Baumier Automation. Profissional formado em Ciência de Dados pela Universidade Mackenzie\, possui mais de 25 anos de experiência na área\, com especialização em plataformas computacionais. Atua apoiando clientes na identificação e definição das soluções de hardware mais adequadas às necessidades e aos objetivos de seus projetos. \n\n\n\n\n\n\n\n\n\nRealização \n\n\n\n\n\n\n\n\n\n\n\n\n\n\n\n\n\n\n\n\n\n\n\n\n\n\n\n\n\nEvento Anterior: \n\n\n\n\n\nPróximo Evento:
URL:https://isasp.org.br/evento/encontro-com-especialista-o-futuro-das-tomadas-de-decisoes-da-ia-baseados-em-dados-coletados-por-gateways-e-computacao-industrial-fev-26/
LOCATION:Local: Online\, Ambiente Virtual
CATEGORIES:Encontro Técnico Virtual,Eventos Anteriores,Eventos ISA SP
ATTACH;FMTTYPE=image/png:https://isasp.org.br/wp-content/uploads/2026/01/icone-ee-2026.png
END:VEVENT
END:VCALENDAR