BEGIN:VCALENDAR
VERSION:2.0
PRODID:-//ISA São Paulo Section - ECPv6.15.20//NONSGML v1.0//EN
CALSCALE:GREGORIAN
METHOD:PUBLISH
X-ORIGINAL-URL:https://isasp.org.br
X-WR-CALDESC:Eventos para ISA São Paulo Section
REFRESH-INTERVAL;VALUE=DURATION:PT1H
X-Robots-Tag:noindex
X-PUBLISHED-TTL:PT1H
BEGIN:VTIMEZONE
TZID:America/Sao_Paulo
BEGIN:STANDARD
TZOFFSETFROM:-0300
TZOFFSETTO:-0300
TZNAME:-03
DTSTART:20230101T000000
END:STANDARD
END:VTIMEZONE
BEGIN:VEVENT
DTSTART;TZID=America/Sao_Paulo:20240705T110000
DTEND;TZID=America/Sao_Paulo:20240705T120000
DTSTAMP:20260425T124151
CREATED:20240709T012537Z
LAST-MODIFIED:20250327T175032Z
UID:13670-1720177200-1720180800@isasp.org.br
SUMMARY:Webinar - Normas ISA em Foco - ISA-84 (IEC 61511): Sistemas Instrumentados de Segurança
DESCRIPTION:A ISA São Paulo Section realizou no dia 5 de julho de 2024\, das 11h às 12h\, o sexto webinar da série Normas ISA em Foco\, que teve como tema a Norma ISA-84 (IEC 61511): Sistemas Instrumentados de Segurança. \nNosso convidado foi Joao Bassa\, Consultor Sênior na MAHAM Serviços de Engenharia Consultiva. \nEle apresentou a origem e objetivo dos Sistemas Instrumentados de Segurança (SIS)\, através da descrição da Norma\, contemplando: matriz de risco\, análise de risco do processo\, identificação da funções instrumentadas de segurança (SIF)\, estabelecimento dos níveis de integridade das Seguranças (SIL)\, especificação dos equipamentos\, verificação da adequação das SIFs\, comissionamento e testes das SIFs e gerenciamento de mudanças e descomissionamento. \nA condução do evento foi de Cláudio Romero\, Diretor Técnico da ISA São Paulo Section. \nAbaixo você encontra o vídeo completo do evento\, que também está em nosso canal no YouTube. Clique aqui para se inscrever no canal e ative as notificações para não perder as novidades! \nQuer ouvir a versão em podcast? Acesse aqui. \nMembros da ISA podem acessar gratuitamente o material apresentado no evento. Clique aqui para visualizar no ISA Connect. \n\n\n\n\n\n\n\n\n\n\n\n\n\n\n\n\nConvidado \n\n\n\n\n\n\n\n\n\n\n\n\n\n\n\nJoao Bassa – Consultor Sênior na MAHAM Serviços de Engenharia Consultiva. Profissional graduado em Engenharia Elétrica pela UNICAMP (Universidade Estadual de Campinas) e Mestrado pela FGV (Fundação Getúlio Vargas)\, com especialização na Columbia University e Harvard University. Atuou nas comissões de Instrumentação do IBP (Instituto Brasileiro de Petróleo\, Gás e Biocombustíveis)\, ABIQUIM (Associação Brasileira da Indústria Química) e na instalação da ISA (International Society of Automation) no Brasil. Foi Vice-Presidente de Publicações da ISA Internacional. É professor do curso de Pós-Graduação “Engenharia de Processos com Ênfase em Projetos Industriais” do INSTITUTO MAUÁ DE TECNOLOGIA\, foi também professor de “Instrumentação e Controle de Processos” na Faculdade de Engenharia Química da UNICAMP. Conta com mais de 40 anos de experiência industrial\, sendo inicialmente Chefe de Setor Instrumentação e\, posteriormente\, Diretor de Engenharia para América Latina na RHODIA\, Gerente de Projetos na BRITISH PETROLEUM – Bio Fuels e Gerente de Projetos na CH2 MHILL. Desde o início de sua carreira mantém um constante foco no aprimoramento da segurança operacional da indústria. \n\n\n\n\n\n\n\n\n\nRealização \n\n\n\n\n\n\n\n\n\n\n\n\n\n\n\n\n\n\n\n\n\n\n\n\n\n\n\n\n\n\n\n\n\nEvento Anterior: \n\n\n\n\n\nPróximo Evento:
URL:https://isasp.org.br/evento/webinar-normas-isa-em-foco-isa84-iec-61511-sistemas-instrumentados-de-seguranca/
LOCATION:Local: Online\, Ambiente Virtual
CATEGORIES:Encontro Técnico Virtual,Eventos Anteriores,Eventos ISA SP
ATTACH;FMTTYPE=image/jpeg:https://isasp.org.br/wp-content/uploads/2024/02/284626911-scaled.jpg
END:VEVENT
END:VCALENDAR