BEGIN:VCALENDAR
VERSION:2.0
PRODID:-//ISA São Paulo Section - ECPv6.15.20//NONSGML v1.0//EN
CALSCALE:GREGORIAN
METHOD:PUBLISH
X-ORIGINAL-URL:https://isasp.org.br
X-WR-CALDESC:Eventos para ISA São Paulo Section
REFRESH-INTERVAL;VALUE=DURATION:PT1H
X-Robots-Tag:noindex
X-PUBLISHED-TTL:PT1H
BEGIN:VTIMEZONE
TZID:America/Sao_Paulo
BEGIN:STANDARD
TZOFFSETFROM:-0300
TZOFFSETTO:-0300
TZNAME:-03
DTSTART:20240101T000000
END:STANDARD
END:VTIMEZONE
BEGIN:VEVENT
DTSTART;TZID=America/Sao_Paulo:20250221T120000
DTEND;TZID=America/Sao_Paulo:20250221T130000
DTSTAMP:20260421T111420
CREATED:20250214T153816Z
LAST-MODIFIED:20250224T203213Z
UID:15246-1740139200-1740142800@isasp.org.br
SUMMARY:Webinar ISA Brasil - Programa de Certificação em Segurança Cibernética ISA/IEC 62443
DESCRIPTION:A ISA Brasil\, com o apoio de todas as suas Seções\, realizou\, no dia 21 de fevereiro de 2025\, das 12h às 13h\, um webinar sobre o Programa de Certificação em Segurança Cibernética da ISA\, baseado na Norma ISA/IEC 62443. Além disso\, apresentou as datas dos cursos programados para 2025. \nEsse programa aborda todo o ciclo de vida dos sistemas de automação e controle industrial (IACS) — desde a avaliação e projeto até a manutenção — e é ideal para profissionais de segurança de sistemas de controle e TI que desejam aprimorar seus conhecimentos em segurança cibernética industrial. \nEstrutura do Programa: \n– IC32V – Using the ISA/IEC 62443 Standards to Secure Your Control Systems (Certificado 1 – Cybersecurity Fundamentals Specialist)– IC33V – Assessing the Cybersecurity of New or Existing IACS Systems (Certificado 2 – Cybersecurity Risk Assessment Specialist)– IC34V – IACS Cybersecurity Design & Implementation (Certificado 3 – Cybersecurity Design Specialist)– IC37V – IACS Cybersecurity Operations & Maintenance (Certificado 4 – Cybersecurity Maintenance Specialist) \nA aprovação em todos os cursos resulta na obtenção do Certificado ISA/IEC 62443 Cybersecurity Expert. \nO evento foi conduzido por Ana Cristina Rodrigues\, Presidente da ISA Brasil\, Diretora Técnica da ISA São Paulo Section e Gerente de Negócios da HMS Networks no Brasil.  \nTivemos também a participação especial dos instrutores oficiais do Programa no Brasil: \n– Erik Maran – Diretor de Vendas na Westcon Redes e Conectividade Industrial– Felipe Costa – Gerente Sênior de Marketing de Produtos na Moxa Americas– Guilherme Neves – CIO/CISO na Doutornet Tecnologia \nAssista abaixo a gravação do evento. \nMembros da ISA podem acessar gratuitamente o material apresentado no evento. Clique aqui para visualizar no ISA Connect. \nGaranta sua certificação internacional para atuar em um mercado de segurança cibernética com alta demanda por profissionais qualificados! \n\n\n\n\n\n\n\n\n\n\n\n\n\n\n\n\nConvidados \n\n\n\n\n\n\n\n\n\n\n\n\n\n\n\nErik Maran – Diretor de Vendas na Westcon Redes e Conectividade Industrial. Profissional formado em Engenharia Elétrica\, com MBA Executivo pela Business School of São Paulo. Ampla experiência em automação industrial\, digitalização\, IIoT\, soluções wireless\, indústria 4.0 e conectividade OT/TI. Diretor Técnico da ISA São Paulo Section e instrutor oficial do Programa de Certificação em Segurança Cibernética ISA/IEC 62443. \n\n\n\n\n\n\n\n\n\n\n\n\n\n\n\n\n\nFelipe Costa – Diretor de Cibersegurança\, integrante do Comitê Internacional Estratégico de Cibersegurança e instrutor oficial de cibersegurança industrial ISA/IEC 62443\, nas organizações ISA e EC-Council. Também atua como Gerente Sênior de Marketing de Produtos na Moxa Americas\, supervisionando iniciativas de redes e cibersegurança nos EUA\, Canadá e LATAM. Com mais de 20 anos de experiência no setor industrial e mais de 30 certificações em cibersegurança — incluindo um Mestrado em Cibersegurança Industrial e Certificações CISA do Departamento de Segurança Interna dos EUA\, é um especialista reconhecido em automação\, cibersegurança e inteligência artificial. Compartilhou seu conhecimento em conferências globais em diversos continentes\, incluindo as duas últimas edições do Congresso de IA da NASA. \n\n\n\n\n\n\n\n\n\n\n\n\n\n\n\n\n\nGuilherme Neves – CIO/CISO na Doutornet Tecnologia. Graduado em Redes de Computadores\, possui Pós-Graduação em Segurança da Informação\, é Mestre em Informática e Doutorando em Engenharia de Defesa. Pesquisador do LaSC IME\, também exerce a função de Diretor de Cybersegurança na ISA Rio de Janeiro Section e na ISA Internacional. Além disso\, é membro do comitê da Norma IEC 62443\, professor\, autor de livros sobre segurança cibernética e instrutor oficial do Programa de Certificação em Segurança Cibernética ISA/IEC 62443. \n\n\n\n\n\n\n\n\n\nApoio \n\n\n\n\n\n\n\n\n\n\n\n\n\n\n\n\n\n\n\n\n\n\n\n\n\n\n\n\n\n\n\n\n\n\n\n\n\n\n\n\n\n\n\n\n\n\n\n\n\n\n\n\n\n\n\n\n\n\n\n\n\n\n\n\n\n\n\n\n\n\n\n\n\n\n\n\n\n\n\n\n\n\n\n\n\n\n\n\n\n\n\n\n\n\n\nEvento Anterior: \n\n\n\n\n\nPróximo Evento:
URL:https://isasp.org.br/evento/webinar-programa-seguranca-cibernetica-isa-iec-62443-fev-25/
LOCATION:Local: Online\, Ambiente Virtual
CATEGORIES:Encontro Técnico Virtual,Eventos Anteriores,Eventos ISA SP
ATTACH;FMTTYPE=image/png:https://isasp.org.br/wp-content/uploads/2024/03/cyberdestaque.png
END:VEVENT
END:VCALENDAR