BEGIN:VCALENDAR
VERSION:2.0
PRODID:-//ISA São Paulo Section - ECPv6.15.20//NONSGML v1.0//EN
CALSCALE:GREGORIAN
METHOD:PUBLISH
X-ORIGINAL-URL:https://isasp.org.br
X-WR-CALDESC:Eventos para ISA São Paulo Section
REFRESH-INTERVAL;VALUE=DURATION:PT1H
X-Robots-Tag:noindex
X-PUBLISHED-TTL:PT1H
BEGIN:VTIMEZONE
TZID:America/Sao_Paulo
BEGIN:STANDARD
TZOFFSETFROM:-0300
TZOFFSETTO:-0300
TZNAME:-03
DTSTART:20230101T000000
END:STANDARD
END:VTIMEZONE
BEGIN:VEVENT
DTSTART;TZID=America/Sao_Paulo:20240802T110000
DTEND;TZID=America/Sao_Paulo:20240802T120000
DTSTAMP:20260425T123936
CREATED:20240725T015355Z
LAST-MODIFIED:20250327T155701Z
UID:13826-1722596400-1722600000@isasp.org.br
SUMMARY:Webinar - Normas ISA em Foco - ISA-95 (IEC 62264): Integração entre Sistemas de Controle e Corporativos
DESCRIPTION:A ISA São Paulo Section realizou no dia 2 de agosto de 2024\, das 11h às 12h\, o sétimo webinar da série Normas ISA em Foco\, que teve como tema a Norma ISA-95 (IEC 62264): Integração entre Sistemas de Controle e Corporativos\, que serviu de base para os desenvolvedores dos softwares de gestão da execução da manufatura (MES)\, orientando como realizar as interfaces entre chão de fábrica e sistemas corporativos de demanda de produção. \nNosso convidado foi Luiz Roberto Egreja\, Senior Client Executive na Dassault Systèmes. \nNo evento\, ele falou dos aspectos fundamentais da Norma ISA-95\, começando com seu histórico. Desenvolvida pela International Society of Automation (ISA)\, essa Norma surgiu para padronizar a integração de sistemas de manufatura e controle\, promovendo uma comunicação eficiente e alinhando processos empresariais. \nTrouxe uma visão geral da Norma e abordou também sua importância e seu impacto\, destacando a redução de custos operacionais\, a melhora da qualidade dos produtos e o aumento da eficiência dos processos\, facilitando a comunicação e colaboração entre diferentes sistemas e fornecedores. \nApresentou também as tendências futuras\, especialmente com a ascensão da Indústria 4.0 e da Internet das Coisas (IoT). Essa Norma é crucial na integração de tecnologias emergentes\, como inteligência artificial e big data\, desempenhando um papel vital na construção de fábricas inteligentes e sustentáveis. \nA condução do evento foi de Cláudio Romero\, Diretor Técnico da ISA São Paulo Section. \nAbaixo você encontra o vídeo completo do evento\, que também está em nosso canal no YouTube. Clique aqui para se inscrever no canal e ative as notificações para não perder as novidades!  \nQuer ouvir a versão em podcast? Acesse aqui. \nMembros da ISA podem acessar gratuitamente o material apresentado no evento. Clique aqui para visualizar no ISA Connect. \n\n\n\n\n\n\n\n\n\n\n\n\n\n\n\n\nConvidado \n\n\n\n\n\n\n\n\n\n\n\n\n\n\n\nLuiz Roberto Egreja – Senior Client Executive na Dassault Systèmes. Responsável pelos processos de Transformação Digital de Operações Industriais e pelas soluções de Indústria 4.0 na América Latina. Seus trabalhos anteriores incluem Software Business Manager para América Latina\, Gerente de Marketing e Gerente de Serviços Profissionais. É formado em Engenharia Elétrica pela EFEI\, com MBA em Gestão do Conhecimento\, Tecnologia e Inovação pela FIA/USP. Tem grande experiência em Automação Industrial e Tecnologia da Informação aplicados a indústrias dos mais diversos segmentos. É professor convidado da disciplina Gestão Digital do Chão de Fábrica no Curso de Pós-Graduação Lato Sensu em PLM & Manufatura Digital para Engenharia e Produção 4.0 do Instituo Mauá de Tecnologia. \n\n\n\n\n\n\n\n\n\nRealização \n\n\n\n\n\n\n\n\n\n\n\n\n\n\n\n\n\n\n\n\n\n\n\n\n\n\n\n\n\nEvento Anterior: \n\n\n\n\n\nPróximo Evento:
URL:https://isasp.org.br/evento/webinar-normas-isa-em-foco-isa-95-iec-62264-integracao-entre-sistemas-de-controle-e-corporativos/
LOCATION:Local: Online\, Ambiente Virtual
CATEGORIES:Encontro Técnico Virtual,Eventos Anteriores,Eventos ISA SP
ATTACH;FMTTYPE=image/jpeg:https://isasp.org.br/wp-content/uploads/2024/02/284626911-scaled.jpg
END:VEVENT
END:VCALENDAR