BEGIN:VCALENDAR
VERSION:2.0
PRODID:-//ISA São Paulo Section - ECPv6.15.20//NONSGML v1.0//EN
CALSCALE:GREGORIAN
METHOD:PUBLISH
X-ORIGINAL-URL:https://isasp.org.br
X-WR-CALDESC:Eventos para ISA São Paulo Section
REFRESH-INTERVAL;VALUE=DURATION:PT1H
X-Robots-Tag:noindex
X-PUBLISHED-TTL:PT1H
BEGIN:VTIMEZONE
TZID:America/Sao_Paulo
BEGIN:STANDARD
TZOFFSETFROM:-0300
TZOFFSETTO:-0300
TZNAME:-03
DTSTART:20250101T000000
END:STANDARD
END:VTIMEZONE
BEGIN:VEVENT
DTSTART;TZID=America/Sao_Paulo:20260609T080000
DTEND;TZID=America/Sao_Paulo:20260609T180000
DTSTAMP:20260424T125531
CREATED:20260113T190620Z
LAST-MODIFIED:20260423T182209Z
UID:18982-1780992000-1781028000@isasp.org.br
SUMMARY:Simpósio ISA São Paulo Section: Automação em Bioenergia
DESCRIPTION:Simpósio ISA São Paulo Section: Automação em Bioenergia 2026 \n📅 09 de junho de 2026 – das 8h às 18h📍 SENAI – SertãozinhoObservação: O local não possui estacionamento. Recomendamos o uso de transporte público\, táxi ou aplicativos de mobilidade. \nO principal encontro técnico sobre bioenergia\, reunindo especialistas\, gestores e fornecedores para debater tendências\, inovações tecnológicas e os desafios do setor. \n🎯 Programação com palestras\, mesas-redondas e exposição de empresas.🤝 Networking qualificado e oportunidades de colaboração.🏭 Visita técnica às instalações do SENAI Sertãozinho\, incluindo a UPPE – Unidade Piloto de Produção de Etanol\, que simula a produção industrial de etanol\, focada na capacitação técnica para o setor de bioenergia\, incluindo controle de automação e fermentação.  \n\n\n\n\n\n\n\nUnidade Piloto de Produção de Etanol (UPPE) – SENAI Sertãozinho\n\n\n\nUnidade Piloto de Produção de Etanol (UPPE) – SENAI Sertãozinho\n\n\n\nUnidade Piloto de Produção de Etanol (UPPE) – SENAI Sertãozinho\n\n\n\n\n\n\n\n\nProgramação \n\n\n\n\n\n\nProgramação sujeita a alteração. \n\n\n\n\n\n\n08h00Credenciamento e café de boas-vindas (área de exposição)09h00Abertura Oficial: Desafios e Oportunidades da Automação na BioenergiaErik Maran\, ISA São Paulo Section Rafael Cunha\, SENAI Sertãozinho09h15Mesa Redonda: Novas Tecnologias e Iniciativas na Automação e ControleMaurício Arakaki (moderador)Cristiano Azeredo\, AtvosLuiz Fernando Ferreira de Morais\, NardiniMárcio Venturelli\, SENAI10h15Palestra: Como usar OPAS na Automação dos Processos na UsinaLibanio Carlos de Souza\, Nova Smar11h00Palestra: Dá para proteger sem parar? A Segurança na Realidade da OTJulio Garcia\, Baumier Automation11h45Palestra: a confirmarWestcon12h30Almoço (área de exposição) / Visita Técnica – UPPE – Unidade Piloto de Produção de Etanol – SENAI Sertãozinho14h00Palestra: Automação de Processos Fermentativos e Ganhos de EficiênciaJaime Finguerut\, Instituto de Tecnologia Canavieira (ITC)14h45Palestra: Avanços da Instrumentação Analítica aplicada ao Controle de Bioprocessos Fermentativos em Usinas de Açúcar e EtanolDigitrol15h30Palestra: a confirmarAUTPRO16h15Palestra: a confirmarWirebus17h00Mesa Redonda: Controle Operacional de ExcelênciaModeradorAndré Lins\, Consultor EspecialistaGuilherme Fraga\, Grupo São MartinhoMárcio Venturelli\, SENAI\n\n\n\n\n\n\n\nPalestrantes \n\n\n\n\n\n\n\n\n\n\n\n\n\n\n\nAndré Lins – Consultor Especialista. Doutor em Engenharia pela USP\, foi pesquisador convidado na Universidade de Ciências Aplicadas de Lucerna (Suíça). Há quase duas décadas\, lidera iniciativas de transformação digital\, gêmeos digitais\, inteligência artificial e controle avançado de processos\, impactando diretamente a eficiência e a sustentabilidade de algumas das maiores usinas do Brasil. É referência na aplicação de tecnologias avançadas voltadas ao setor sucroenergético\, conectando estratégia\, inovação e resultados operacionais. \n\n\n\n\n\n\n\n\n\n\n\n\n\n\n\n\n\nCristiano Azeredo – Diretor Corporativo Industrial do Grupo Atvos. Engenheiro Químico formado pela UFRRJ\, com especializações em Gestão de Agronegócio pelo Insper\, MBA em Gestão Empresarial pela Fundação Getulio Vargas (FGV)\, Gestão em Tecnologia Industrial no Setor Sucroalcooleiro pela Universidade de São Paulo (USP/ESALQ) e Gestão Ambiental pela Universidade Estadual de Maringá. Profissional com mais de 25 anos de experiência na gestão industrial do setor sucroenergético\, com atuação em otimização de processos\, projetos de expansão e liderança de plantas em grupos como Usina São Manoel\, Odebrecht e Atvos. Atualmente lidera iniciativas de Indústria 4.0 voltadas ao aumento de performance e confiabilidade operacional. \n\n\n\n\n\n\n\n\n\n\n\n\n\n\n\n\n\nErik Maran – Presidente da ISA São Paulo Section (biênio 2026-2027) e Diretor de Vendas na Westcon Redes e Conectividade Industrial. Engenheiro Eletricista\, com MBA Executivo pela Business School São Paulo\, possui ampla experiência em automação industrial\, digitalização\, IIoT\, soluções wireless\, Indústria 4.0 e integração OT/TI. Atua também como Diretor Técnico da ISA São Paulo Section e instrutor oficial da ISA EUA para o Programa de Certificação Profissional em Segurança Cibernética conforme a norma ISA/IEC 62443. \n\n\n\n\n\n\n\n\n\n\n\n\n\n\n\n\n\nGuilherme Fraga – Especialista em Automação e Tecnologia no Grupo São Martinho. Profissional graduado em Engenharia de Controle e Automação pelo Instituto Federal de São Paulo\, com MBA em Gestão de Projetos e em Negócios Inteligentes e Indústria 4.0. Especialista em Processos Industriais\, possui sólida experiência na liderança de iniciativas voltadas à Indústria 4.0 e na condução de processos de transformação digital em ambientes industriais. Atualmente\, conduz projetos de inovação com foco em controle de processos e automação\, com especialidade na integração de tecnologias avançadas para o aumento da eficiência operacional e da produtividade. \n\n\n\n\n\n\n\n\n\n\n\n\n\n\n\n\n\nJaime Finguerut – Diretor do Instituto de Tecnologia Canavieira (ITC). Engenheiro Químico\, com pós-graduação em Bioprocessos pela Escola Politécnica da USP\, possui ampla experiência no setor sucroenergético\, com artigos publicados em revistas internacionais e patentes na área. Atua há mais de 45 anos na otimização do processamento de cana-de-açúcar em usinas e destilarias\, com foco na fermentação industrial\, tendo liderado equipes de P&D e Assistência Técnica no Centro de Tecnologia Copersucar e no Centro de Tecnologia Canavieira. Atualmente\, no ITC em Piracicaba\, desenvolve e implementa sistemas para aumento da eficiência industrial com uso de sensores analíticos avançados (NIR on-line) e técnicas de Aprendizado de Máquina aplicadas ao Controle Avançado de Processos. \n\n\n\n\n\n\n\n\n\n\n\n\n\n\n\n\n\nJulio Garcia – Coordenador de Engenharia e responsável pela unidade de negócios de computadores industriais na Baumier Automation. Profissional formado em Ciência de Dados pela Universidade Mackenzie\, possui mais de 25 anos de experiência na área\, com especialização em plataformas computacionais aplicadas ao ambiente industrial. Atua no suporte técnico e consultivo aos clientes\, auxiliando na identificação das soluções de hardware mais adequadas para cada projeto.  \n\n\n\n\n\n\n\n\n\n\n\n\n\n\n\n\n\nLibanio Carlos de Souza – Diretor Presidente da Nova Smar. Engenheiro Eletrônico\, turma de 1985\, pelo ITA (Instituto Tecnológico Aeronáutico). Vice-presidente do CEISE Br – Centro Nacional das Indústrias do Setor Sucroenergético e de Biocombustíveis. Trabalhou na padronização do Fieldbus representando o Brasil no IIEC. Participou da definição\, validação e divulgação do protocolo Fieldbus Foundation. Participa do Open Process Automation Forum do The Open Group para definir o padrão O-PAS. \n\n\n\n\n\n\n\n\n\n\n\n\n\n\n\n\n\nLuiz Fernando Ferreira de Morais – Gerente de Engenharia de Manutenção e Novos Negócios na Nardini Agroindustrial\, com atuação corporativa focada em gestão de ativos e evolução tecnológica. Engenheiro de Produção Mecânica formado pela Universidade Paulista (UNIP)\, possui MBA em Engenharia de Manutenção e Gestão de Ativos pela Universidade Camilo Castelo Branco\, em parceria com a ABRAMAN. Com cerca de 20 anos de experiência no setor sucroenergético\, construiu sólida trajetória na liderança de projetos industriais\, incluindo implantações greenfield e construção de fábricas de açúcar. Foi membro do ABNT/CEE-251\, comitê responsável pelos estudos da ISO 55000 no Brasil\, contribuindo para o desenvolvimento e disseminação das melhores práticas de gestão de ativos no país. \n\n\n\n\n\n\n\n\n\n\n\n\n\n\n\n\n\nMárcio Venturelli – Coordenador de Tecnologia do Instituto SENAI de Tecnologia (Sertãozinho – Bioenergia). Atua há 30 anos no mercado de Automação Industrial\, com foco em Inovação\, Digitalização e Indústria 4.0. É Consultor em Automação e Digitalização Industrial\, especialista em plantas de Bioenergia e professor de Graduação e Pós-Graduação. Possui ampla experiência em projetos e implantação de sistemas de controle no Brasil e no exterior\, além de desenvolver pesquisa aplicada em Indústria 4.0. É graduado em Ciência da Computação\, com especialização em Controle e Automação Industrial\, e pós-graduações em Ciência de Dados\, Gestão Industrial e Tecnologia do Petróleo e Gás\, além de MBA em Estratégia de Negócios. Atuou como diretor de tecnologia da ISA e da PI\, membro do IBP e coordenador setorial do CEISE Br. \n\n\n\n\n\n\n\n\n\n\n\n\n\n\n\n\n\nMauricio Arakaki – Gerente de Projetos na Promon Engenharia. É Engenheiro Químico formado pela USP\, com Especialização em Engenharia de Processos para a Indústria Química pelo IPEA e MBA em Gestão de Negócios pela USP/ESALQ. Possui mais de 20 anos de experiência em projetos industriais\, atuando nas fases conceitual\, básica e de detalhamento\, em contratos dos tipos E\, EPC\, EPCM e EVTE. Ao longo de sua trajetória\, desempenhou funções como engenheiro de processos\, supervisor de processos\, responsável por comissionamento\, coordenador de engenharia\, líder da disciplina de Processos e gerente de projetos\, com sólida atuação na gestão integrada de empreendimentos. \n\n\n\n\n\n\n\n\n\n\n\n\n\n\n\n\n\nRafael Cunha – Diretor do SENAI de Sertãozinho/SP. Graduado em Produção Industrial\, com Pós-Graduação em Finanças pela USP e em Gestão e Liderança pela Fundação Dom Cabral. Profissional com 23 anos de experiência em manutenção industrial\, com sólida atuação no setor de bioenergia\, destacando-se pela condução de equipes\, otimização de processos e foco em resultados operacionais sustentáveis. \n\n\n\n\n\n\n\n\n\nComitê Técnico \n\n\n\n\n\n\nOs membros do comitê técnico do Simpósio de Automação em Bioenergia têm um papel estratégico na organização do evento\, contribuindo de diversas formas\, incluindo: \n– Definição de temas\, com foco em inovação e tendências na automação industrial.– Indicação de palestrantes e convidados\, especialistas e profissionais do setor\, que enriquecem o evento com insights relevantes.– Curadoria de conteúdos\, garantindo a qualidade e o alinhamento com os objetivos do evento.– Indicação de casos de sucesso\, experiências bem-sucedidas na implementação de tecnologias para serem compartilhadas.– Apoio à programação do evento\, na estruturação de mesas-redondas\, painéis e debates\, assegurando um conteúdo dinâmico e informativo. \n\n\n\n\n\n\n\n\n\n\n\n\nAlan FayadGerente de TI na Usina Santa Terezinha \n\n\n\n\n\n\n\n\n\nAna Cristina RodriguesDiretora Técnica da ISA São Paulo Section \n\n\n\n\n\n\n\n\n\nCarlos GuryDiretor Técnico da ISA São Paulo Section \n\n\n\n\n\n\n\n\n\nCarlos PaiolaDiretor Técnico da ISA São Paulo Section \n\n\n\n\n\n\n\n\n\n\n\n\n\n\n\nErik MaranPresidente da ISA São Paulo Section \n\n\n\n\n\n\n\n\n\nFabiano LourençoGerente de Comissionamento – Projetos Renováveis E2G na Raízen \n\n\n\n\n\n\n\n\n\nMárcio VenturelliCoordenador de Tecnologia do Instituto SENAI de Tecnologia (Sertãozinho – Bioenergia) \n\n\n\n\n\n\n\n\n\nMauricio ArakakiGerente de Projetos na Promon Engenharia \n\n\n\n\n\n\n\n\n\nPatrocinadoras \n\n\n\n\n\n\n\n\n\n\n\n\n\n\n\n\n\n\n\n\n\n\n\n\n\n\n\n\n\n\n\n\n\n\n\n\n\n\n\n\n\n\n\n\n\n\n\n\n\n\n\n\n\n\n\n\n\n\n\n\n\n\n\n\n\n\n\n\n\n\n\n\n\nRealização \n\n\n\n\n\n\n\n\n\n\n\n\n\n\n\n\n\n\n\nApoio \n\n\n\n\n\n\n\n\n\n\n\n\n\n\n\n\n\n\n\n\n\n\n\n\n\n\n\n\n\n\n\n\n\n\n\n\n\n\n\n\n\n\n\n\n\nEvento Anterior: \n\n\n\n\n\nPróximo Evento:
URL:https://isasp.org.br/evento/simposio-de-automacao-em-bioenergia/
LOCATION:Local: SENAI – Sertãozinho\, Av. Fioravante Magro\, 230\, Sertãozinho\, SP\, 14177-340\, Brazil
CATEGORIES:Encontro Técnico,Eventos Anteriores,Eventos ISA SP
ATTACH;FMTTYPE=image/jpeg:https://isasp.org.br/wp-content/uploads/2026/01/MainSimpBioenergia-2026.jpeg
END:VEVENT
END:VCALENDAR