BEGIN:VCALENDAR
VERSION:2.0
PRODID:-//ISA São Paulo Section - ECPv6.15.20//NONSGML v1.0//EN
CALSCALE:GREGORIAN
METHOD:PUBLISH
X-WR-CALNAME:ISA São Paulo Section
X-ORIGINAL-URL:https://isasp.org.br
X-WR-CALDESC:Eventos para ISA São Paulo Section
REFRESH-INTERVAL;VALUE=DURATION:PT1H
X-Robots-Tag:noindex
X-PUBLISHED-TTL:PT1H
BEGIN:VTIMEZONE
TZID:America/Sao_Paulo
BEGIN:STANDARD
TZOFFSETFROM:-0300
TZOFFSETTO:-0300
TZNAME:-03
DTSTART:20240101T000000
END:STANDARD
END:VTIMEZONE
BEGIN:VEVENT
DTSTART;TZID=America/Sao_Paulo:20250910T080000
DTEND;TZID=America/Sao_Paulo:20250911T173000
DTSTAMP:20260423T192155
CREATED:20250108T190221Z
LAST-MODIFIED:20250916T192254Z
UID:14783-1757491200-1757611800@isasp.org.br
SUMMARY:Simpósio ISA São Paulo Section: Automação em Saneamento
DESCRIPTION:Simpósio ISA São Paulo Section: Automação em Saneamento 2025 \n📅 10 e 11 de setembro de 2025📍 Espaço Vida – Sabesp (Av. Santos Dumont\, 555 – São Paulo/SP)Observação: O local não possui estacionamento. Recomendamos o uso de transporte público (metrô Armênia – Linha Azul)\, táxi ou aplicativos de mobilidade. \nO principal encontro técnico sobre automação no saneamento\, reunindo especialistas\, gestores e fornecedores para discutir tendências\, inovações e desafios do setor. Tivemos palestrantes da Sabesp\, Aegea\, Copasa\, Caesb\, Cagece\, SENAI\, além de fabricantes de tecnologia e empresas de engenharia. \n🎯 Programação com palestras\, mesas-redondas e exposição de empresas.🤝 Networking qualificado e oportunidades de colaboração. \nConfira as fotos do evento. \nMembros da ISA podem acessar gratuitamente o material apresentado no evento. Clique aqui para visualizar no ISA Connect. Ainda não é membro? Então aproveite e filie-se aqui agora! \n\n\n\n\n\n\nProgramação 1º dia – 10 de setembro de 2025 \n\n\n\n\n\n\n\n08h00Credenciamento e café de boas-vindas (área de exposição)09h00Abertura Erik Maran\, ISA São Paulo Section09h15Transformação da Sabesp Débora Pierini Longo\, SabespComo a Sabesp vem modernizando processos\, incorporando tecnologia e impulsionando a gestão inteligente da água.09h45Mesa Redonda – Implantação e Operação de Centros de Operação Integrados – Boas Práticas e Tendências do SetorRafael Porazza\, ISA São Paulo Section (moderador)Alexandre Diniz Marques\, CopasaAugusto Bezana\, SabespFelipe Bastos\, Aegea10h50Conectividade 4/5G e LTE PrivadoYuri Nogueira\, NovusComo redes privadas estão conectando pessoas\, ideias e tecnologias para transformar o saneamento e impulsionar a inovação digital.11h35Gêmeos Digitais no SaneamentoLuiz Roberto Galhardo Egreja\, Dassault SystèmesO impacto transformador dos Gêmeos Digitais no saneamento: de operações mais inteligentes a soluções sustentáveis para o futuro das cidades.12h15Almoço (área de exposição)13h45Automação baseada em IoT e os Benefícios na Eficiência Operacional de Sistemas de Abastecimento de Água da CageceLeonaldo da Silva Gomes\, CageceO poder da IoT em criar sistemas de água mais eficientes\, sustentáveis e conectados\, com ganhos reais para a gestão e para a sociedade.14h05Automação Inteligente no Saneamento: IA\, MQTT e Sparkplug B em AçãoKelvin Kamimura\, Westcon Redes e Conectividade IndustrialDado é vital para a continuidade do negócio\, a conectividade pavimenta seu fluxo ágil e a Inteligência impulsiona a competitividade.14h50ESA + IA: A Inovação que está garantindo a Confiabilidade das Bombas SubmersasGabriel Coimbra Carvalho\, 2NeuronO futuro da manutenção preditiva: IA e IIoT antecipando falhas e transformando a gestão de ativos em eficiência e inovação.15h30Coffee-break (área de exposição) 16h00Operação Humanamente Assistida de Cidades com Base em Inteligência ArtificialJoão Costal\, AlphatekTecnologia que transforma dados em decisões estratégicas\, garantindo segurança hídrica e eficiência no saneamento das cidades.16h45Boas Práticas de Testes em Automação Industrial: TAF\, TAC e TICMaycon Lopes Sabino\, ISA São Paulo SectionA importância da norma IEC 62381 em projetos de automação.17h05Contrato Global de Automação: Novo Padrão para Implantação de Projetos de Automação na SabespÉrico Soares Ascenção\, SabespUm novo padrão em automação capaz de integrar tecnologias\, reduzir custos e transformar a gestão de sistemas de água e esgoto.\n\n\n\n\n\n\n\nProgramação 2º dia – 11 de setembro de 2025 \n\n\n\n\n\n\n\n08h00Credenciamento e café de boas-vindas (área de exposição)09h15Mesa Redonda – Fator Humano e Capacitação Tecnológica: Chaves para a Inovação no SaneamentoMaycon Lopes Sabino\, ISA São Paulo Section (moderador)Marcos Felicio\, SabespRodrigo Vieira dos Santos\, SENAIAna Cristina Rodrigues\, ISA Distrito Brasil10h20Gestão de Ativos e Monitoramento Seguro de CLPs com Docker e VPNLeonardo dos Santos\, AltusTransformando o saneamento com soluções que elevam a eficiência operacional\, garantem confiança nos dados e preparam o setor para o futuro digital.11h05Da Medição ao Algoritmo: Como a Calibração garante Dados Confiáveis e transforma Medições em Resultados FinanceirosAndres Forghieri\, ConautDecisões seguras começam com dados confiáveis. A calibração consistente transforma medições em resultados reais.11h50BIM Estratégico no Saneamento: Transformação Digital e Marco RegulatórioKleber Tomazetti\, ForzyO BIM como catalisador de um futuro mais inteligente e sustentável no saneamento\, integrando inovação\, automação e eficiência.12h30Almoço (área de exposição)14h00Sistema de Automação Integrado de Água e EsgotosAndré Ricardo Brasileiro Vanderlei\, CaesbAutomação integrada para tornar a gestão de água e esgoto mais eficiente\, segura e inteligente.14h20Grandes Diâmetros e Mais de 100 anos de HistóriaGustavo Lindner Arakaki\, Águas do RioAutomação inteligente que moderniza válvulas centenárias e garante eficiência e confiabilidade no abastecimento do Rio de Janeiro.14h45MQTT – Alternativa de Comunicação para Automação e Monitoramento: Oriente e BastosJoel Coutinho de Souza\, SabespUma solução de comunicação que transforma a forma de automatizar e monitorar processos\, unindo tecnologia\, confiabilidade e desempenho.15h10Inovação no Controle de Pressão: Automação de Válvulas Redutoras de Pressão com Supervisão Remota utilizando um Gateway Industrial na SabespPedro Raphael de Souza Pedroso Bento\, SabespSupervisão remota e automação inteligente para otimizar o controle de pressão e garantir mais eficiência ao saneamento.15h35Monitoramento de Poços de Visita das Bacias de Esgotamento Sanitário – O Desafio TecnológicoCristien Gossi\, SabespDo consumo à comunicação\, soluções completas para poços de visita sem energia elétrica.\n\n\n\n\n\n\n\nPalestrantes \n\n\n\n\n\n\n\n\n\n\n\n\n\n\n\nAlexandre Diniz Marques – Engenheiro de Automação na Gerência de Desenvolvimento Tecnológico e Inovação (GNDI) na Copasa. Formado em Engenharia de Controle e Automação pela Universidade Federal de Itajubá\, Especialista em Engenharia de Internet das Coisas pela Faculdade Unyleya e atualmente Mestrando em Inovação Tecnológica e Propriedade Intelectual na UFMG. Atua no desenvolvimento e implementação de soluções de automação voltadas tanto para Sistemas de Abastecimento de Água\, quanto para Sistemas de Esgotamento Sanitário\, contribuindo para a modernização e eficiência operacional da companhia. Além disso\, coordena a Comissão Permanente de Gestão da Automação\, promovendo diretrizes estratégicas e integrando iniciativas de inovação tecnológica. \n\n\n\n\n\n\n\n\n\n\n\n\n\n\n\n\n\nAna Cristina Rodrigues – Gerente de Negócios da HMS Networks no Brasil e Presidente da ISA Distrito Brasil. Engenheira Química com Mestrado em Simulação e Controle Avançado de Processos. Atua há mais de 25 anos em diferentes fabricantes de hardware e software de automação industrial. Foi Presidente da ISA São Paulo Section no biênio 2016-2017 e\, atualmente\, faz parte da diretoria técnica da entidade. \n\n\n\n\n\n\n\n\n\n\n\n\n\n\n\n\n\nAndré Ricardo Brasileiro Vanderlei – Superintendente de Manutenção Industrial na Caesb. Engenheiro Eletricista e Advogado\, com especializações em Gestão Empresarial\, Automação Industrial e Direito Público. Atua há 34 anos na Caesb\, onde supervisiona e coordena a implantação de sistemas e equipamentos de controle e automação industrial. \n\n\n\n\n\n\n\n\n\n\n\n\n\n\n\n\n\nAndres Forghieri – Diretor Comercial na Conaut. Especialista em Saneamento\, com mais de 20 anos de experiência e trajetória em posições de liderança em empresas como IBM\, Toshiba\, Danfoss e Siemens. Referência em sistemas e soluções de medição de vazão\, atua na integração entre automação industrial e instrumentação para gerar dados confiáveis e apoiar decisões estratégicas. Reconhecido por desenvolver equipes de alta performance e impulsionar inovação com foco em resultados sustentáveis\, é também palestrante ativo e defensor da educação executiva e do compartilhamento de conhecimento. \n\n\n\n\n\n\n\n\n\n\n\n\n\n\n\n\n\nAugusto Bezana – Diretor de Desenvolvimento Operacional na Sabesp. Formado em Administração de Empresas pela FGV e pós-graduado em Marketing e Tecnologia da Informação pela FIA-USP. Possui sólida experiência em tecnologia\, com mais de 15 anos na IBM\, além de trajetória em gestão administrativo-financeira e governança corporativa em empresas públicas e privadas. Atuou como Diretor de Gestão Corporativa na Sabesp e como Diretor Administrativo-Financeiro na Prodesp\, liderando projetos estratégicos nas áreas financeira\, recursos humanos\, suprimentos\, facilities\, operações\, sistemas de informação\, jurídico e gestão patrimonial. \n\n\n\n\n\n\n\n\n\n\n\n\n\n\n\n\n\nCristien Gossi – Engenheiro do Departamento de Desenvolvimento Operacional e Automação na Sabesp. É Engenheiro Eletricista\, formado pela FEI\, com 28 anos de experiência. Atuou na Telefônica/Vivo no planejamento de expansão da Rede Externa e na gestão da Rede Determinística\, atendendo grandes clientes e órgãos governamentais. Na Sabesp\, integrou o Departamento de Manutenção e Automação\, apoiando unidades do interior e litoral\, além de ter participação integral no Projeto SiiS\, responsável pela especificação e implantação do módulo de manutenção do SAP. Atualmente\, exerce suas atividades no Departamento de Desenvolvimento Operacional e Automação. \n\n\n\n\n\n\n\n\n\n\n\n\n\n\n\n\n\nDébora Pierini Longo – Diretora Executiva de Operação e Manutenção na Sabesp. Engenheira Civil pela Universidade Paulista\, com MBA em Gestão Estratégica Socioambiental (FIA/FGV) e especialização em Parcerias Público-Privadas e Concessões (FESPSP)\, com módulo internacional na London School of Economics. Ingressou na Sabesp em 1995 como estagiária e construiu carreira em áreas como atendimento\, planejamento e gestão de operações\, ocupando cargos de liderança\, incluindo Superintendente das Unidades de Negócio Oeste e Norte. Atualmente\, como Diretora Executiva de Operação e Manutenção\, lidera ações para aprimorar a eficiência e a qualidade dos serviços da companhia. \n\n\n\n\n\n\n\n\n\n\n\n\n\n\n\n\n\nÉrico Soares Ascenção – Engenheiro de Automação da Diretoria Executiva de Operação e Manutenção na Sabesp. Engenheiro Mecatrônico\, com MBAs em Gestão de Projetos e Automação Industrial e pós-graduação em Automação de Processos de Saneamento. Possui mais de 14 anos de experiência em empresas de médio e grande porte nos segmentos de Saneamento Básico\, Energia Nuclear\, Cimento\, Óleo & Gás\, Mineração\, Químico e Petroquímico — sendo os últimos 9 anos dedicados à Sabesp. Ao longo da carreira\, atuou na gestão de projetos\, na fiscalização de contratos de implantação de sistemas de automação e telemetria e na manutenção de equipamentos eletromecânicos\, consolidando ampla expertise em engenharia e operações industriais. \n\n\n\n\n\n\n\n\n\n\n\n\n\n\n\n\n\nErik Maran – Presidente Eleito da ISA São Paulo Section (biênio 2026-2027) e Diretor de Vendas na Westcon Redes e Conectividade Industrial. Engenheiro Eletricista\, com MBA Executivo pela Business School São Paulo\, possui ampla experiência em automação industrial\, digitalização\, IIoT\, soluções wireless\, Indústria 4.0 e integração OT/TI. Atua também como Diretor Técnico da ISA São Paulo Section e instrutor oficial da ISA EUA para o Programa de Certificação Profissional em Segurança Cibernética conforme a norma ISA/IEC 62443. \n\n\n\n\n\n\n\n\n\n\n\n\n\n\n\n\n\nFelipe Bastos – Gerente de Automação na Aegea Saneamento. Engenheiro Mecânico com especialização em Automação\, pós-graduação em Engenharia de Confiabilidade pela PUC e em Gerenciamento de Produtos Digitais pela FIAP\, além de MBA em Gestão de Negócios pela USP. Conta com mais de 13 anos de experiência em saneamento e automação industrial. Atualmente\, na Aegea Saneamento\, lidera a implantação de sistemas supervisórios\, a gestão de ativos e projetos de telemetria e instrumentação\, com foco em eficiência operacional\, inovação e confiabilidade. \n\n\n\n\n\n\n\n\n\n\n\n\n\n\n\n\n\nGabriel Coimbra Carvalho – Cofundador e CEO da 2Neuron. É Engenheiro Mecânico com Especialização em Automação Industrial\, além de Pós-Graduação e Mestrado em Administração de Empresas. Combina sólida base técnica com visão estratégica\, acumulando ampla experiência em processamento de sinais\, inteligência artificial e gestão de grandes projetos industriais. À frente da 2Neuron — empresa reconhecida nacionalmente por suas tecnologias para manutenção preditiva e eficiência industrial — lidera equipes multidisciplinares no desenvolvimento de soluções inovadoras que unem hardware a análise avançada de dados\, gerando ganhos concretos de produtividade e confiabilidade em ambientes industriais. \n\n\n\n\n\n\n\n\n\n\n\n\n\n\n\n\n\nGustavo Lindner Arakaki – Coordenador de Automação e Controle na Águas do Rio. Engenheiro de Controle e Automação\, com pós-graduação em Engenharia de Manutenção Industrial\, atua há mais de 20 anos na transformação do setor de automação. Possui ampla experiência em sistemas SCADA\, instrumentação\, telemetria e integração de ativos. Na Águas do Rio\, lidera a área de Automação e conduz projetos estratégicos que aumentam a eficiência operacional\, como a implantação do sistema de macromedição para transferência de custódia e o controle inteligente de pressão nas redes de abastecimento. Reconhecido no setor de saneamento\, destaca-se por unir inovação tecnológica a soluções de alto impacto para a melhoria contínua dos serviços. \n\n\n\n\n\n\n\n\n\n\n\n\n\n\n\n\n\nJoão Costal –  CEO da Alphatek Engenharia. Formado em Engenharia Aeroespacial\, lidera projetos de grande porte em todo o Brasil\, com foco em eficiência operacional\, sustentabilidade e integração de tecnologias digitais como inteligência artificial e telemetria. Em sua trajetória\, liderou sistemas avançados de gestão de abastecimento\, a automação de válvulas históricas no Rio de Janeiro e iniciativas de transformação digital que unem inovação e impacto social. Reconhecido por sua visão estratégica\, conecta tecnologia à melhoria da qualidade de vida urbana. \n\n\n\n\n\n\n\n\n\n\n\n\n\n\n\n\n\nJoel Coutinho de Souza – Técnico Integrante da Equipe de Desenvolvimento Operacional e Automação da Sabesp (ODO). Tem sólida formação acadêmica e experiência em tecnologia e automação. Pós-graduado em Internet das Coisas (IoT)\, Sistemas de Telecomunicações\, Redes de Computadores e Administração de Servidores Linux. Graduado em Processamento de Dados\, com especialização em Automação de Sistemas de Saneamento pela USP\, e atualmente graduando em Engenharia Elétrica. Atua também como professor técnico no Centro Paula Souza\, ministrando disciplinas em Protocolos de Comunicação\, Sistemas Embarcados e IoT. Na Sabesp\, exerce o papel de focal point na Unidade de Negócio Baixo Paranapanema (OU)\, contribuindo ativamente para a expansão e consolidação dos projetos corporativos de automação. \n\n\n\n\n\n\n\n\n\n\n\n\n\n\n\n\n\nKelvin Kamimura – Gerente de Produto na Westcon Redes e Conectividade Industrial e Vice-Presidente da Associação PROFIBUS PROFINET Brasil. Técnico em Automação Industrial pelo SENAI e Engenheiro PROFINET certificado pela PROFIBUS & PROFINET International (PI). Bacharel em Administração pelo Centro Universitário SENAC\, pós-graduado em Marketing pela FAAP e atualmente pós-graduando em Cibersegurança para Automação Industrial pela PUC. Com 17 anos de atuação no mercado de automação\, redes industriais e IIoT\, reúne sólida experiência técnica e visão estratégica para impulsionar a transformação digital no setor industrial. \n\n\n\n\n\n\n\n\n\n\n\n\n\n\n\n\n\nKleber Tomazetti – Gerente de Gestão BIM na Forzy. Engenheiro Civil formado pelo Instituto Mauá de Tecnologia\, com especialização em Gestão de Sustentabilidade pela FGV e Mestrado em BIM pelo Zigurat Institute of Technology. Atuou na Promon Engenharia entre 2003 e 2014 na disciplina de Civil\, retornando em 2021 como Coordenador Técnico. No ano seguinte\, assumiu a função de Coordenador BIM\, liderando a equipe responsável pela implementação da metodologia. Ao longo de sua carreira\, participou de projetos conceituais\, básicos e detalhados em diferentes segmentos\, incluindo óleo e gás (offshore e onshore)\, mineração\, fertilizantes\, petroquímica e infraestrutura. Atualmente\, na Forzy\, conduz a implementação\, padronização e evolução das práticas de Modelagem da Informação\, impulsionando a transformação digital na engenharia. \n\n\n\n\n\n\n\n\n\n\n\n\n\n\n\n\n\nLeonaldo Gomes – Supervisor de Automação na Gerência de Manutenção Estratégica da Cagece\, onde atua desde 2002. Engenheiro Eletricista (UFC)\, especialista em Automação Industrial (Unifor) e mestre em Engenharia Elétrica com ênfase em Acionamentos Elétricos e Redes Neurais (UFC). Já elaborou mais de 180 projetos de instalações elétricas e de automação\, fiscalizou obras em sistemas de abastecimento e esgotamento no Ceará e coordenou o Laboratório Móvel de Hidráulica e Eficiência Energética. Hoje\, é responsável pela manutenção e implantação de sistemas de automação em todo o estado. \n\n\n\n\n\n\n\n\n\n\n\n\n\n\n\n\n\nLeonardo dos Santos – Consultor de Vendas\, também com experiência como Analista de Suporte Técnico e vendedor Interno na Altus. Mestre em Gestão e Informática do Conhecimento pela Universidade Nove de Julho (UNINOVE)\, Engenheiro Eletricista pela Universidade São Judas Tadeu e Pós-Graduado em Engenharia de Controle e Automação pela Universidade Anhanguera\, com especialização em redes industriais e processos. Iniciou sua trajetória técnica no SENAI “Roberto Simonsen”\, onde concluiu o Curso de Aprendizagem Industrial e o Técnico em Eletroeletrônica\, complementando sua formação com o Técnico em Mecatrônica pela ETEC Martin Luther King e o Tecnólogo em Eletrônica Industrial pelo SENAI Anchieta. Na Altus\, consolida sua experiência em soluções tecnológicas voltadas ao setor industrial\, integrando sólida formação acadêmica à prática profissional\, atuando no suporte técnico e no desenvolvimento de projetos inovadores. \n\n\n\n\n\n\n\n\n\n\n\n\n\n\n\n\n\nLuiz Roberto Galhardo Egreja – Executivo de Contas Sênior na Dassault Systèmes\, conduz processos de Transformação Digital de Operações Industriais e soluções de Indústria 4.0 para clientes na América Latina. Engenheiro Eletricista pela EFEI\, com MBA em Gestão do Conhecimento\, Tecnologia e Inovação pela FIA/USP\, possui ampla experiência em automação industrial\, TI e gestão de projetos\, tendo atuado como Software Business Manager para América Latina\, Gerente de Marketing e Gerente de Serviços Profissionais. Foi Diretor da ISA São Paulo Section e é professor convidado no Instituto Mauá de Tecnologia e na FEQ/UNICAMP\, ministrando disciplinas sobre manufatura digital e transformação digital na indústria. \n\n\n\n\n\n\n\n\n\n\n\n\n\n\n\n\n\nMarcos Felicio – Coordenador de Tecnologia Operacional na Sabesp. Mestre em Arquitetura de Sistemas pelo CESAMES\, com MBA em Gerenciamento de Projetos e Bacharelado em Sistemas de Informação pela FIAP. Possui mais de 30 anos de experiência em tecnologia\, atuando também como professor de graduação na FIAP\, nas disciplinas de Engenharia de Software e Business Model\, e no Instituto Israelita de Ensino e Pesquisa do Hospital Albert Einstein\, na disciplina de Infraestrutura Hospitalar. Atualmente\, contribui para o avanço tecnológico da Sabesp\, apoiando a missão de universalizar o acesso à água e ao esgoto para todas as famílias. \n\n\n\n\n\n\n\n\n\n\n\n\n\n\n\n\n\nMaycon Lopes Sabino – Diretor Técnico na ISA São Paulo Section. Profissional com mais de 15 anos de experiência em automação industrial\, atuando da engenharia elétrica e de instrumentação à gestão executiva de projetos complexos nos setores de saneamento\, energia\, alimentos e siderurgia. Experiência como Gerente Geral\, com responsabilidade sobre resultados financeiros\, performance operacional\, equipes e relacionamento estratégico. Especialista em integração de sistemas (CLP\, IHM\, DCS\, SCADA) e transformação digital\, com sólida atuação em gestão de projetos baseada em PMBOK\, SCRUM e modelos híbridos. \n\n\n\n\n\n\n\n\n\n\n\n\n\n\n\n\n\nPedro Raphael de Souza Pedroso Bento – Coordenador de Operação de Água na Unidade Operacional do Vale do Paraíba na Sabesp. Técnico em Automação e Engenheiro Eletricista formado pela Universidade Estadual de São Paulo – UNESP\, Pós-Graduado em Administração de Empresa pela FGV\, Especialista em Automação no Saneamento e com MBA em Gestão de Energia\, Eficiência Energética e Energias Renováveis pelo Programa de Educação Continuada da Escola Politécnica da USP. Atua na área de Saneamento há quase 10 anos com experiência nas áreas de manutenção eletromecânica\, automação\, distribuição de água e controle de sistemas de saneamento.  \n\n\n\n\n\n\n\n\n\n\n\n\n\n\n\n\n\n\nRafael Porazza – Diretor Técnico na ISA São Paulo Section e Gerente Comercial na Forzy. Profissional com MBA em Gerenciamento de Marketing pela ESPM e em Gestão de Negócios e Inteligência de Mercado pela Saint Paul. Atua desde 2017 em soluções de engenharia e automação industrial\, com passagem pela Pollux Automation e pela Accenture Industry X. Ao longo da carreira\, liderou projetos de robótica e veículos autônomos em âmbito continental\, com foco em inovação e resultados para as Américas. \n\n\n\n\n\n\n\n\n\n\n\n\n\n\n\n\n\n\nRodrigo Vieira dos Santos – Coordenador do Centro de Conectividade do SENAI-SP (Vila Mariana). Professor Doutor com graduação\, mestrado e doutorado em Telecomunicações\, com quase duas décadas de atuação em multinacionais como Siemens Ltda. e Nokia\, focado em comunicações sem fio\, móveis e sistemas ópticos. Por mais de 15 anos foi professor na Universidade Presbiteriana Mackenzie\, onde também coordenou o Curso de Engenharia Elétrica. Possui sólida experiência em administração acadêmica e empresarial\, planejamento estratégico\, análise de mercado e coordenação de pesquisa e desenvolvimento de soluções tecnológicas inovadoras. Atualmente\, no SENAI-SP\, dedica-se à disseminação de conceitos e aplicações de conectividade\, inteligência artificial\, redes de comunicação e cibersegurança\, atuando em múltiplos setores da indústria\, incluindo logística\, manufatura\, Indústria 4.0\, agro\, saúde\, utilities\, educação\, mobilidade e cidades inteligentes. \n\n\n\n\n\n\n\n\n\n\n\n\n\n\n\n\n\nYuri Nogueira – Coordenador de Verticais de Mercado – Gestão de Manufatura\, Refrigeração Conectada e Saneamento na Novus. Profissional com sólida experiência em atendimento humanizado\, focado no sucesso do cliente. Possui formação técnica em Automação Industrial\, graduação em Sistemas de Informação e MBAs em Big Data & Inteligência Competitiva e Marketing & Comunicação. Atuou em vendas\, renegociação\, suporte técnico\, treinamentos e pré-vendas\, acumulando 10 anos de experiência em Automação Industrial. Atualmente é Especialista de Mercado\, identificando clientes potenciais\, desenvolvendo novos mercados e oferecendo soluções personalizadas para maximizar resultados. \n\n\n\n\n\n\n\n\n\nComitê Técnico \n\n\n\n\n\n\nOs membros do comitê técnico do Simpósio de Automação em Saneamento tiveram um papel estratégico na organização do evento\, contribuindo de diversas formas\, incluindo: \n– Definição de temas\, com foco em inovação e tendências na automação industrial.– Indicação de palestrantes e convidados\, especialistas e profissionais do setor\, que enriqueceram o evento com insights relevantes.– Curadoria de conteúdos\, garantindo a qualidade e o alinhamento com os objetivos do evento.– Indicação de casos de sucesso\, experiências bem-sucedidas na implementação de tecnologias para serem compartilhadas.– Apoio à programação do evento\, na estruturação de mesas-redondas\, painéis e debates\, assegurando um conteúdo dinâmico e informativo. \n\n\n\n\n\n\n\n\n\n\n\n\nAna Cristina RodriguesDiretora Técnica da ISA São Paulo Section e Gerente de Negócios Brasil na HMS Networks \n\n\n\n\n\n\n\n\n\nAna Lúcia SalmeronGerente de Tecnologia Operacional (OT) na Sabesp \n\n\n\n\n\n\n\n\n\nAnderson SerodioEngenheiro na Sabesp \n\n\n\n\n\n\n\n\n\n\n\n\n\n\n\nCarlos GuryPresidente da ISA São Paulo Section e Gerente de Contas – Papel e Celulose na Honeywell \n\n\n\n\n\n\n\n\n\nCarlos PaiolaDiretor Técnico da ISA São Paulo Section e Chief Strategy Officer (CSO) na Aquarius Software \n\n\n\n\n\n\n\n\n\nÉrico AscençãoEngenheiro de Automação na Sabesp \n\n\n\n\n\n\n\n\n\n\n\n\n\n\n\nErik MaranDiretor Técnico da ISA São Paulo Section e Diretor de Vendas na Westcon Redes e Conectividade Industrial \n\n\n\n\n\n\n\n\n\nJames Galvane JuniorGerente do Departamento de Automação e Eficiência Operacional na Sabesp \n\n\n\n\n\n\n\n\n\nLuciana Teixeira CâmaraAnalista de Gestão na Sabesp \n\n\n\n\n\n\n\n\n\n\n\n\n\n\n\nMarcelo PereiraGestor de Sistemas Técnicos na Sabesp \n\n\n\n\n\n\n\n\n\nMarcos FelicioCoordenador de Tecnologia Operacional na Sabesp \n\n\n\n\n\n\n\n\n\nVitor LacerdaCoordenador de Tecnologia Operacional na Sabesp \n\n\n\n\n\n\n\n\n\nFotos \n\n\n\n\n\n\nAs fotos são de propriedade da ISA São Paulo Section. É vedada a reprodução\, cópia\, distribuição ou utilização sem autorização expressa. \n\n\n\n\n\nDestaques\n\n\n\n\n\n\n\n\n\n\n\n\n\n\n\n\n\n\n\n\n\n\n\n\n\n\n\n\n\n\n\n\n\n\n\n\n\n\n\n\n\n\n\n\n\n\n\n\n\n\n\n\n\n\n\n\n\n\n\n\n\n\n\n\n\n\n\n\n\n\n\n\n\n\n\n\n\n\n\n\n\n\n\n\n\n\n\n\n\n\n\n\n\n\n\n\n\n\n\n\n\n\n\n\n\n\n\n\n\n\n\n\n\n\n\n\n\n\n\n\n\n\n\n\n\n\n\n\n\n\n\n\n\n\n\n\n\n\n\n\n\n\n\n\n\n\n\n\n\n\n\n\n\n\n\n\n\n\n\n\n\n\n\n\n\n\n\n\n\n\n\n\n\n\n\n\n\n\n\n\n\n\n\n\n\n\n\n\n\n\n\n\n\n\n\n\n\n\n\n\n\n\n\n\n\n\n\n\n\n\n\n\n\n\n\n\n\n\n\n\n\n\n\n\n\n\n\n\n\n\n\n\n\n\n\n\n\n\n\n\n\n\n\n\n\n\n\n\n\n\n\n\n\n\n\n\n\n\n\n\n\n\n\n\n\n\n\n\n\n\n\n\n\n\n\n\n\n\n\n\n\n\n\n\n\n\n\n\n\n\n\n\n\n\n\n\n\n\n\n\n\n\n\n\n\n\n\n\n\n\n\n\n\n\n\n\n\n\n\n\n\n\n\n\n\n\n\n\n\n\n\n\n\n\n\n\n\n\n\n\n\n\n\n\n\n\n\n\n\n\n\n\n\n\n\n\n\n\n\n\n\n\n\n\n\n\n\n\n\n\n\n\n\n\n\n\n\n\n\n\n\n\n\n\n\n\n\n\n\n\n\n\n\n\n\n\n\n\n\n\n\n\n\n\n\n\n\n\n\n\n\n\n\n\n\n\n\n\n\n\n\n\n\n\n\n\n\n\n\n\n\n\n\n\n\n\n\n\n\n\n\n\n\n\n\n\n\n\n\n\n\n\n\n\n\n\n\n\n\n\n\n\n\n\n\n\n\n\n\n\n\n\n\n\n\n\n\n\n\n\n\n\n\n\n\n\n\n\n\n\n\n\n\n\n\n\n\n\n\n\n\n\n\n\n\n\n\n\n\n\n\n\n\n\n\n\n\n\n\n\n\n\n\n\n\n\n\n\n\n\n\n\n\n\n\n\n\n\n\n\n\n\n\n\n\n\n\n\n\n\n\nEmpresas Expositoras\n\n\n\n\n\n\n\n\n\n\n\n\n\n\n\n\n\n\n\n\n\n\n\n\n\n\n\n\n\n\n\n\n\n\n\n\n\n\n\n\n\n\n\n\n\n\n\n\n\n\n\n\n\n\n\n\n\n\n\n\n\n\n\n\n\n\n\n\n\n\n\n\n\n\n\n\n\n\n\n\n\n\n\n\n\n\n\n\n\n\n\n\n\n\n\n\n\n\n\n\n\n\n\n\n\n\n\nParticipantes em Foco\n\n\n\n\n\n\n\n\n\n\n\n\n\n\n\n\n\n\n\n\n\n\n\n\n\n\n\n\n\n\n\n\n\n\n\n\n\n\n\n\n\n\n\n\n\n\n\n\n\n\n\n\n\n\n\n\n\n\n\n\n\n\n\n\n\n\n\n\n\n\n\n\n\n\n\n\n\n\n\n\n\n\n\n\n\n\n\n\n\n\n\n\n\n\n\n\n\n\n\n\n\n\n\n\n\n\n\n\n\n\n\n\n\n\n\n\n\n\n\n\n\n\n\n\n\n\n\n\n\n\n\n\n\n\n\n\n\n\n\n\n\n\n\n\n\n\n\n\n\n\n\n\n\n\n\n\n\n\n\n\n\n\n\n\n\n\n\n\n\n\n\n\n\n\n\n\n\n\n\n\n\n\n\n\n\n\n\n\n\n\n\n\n\n\n\n\n\n\n\n\n\n\n\n\n\n\n\n\n\n\n\n\n\n\n\n\n\n\n\n\n\n\n\n\n\n\n\n\n\n\n\n\n\n\n\n\n\n\n\n\n\n\n\n\n\n\n\n\n\n\n\n\n\n\n\n\n\n\n\n\n\n\n\n\n\n\n\n\n\n\n\n\n\n\n\n\n\n\n\n\n\n\n\n\n\n\n\n\n\n\n\n\n\n\nPatrocinadoras \n\n\n\n\n\n\n\n\n\n\n\n\n\n\n\n\n\n\n\n\n\n\n\n\n\n\n\n\n\n\n\n\n\n\n\n\n\n\n\n\n\n\n\n\n\n\n\n\n\n\n\n\n\n\n\n\n\n\n\n\n\n\n\n\n\n\n\n\n\n\n\n\n\n\n\n\n\n\n\nRealização \n\n\n\n\n\n\n\n\n\n\n\n\n\n\n\n\n\n\n\n\n\n\n\n\n\n\n\n\n\n\n\n\n\n\n\n\n\n\n\n\n\n\n\n\n\n\n\n\n\n\n\nEvento Anterior: \n\n\n\n\n\nPróximo Evento:
URL:https://isasp.org.br/evento/viii-simposio-de-automacao-em-saneamento/
LOCATION:Local: Sabesp – Espaço Vida – Complexo Ponte Pequena\, Av. Santos Dumont\, 555 - Ponte Pequena\, São Paulo\, SP\, 01101-080
CATEGORIES:Encontro Técnico,Eventos Anteriores,Eventos ISA SP
ATTACH;FMTTYPE=image/jpeg:https://isasp.org.br/wp-content/uploads/2021/03/tech-5090539_1920.jpg
END:VEVENT
END:VCALENDAR